Workbook

Sheet 5750_나결_1
A1: 5750_나결_2024년+6월+싱싱플러스+수산+단가표.xlsx
A2: https://school062.com/bbs/board.php?bo_table=product_02&wr_id=5750
A3: 제품명 | B3: 규격 (포장단위) | C3: 학교가 | E3: 제품설명 | F3: 알레 르기 | G3: HACCP 인증 | H3: 보관 유통기한
C4: 개단가 | D4: 규격단가
A5: 5 無 : 아질산나트륨, 소르빈산칼륨, 에리소르빈산나트륨,합성색소,전분 6 無 : 아질산나트륨, 소르빈산칼륨, 에리소르빈산나트륨,합성색소,전분,아질산나트륨 9 無 : 아질산나트륨, 소르빈산칼륨, 에리소르빈산나트륨,합성색소,전분,아질산나트륨,합성스모크향,카제인나트륨,L-글루타민나트륨
A6: 건멸치(볶음용/지리) | B6: kg | D6: 43560 | E6: 국내산,2cm 내외
A7: 건멸치(조림용/가이리) | B7: kg | D7: 43560 | E7: 국내산,2~3.5cm내외
A8: 건다시멸치(국물용/A급) | B8: kg | D8: 37880 | E8: 국내산
A9: 건미역 | B9: kg | D9: 34090 | E9: 완도
A10: 조미김가루 | B10: kg | D10: 66290 | E10: 국산
A11: 혼합다시/5종/국물용 | B11: kg | D11: 37880 | E11: 국산/수입,다시멸치,다시마 건새우, 건표고,북어머리
A12: [새우]왕새우튀김 30g | B12: 300g (30g*10ea) | D12: 4920 | E12: 흰다리새우33%(Penaeus Vannamei), 배터믹스25.00%,황색빵가루18,50%, 백색빵가루18.50%프리더스트5.00% | F12: 1,5,6,9 | H12: 냉동 2년
A13: [새우]왕새우튀김 40g | B13: 400g (40g*10ea) | D13: 8910 | E13: 새우30%, 화이트펜코20%, 옐로우펜코20% 정제수15%, 베타믹스5%, 변성전분 | F13: 1,5,6,9
A14: [새우]왕새우튀김 50g | B14: 500g (50g*10ea) | D14: 10780 | E14: 새우33% | F14: 1,5,6,9
A15: 싱싱 알찬 깐쇼새우 | B15: 1kg (80개 내외) | D15: 22500 | E15: 새우(베트남)58.5%,밀가루, 빵가루외 | F15: 2,5,6, 9,16 | G15: O | H15: 냉동 9개월
A16: [새우]감자말이새우 30g | B16: 300g (30g*10ea) | D16: 8440 | E16: 감자61.37%, 어육(실꼬리돔)21.13%, 새우 15%타피오카전분1.2%, 설탕0.4%, 쪽파, 정제소금, 후추, 마늘, 재삼인산나트륨 | F16: 1,5,6,9 | H16: 냉동 2년
A17: [새우]수제 버터플라이 새우 300g | B17: 300g (30g*10ea) | D17: 7190 | E17: 새우40%, 정제수18.58%, 빵가루(BE-6FH)15%, | F17: 1,5,6,9 | H17: 냉동 2년
A18: [새우]통큰쉬림프까스 60g*10ea | B18: 600g (60g*10ea) | D18: 12970 | E18: . | F18: 1,5,6,9 | H18: 냉동 2년
A19: [새우]통큰쉬림프까스 80g*10ea | B19: 800g (80g*10ea) | D19: 16410 | E19: 새우 60%(베트남) | F19: 1,5,6,9
A20: 통살 쉬림프 버거 세트 110g (통살 쉬림프 까스 60g + 버거50g) | B20: 1100g (110g*10ea) | D20: 2200 | E20: 통큰 쉬림프까스: 새우(베트남)60%, 브리오슈 번50g:밀(미국,캐나다산),설탕,전란액(계란:국내산) ,마가린, 야자경화유,가공버터,식물성크림,정제소금외 | F20: 1,2,5,6,9 | G20: O | H20: 패티:냉동 9개월,브리오슈: 냉동3개월
A21: 통살 쉬림프 버거 세트 130g (통살 쉬림프 까스 80g + 버거50g) | B21: 1300g (13g*10ea) | D21: 2560
A22: 오감 통살 오징어탕수 | B22: 1kg | D22: 16440 | E22: 오징어몸채(대왕오징오몸통100%/외국산;칠레,페루,중국등)진미채배터,밀가루/(밀;호주산,미국산),정제소금(국내산)20%,정제수,팜유(말레이시아산),매운맛염지제4호 | F22: 5.6.17 | G22: O | H22: 냉동 9개월
A23: 오감 통살 오징어탕수+탕수육소스 | B23: 1kg | D23: 17980 | F23: 5.6.17.
A24: 싱싱 신당동 꼬치어묵 | B24: 1000g(40g*25) | D24: 15780 | E24: 냉동연육75%(외국산:베트남,파키스탄,중국,인도,태국등/어육,설탕폴리인산나트륨),밀가루(밀:호주산,미국산),당근(국내산)파(중국산), D-자일로스,대두유,가공소금,L-글루탐산나트륨,글루코노-Q-락톤,소브산칼륨(보존료),혼합제제(피로인산나트륨,폴리인산나트륨) | F24: 5.6 | G24: O | H24: 냉동 18개월
A25: 싱싱 신당동 사각 부산 진어묵 | B25: 1000g | D25: 6330 | E25: 냉동연육65%(외국산:베트남,파키스탄,중국,인도,태국등/어육,설탕폴리인산나트륨),밀가루(밀:호주산,미국산),당근(국내산)파(중국산), D-자일로스,대두유,가공소금,L-글루탐산나트륨,글루코노-Q-락톤,소브산칼륨(보존료),혼합제제(피로인산나트륨,폴리인산나트륨) | F25: 5.6 | G25: O | H25: 냉장16일
A26: 야채 오징어 어묵바 50g | B26: 1kg (50g*20ea) | D26: 16720 | E26: 냉동연육73%(외국산:베트남,파키스탄,중국,인도,태국등/어육,설탕폴리인산나트륨),밀가루14%(밀:호주산,미국산),오징어(8%), 파(1.3%), 가공소금(1.1%), 당근(1%), 콩기름(1%), 소브산칼륨(0.2%), 혼합제제(0.2%)(피로인산나트륨), 글루타민산나트륨(0.%1)글루타민산나트륨제제(0.1%) | F26: 5,6,17 | G26: O | H26: 냉동 18월
A27: 해물모듬-찌게용 | B27: 1kg | D27: 9920 | E27: 오징어(칠레)33.3%,홍합살(칠레,중국)24.4%,바지락살(중국)13.3%,칵테일새우(베트남)4.4%,홍새우살(중국)4.4%,솔방울오징어(중국)4.4%,자숙새우살 외 | F27: 9,17,18 | H27: 냉동 1년
A28: 해물모듬-볶음용 | B28: 1kg | D28: 9300 | E28: 오징어(칠레)28%,홍합살(칠레,중국)25%,바지락살(중국)25%,솔방울오징어(중국)8%,홍새우살(중국)7%,칵테일새우(베트남)7% <성분배합은 작업과정중 다소 차이가 있을수 있습니다> | F28: 9,17,18

Sheet 5790_삼청_1
A1: 5790_삼청_2024년+6월+에프앤에프++홍보코너+단가표.xls
A2: https://school062.com/bbs/board.php?bo_table=product_02&wr_id=5790
A3: 2024년 6월 단가표
A4: 공지사항 | B4: 국내산 오징어 원료부족으로 재고소진시 절품예정(오징어가공류)
A5: 인상품목 | B5: 별첨참조
A6: 인하품목 | B6: 별첨참조
A7: 신제품 | B7: 킹타이거 할복새우(100g /130g)/다슬기(국산)
A8: 할인제외 품 목 | B8: 별첨참조
A9: 절품 | B9: 날치알(레드)/네모난명태까스/랍스트하프(250-170g)

Sheet 5790_삼청_2
A1: 5790_삼청_2024년+6월+에프앤에프++홍보코너+단가표.xls
A2: https://school062.com/bbs/board.php?bo_table=product_02&wr_id=5790
F3: TEL: 062) 524-7757
F4: 식품의약품안전처 HACCP지정업소
F5: 어류,연체류 HACCP지정
C6: ※ 원료사정에 의해 산지가 변동될수있습니다.
A7: 24년 6월
A8: 제품명 | B8: 원산지 | C8: 중량 | D8: 규격 | E8: 학교가 | F8: 비고 | G8: 규격/특징/성분함량
A9: 양념붕장어세트 | B9: 통영산 | C9: 1kg | D9: 소자(냉장) (장어1kg+소스200g) (60-90g) | E9: 25200 | F9: 할인제외 | G9: 활장어 상태에서 작업 후 소스 혼입된 제품
C10: 1kg | D10: 중자(냉장) (장어1kg+소스200g) (120-150g) | E10: 26800
A11: 장문뽈락순살 (PBO제품) | B11: 미국 | C11: 1kg | D11: 냉동 | E11: 17300 | F11: 할인제외 | G11: 【규격】±40g/50g(토막) 70g/80g(온포) 【사양】순살
A12: 킹타이거새우 (할복구이용) | B12: 말레이시아 | C12: ±130g (개당) | D12: 치즈와 파슬리조합 추천 (대리점 자체세트구성) | E12: 10200 | F12: 할인제외
A13: 킹타이거새우 (할복구이용) | B13: 말레이시아 | C13: ±100g (개당) | D13: 치즈와 파슬리조합 추천 (대리점 자체세트구성) | E13: 8700 | F13: 할인제외
A14: 킹타이거새우 (할복구이용) | B14: 말레이시아 | C14: ±85g (개당) | D14: 치즈와 파슬리조합 추천 (대리점 자체세트구성) | E14: 7100 | F14: 할인제외
A15: 킹타이거새우 (할복구이용) | B15: 말레이시아 | C15: ±62g (개당) | D15: 치즈와 파슬리조합 추천 (대리점 자체세트구성) | E15: 4100 | F15: 할인제외
A16: 절단문어살 (솥밥용) | B16: 인도네시아 | C16: 800g | D16: 【사양】문어살절단 | E16: 24400 | F16: 할인제외 | G16: 【사양】자숙
A17: 잔가시없는 고등어순살 (PBO제품) | B17: 국산 | C17: 1kg | D17: 【규격】±40g/50g(토막) 【사양】순살 | E17: 15800 | F17: 할인제외
A18: 잔가시없는 고등어순살 (PBO제품) | B18: 국산 | C18: 1kg | D18: 【규격】±51g/80g(토막) 【사양】순살 | E18: 17800 | F18: 할인제외
A19: 랍스타(자숙)-하프형태 (바다가재) | B19: 캐나다 | C19: 200-235g (개당) | E19: 11300 | F19: 할인제외 | G19: 【사양】자숙 랍스타를 하프 형태로 절단한 제품(1/2토막)
A20: 훈제된 삼치순살 (PBO제품) | B20: 국산 | C20: 1kg | D20: 냉동 | E20: 24700 | F20: 신제품(할인제외) | G20: 【규격】±40g~±80g 【사양】 훈제과정을 거쳐서 쫄깃하고 불향을 느낄수 있는 제품
A21: 훈제된 방어순살 (PBO제품) | B21: 국산 | C21: 1kg | D21: 냉동 | E21: 18800 | F21: 신제품(할인제외) | G21: 【규격】±40g~±80g 【사양】 훈제과정을 거쳐서 쫄깃하고 불향을 느낄수 있는 제품
A22: 훈제된 연어순살 (PBO제품) | B22: 미국 | C22: 1kg | D22: 냉동 | E22: 31500 | F22: 신제품(할인제외) | G22: 【규격】±40g~±80g 【사양】 훈제과정을 거쳐서 쫄깃하고 불향을 느낄수 있는 제품
A23: 성형가리비관자살 | B23: 중국 | C23: 1kg | E23: 31500 | F23: 신제품(할인제외) | G23: 【사양】냉동/성형틀에 가공한제품(1kg에 32미) [1K 단위로 발주]
A24: 베이비크랩(꽃게) | B24: 베트남 | C24: 1kg | E24: 12300 | F24: 신제품(할인제외) | G24: 【사양】꽃게100%
A25: 붉은대게살 | B25: 국산 | C25: 700g | E25: 35400 | F25: 신제품(할인제외) | G25: 【사양】대게살85% , 조미액 외15% 다리살30%+몸통살70%

Sheet 5790_삼청_3
A1: 5790_삼청_2024년+6월+에프앤에프++홍보코너+단가표.xls
A2: https://school062.com/bbs/board.php?bo_table=product_02&wr_id=5790
H3: TEL: 062) 524-7757
H4: 식품의약품안전처 HACCP지정업소
H5: 어류,연체류 HACCP지정
C6: ※ 원료사정에 의해 산지가 변동될수있습니다.
B7: 24년 6월
A8: 어종 | B8: 제품명 | C8: 원산지 | D8: 규격 단위 | E8: 학교가(원/kg) | G8: 등락 | H8: 규격/특징/성분함량
E9: 냉동 | F9: 냉장
A10: 연 체 류 | B10: 오징어할복(유피)[1] | C10: 국산 | D10: 1kg | E10: 28700 | F10: 29900 | G10: (할인제외) | H10: 【사양】전처리 후 할복 * 품질인증은 냉동품에 한함
B11: 오징어할복(탈피)[2] | C11: 국산 | D11: 1kg | E11: 29100 | F11: 30400 | G11: (할인제외) | H11: 【사양】전처리 후 할복 탈피(다리,귀 탈피 X) * 품질인증은 냉동품에 한함
B12: 오징어몸통할복(유피)[3] | C12: 국산 | D12: 1kg | E12: 30200 | F12: 31500 | G12: (할인제외) | H12: 【사양】전처리 후 몸통 할복(귀포함) * 품질인증은 냉동품에 한함
B13: 오징어몸통할복(탈피)[4] | C13: 국산 | D13: 1kg | E13: 31000 | F13: 32300 | G13: (할인제외) | H13: 【사양】전처리 후 몸통 탈피 할복(귀포함) * 품질인증은 냉동품에 한함
B14: 오징어몸통할복(탈피)[5] | C14: 국산 | D14: 1kg | E14: 31400 | F14: 32600 | G14: (할인제외) | H14: 【사양】전처리 후 몸통 탈피 할복(귀제거) * 품질인증은 냉동품에 한함
B15: 오징어링(유피) [1] | C15: 국산 | D15: 1kg | E15: 30700 | F15: * | G15: ▲(할인제외) | H15: 【사양】몸통(귀제거) 링 절단 * 품질인증은 냉동품에 한함
B16: 오징어링(탈피) [2] | C16: 국산 | D16: 1kg | E16: 31500 | F16: * | G16: ▲(할인제외) | H16: 【사양】몸통탈피(귀제거) 후 링 절단 * 품질인증은 냉동품에 한함
B17: 오징어채유피(1)-개별분리 | C17: 국산 | D17: 1kg | E17: 26000 | F17: 29100 | G17: (할인제외) | H17: 【규격】±1cm x ±5cm 세절 【사양】비가식부 제거 후 세절(다리 有 껍질 有) * 품질인증은 냉동품에 한함
B18: 오징어채탈피(2)-개별분리 | C18: 국산 | D18: 1kg | E18: 26800 | F18: 29800 | G18: (할인제외) | H18: 【규격】±1cm x ±5cm 세절 【사양】비가식부 제거 후 세절(다리 有 껍질 無) * 품질인증은 냉동품에 한함
B19: 오징어몸통채(유피)[3]-개별분리 | C19: 국산 | D19: 1kg | E19: 29300 | F19: 31500 | G19: ▲(할인제외) | H19: 【규격】±1cm x ±5cm 세절 【사양】비가식부 제거 후 몸통 세절(다리 無 껍질 有) * 품질인증은 냉동품에 한함
B20: 오징어몸통채(탈피)[4]-개별분리 | C20: 국산 | D20: 1kg | E20: 30100 | F20: 32300 | G20: ▲(할인제외) | H20: 【규격】±1cm x ±5cm 세절 【사양】비가식부 제거 후 몸통 세절(다리 無 껍질 無) * 품질인증은 냉동품에 한함
B21: 오징어몸통채(탈피)[5]-개별분리 | C21: 국산 | D21: 1kg | E21: 30400 | F21: 32600 | G21: ▲(할인제외) | H21: 【규격】±1cm x ±5cm 세절 【사양】비가식부 제거 후 몸통 세절(다리 無 껍질 無 귀제거) * 품질인증은 냉동품에 한함
B22: 오징어사각 | C22: 국산 | D22: 1kg | E22: 일시절품 | H22: 【사양】몸통탈피(칼집 없음) ±3cm X ±4cm
B23: 오징어솔방울사각 | C23: 국산 | D23: 1kg | E23: 34700 | F23: * | G23: ▲(할인제외) | H23: 【사양】몸통탈피(칼집 넣음) ±3cm X ±4cm
B24: 오징어솔방울채 | C24: 국산 | D24: 1kg | E24: 32300 | F24: * | G24: ▲(할인제외) | H24: 【사양】몸통탈피(칼집 넣음) ±1cm X ±5cm
B25: 오징어다지기 | C25: 국산 | D25: 1kg | E25: 25200 | F25: 27600 | G25: (할인제외) | H25: 【사양】유피다지기(귀,다리포함)
B26: 오징어몸통다지기 | C26: 국산 | D26: 1kg | E26: 30700 | F26: 33100 | G26: ▲(할인제외) | H26: 【사양】유피몸통다지기
B27: 오징어순대(유피) | C27: 국산 | D27: 1kg | E27: 일시절품 | G27: (할인제외) | H27: 【사양】몸통만, 껍질 有, 다리 無
B28: 오징어순대(탈피) | C28: 국산 | D28: 1kg | E28: 일시절품 | G28: (할인제외) | H28: 【사양】몸통만, 껍질 無, 다리 無
B29: 오징어족 | C29: 국산 | D29: 1kg | E29: 일시절품 | G29: (할인제외) | H29: 【사양】오징어다리(다리분리)
B30: 오징어할복(유피)[1] | C30: 원양산 (포크랜드) | D30: 1kg | E30: 21300 | F30: * | G30: ▲(할인제외) | H30: 【사양】전처리 후 할복
B31: 오징어할복(탈피)[2] | C31: 원양산 (포크랜드) | D31: 1kg | E31: 22100 | F31: * | G31: ▲(할인제외) | H31: 【사양】전처리 후 할복 탈피(다리,귀 탈피 X)
B32: 오징어몸통할복(유피)[3] | C32: 원양산 (포크랜드) | D32: 1kg | E32: 24100 | F32: * | G32: ▲(할인제외) | H32: 【사양】전처리 후 몸통 할복(귀포함)
B33: 오징어몸통할복(탈피)[4] | C33: 원양산 (포크랜드) | D33: 1kg | E33: 25100 | F33: * | G33: ▲(할인제외) | H33: 【사양】전처리 후 몸통 탈피 할복(귀포함)
B34: 오징어몸통할복(탈피)[5] | C34: 원양산 (포크랜드) | D34: 1kg | E34: 25200 | F34: * | G34: ▲(할인제외) | H34: 【사양】전처리 후 몸통 탈피 할복(귀제거)
B35: 오징어칼집몸통할복 | C35: 원양산 (포크랜드) | D35: 1kg | E35: 일시절품 | H35: 【사양】전처리 후 칼집몸통 할복(귀제거)
B36: 오징어탈피칼집몸통할복 | C36: 원양산 (포크랜드) | D36: 1kg | E36: 일시절품 | H36: 【사양】전처리(탈피) 후 칼집몸통 할복(귀제거)
B37: 오징어링(유피) [1] | C37: 원양산 (포크랜드) | D37: 1kg | E37: 24600 | F37: * | G37: ▲(할인제외) | H37: 【사양】몸통(귀제거) 링 절단
B38: 오징어링(탈피) [2] | C38: 원양산 (포크랜드) | D38: 1kg | E38: 25400 | F38: * | G38: ▲(할인제외) | H38: 【사양】몸통탈피(귀제거) 후 링 절단
B39: 오징어채유피(1)-개별분리 | C39: 원양산 (포크랜드) | D39: 1kg | E39: 18900 | F39: * | G39: ▲(할인제외) | H39: 【규격】±1cm x ±5cm 세절 【사양】비가식부 제거 후 세절(다리 有 껍질 有)
B40: 오징어채탈피(2)-개별분리 | C40: 원양산 (포크랜드) | D40: 1kg | E40: 19800 | F40: * | G40: ▲(할인제외) | H40: 【규격】±1cm x ±5cm 세절 【사양】비가식부 제거 후 세절(다리 有 껍질 無)
...

Sheet 5790_삼청_4
A1: 5790_삼청_2024년+6월+에프앤에프++홍보코너+단가표.xls
A2: https://school062.com/bbs/board.php?bo_table=product_02&wr_id=5790
H3: TEL: 062) 524-7757
H4: 식품의약품안전처 HACCP지정업소
H5: 어류,연체류 HACCP지정
C6: ※ 원료사정에 의해 산지가 변동될수있습니다.
B7: 24년 6월 | H7: 단위 :원/kg
A8: 어종 | B8: 제품명 | C8: 원산지 | D8: 규격 단위 | E8: 학교가(원/kg) | G8: 등락 | H8: 규격/특징/성분함량
E9: 냉동 | F9: 냉장
A10: 가자미 | B10: 가자미 | C10: 미국/러시아 | D10: 1kg | E10: 8700 | F10: 9600 | H10: 【규격】±40g~±100g 【사양】두절, 내장, 지느러미, 꼬리 제거 후 절단
B11: 가자미 | C11: 국산 | D11: 1kg | E11: 15800 | F11: 16700 | H11: 【규격】±40g~±100g 【사양】두절, 내장, 지느러미, 꼬리 제거 후 절단
B12: 가자미순살(탈피) | C12: 미국/러시아 | D12: 1kg | E12: 14700 | F12: * | H12: 【규격】±30g~±50g 【사양】전처리된 가자미순살 (껍질 無)
B13: 가자미순살(유피) | C13: 미국/러시아 | D13: 1kg | E13: 13900 | F13: * | H13: 【규격】±30~±60g 【사양】전처리된 가자미순살 (껍질 有)
B14: 가자미살강정 | C14: 러시아산 | D14: 1kg | E14: 11800 | F14: * | H14: 【규격】±9g~±10g 【사양】강정용(2cm*2cm)
A15: 갈치 | B15: 갈치 | C15: 모로코/남아공 | D15: 1kg | E15: 10600 | F15: 11500 | H15: 【규격】±40g~±100g 【사양】두절, 내장, 지느러미, 꼬리 제거 후 절단
C16: 세네갈 | D16: 1kg | E16: 10600 | F16: 11500 | G16: 사이즈구분 | H16: 【규격】±40g~±50g 【사양】두절, 내장, 지느러미, 꼬리 제거 후 절단
C17: 세네갈 | D17: 1kg | E17: 13400 | F17: 14500 | H17: 【규격】±60g~±100g 【사양】두절, 내장, 지느러미, 꼬리 제거 후 절단
B18: 제주은갈치 -10cm기준 | C18: 국산 | D18: 1kg | E18: 30700 | F18: 32300 | H18: 【규격】±40g~±60g 【사양】두절, 내장, 지느러미, 꼬리 제거 후 절단
B19: 제주은갈치 -10cm기준 | C19: 국산 | D19: 1kg | E19: 33100 | F19: 34700 | H19: 【규격】±61g~±70g 【사양】두절, 내장, 지느러미, 꼬리 제거 후 절단
B20: 갈치(中)-선망 | C20: 국산 | D20: 1kg | E20: 16500 | F20: 18100 | H20: 【규격】±30g~±50g 【사양】두절, 내장, 지느러미, 꼬리 제거 후 절단
B21: 바질향 갈치(중) | C21: 국산 | D21: 1kg | E21: 18100 | F21: * | H21: 【규격】±30g~±50g 【사양】갈치에 바질향 첨가
B22: 애플민트담은갈치(중) | C22: 국산 | D22: 1kg | E22: 18100 | F22: * | H22: 【규격】±30g~±50g 【사양】갈치에 애플민트 첨가
B23: 갈치(大)-선망 10cm기준 | C23: 국산 | D23: 1kg | E23: 28400 | F23: 29500 | H23: 【규격】±40g~±60g 【사양】두절, 내장, 지느러미, 꼬리 제거 후 절단
B24: 갈치(大)-선망 10cm기준 | C24: 국산 | D24: 1kg | E24: 31500 | F24: 33100 | H24: 【규격】±61g~±70g 【사양】두절, 내장, 지느러미, 꼬리 제거 후 절단
B25: 바질향 갈치(대) | C25: 국산 | D25: 1kg | E25: 31500 | F25: * | H25: 【규격】±30g~±60g 【사양】갈치에 바질향 첨가
B26: 애플민트담은갈치(대) | C26: 국산 | D26: 1kg | E26: 31500 | F26: * | H26: 【규격】±30g~±60g 【사양】갈치에 애플민트 첨가
B27: 라임담은 갈치 | C27: 세네갈 | D27: 1kg | E27: 15000 | F27: * | H27: 【규격】±30g~±80g 【사양】갈치에 라임농축액 첨가
B28: 레몬담은 갈치 | C28: 세네갈 | D28: 1kg | E28: 15000 | F28: * | H28: 【규격】±30g~±80g 【사양】갈치에 레몬농축액 첨가
B29: 함초담은 갈치 | C29: 세네갈 | D29: 1kg | E29: 15000 | F29: * | H29: 【규격】±30g~±80g 【사양】갈치에 함초분말 첨가
B30: 갈치순살 | C30: 국산 | D30: 1kg | E30: 17000 | F30: * | H30: 【규격】±20g~±30g 【사양】전처리된 갈치를 순살로 작업
C31: 수입 | D31: 1kg | E31: 22100 | H31: 【규격】±20g~±40g 【사양】전처리된 갈치를 순살로 작업
B32: 바질향 갈치순살 | C32: 국산 | D32: 1kg | E32: 18100 | F32: * | H32: 【규격】±20g~±30g 【사양】갈치순살에 바질향 첨가
B33: 애플민트담은갈치순살 | C33: 국산 | D33: 1kg | E33: 18100 | F33: * | H33: 【규격】±20g~±30g 【사양】갈치순살에 애플민트 첨가
B34: 레몬담은 갈치순살 | C34: 국산 | D34: 1kg | E34: 18100 | F34: * | H34: 【규격】±20g~±30g 【사양】갈치순살에 레몬 첨가
B35: 고등어(조림) | C35: 국산 | D35: 1kg | E35: 7100 | F35: 8400 | G35: (할인제외) | H35: 【규격】±40g~±100g 【사양】두절, 내장, 지느러미, 꼬리 제거 후 절단
B36: 고등어(구이) | C36: 국산 | D36: 1kg | E36: 8700 | F36: 9900 | G36: (할인제외) | H36: 【규격】±40g~±100g 【사양】두절, 내장, 지느러미, 꼬리 제거 후 절단
B37: 고등어순살 | C37: 국산 | D37: 1kg | E37: 11800 | F37: 13400 | G37: (할인제외) | H37: 【규격】±40g~±50g 【사양】전처리된 고등어를 순살로 작업
C38: 국산 | D38: 1kg | E38: 12600 | F38: 14200 | G38: (할인제외) | H38: 【규격】±51g이상 【사양】전처리된 고등어를 순살로 작업
B39: 반건조고등어순살 | C39: 국산 | D39: 1kg | E39: 17300 | F39: * | G39: (할인제외) | H39: 【규격】±30g~±70g 【사양】고등어순살100% 6시간 건조(8-10%건조율)
B40: 고등어(조림) 품질 | C40: 국산 | D40: 1kg | E40: 8700 | F40: * | G40: (할인제외) | H40: 【규격】±40g~±100g 【사양】두절, 내장, 지느러미, 꼬리 제거 후 절단 * 품질인증은 냉동품에 한함
...

Sheet 5790_삼청_5
A1: 5790_삼청_2024년+6월+에프앤에프++홍보코너+단가표.xls
A2: https://school062.com/bbs/board.php?bo_table=product_02&wr_id=5790
F3: TEL: 062) 524-7757
F4: 식품의약품안전처 HACCP지정업소
F5: 어류,연체류 HACCP지정
D6: ※ 원료사정에 의해 산지가 변동될수있습니다.
A7: 24년 6월 | F7: 단위 :원/kg
A8: 제품명 | B8: 원산지 | C8: 규격 단위 | D8: 학교가(원/kg) | E8: 등락 | F8: 규격/특징/성분함량 | G8: 과세 여부
D9: 냉동
A10: 가이리(상) | B10: 국산 | C10: 1kg | D10: 27900 | E10: ▼ | F10: 【규격】1kg x 2봉 【특징】 소멸치 2cm~4cm 【성분】가이리100%
A11: 지리가이리(상) | B11: 국산 | C11: 1kg | D11: 31700 | F11: 【규격】1kg x 2봉 【특징】지리멸, 가이리 중간사이즈 【성분】지가이리100%
A12: 다시멸치(상) | B12: 국산 | C12: 1kg | D12: 21100 | E12: ▲ | F12: 【규격】1kg x 2봉 【특징】다시용, 위생팩포함 【성분】다시멸치100%
A13: 다시멸치(상) | B13: 국산 | C13: box | D13: 20800 | E13: ▲ | F13: 1kg*10봉/박스, 선별작업, 부직포다시망 無 / 10KG단위 발주
A14: 다시멸치(최상) | B14: 국산 | C14: 1kg | D14: 21700 | E14: ▲ | F14: 【규격】1kg x 2봉 【특징】다시용, 위생팩포함 【성분】다시멸치100%
A15: 다시멸치(최상) | B15: 국산 | C15: box | D15: 21400 | E15: ▲ | F15: 1kg*10봉/박스, 선별작업, 부직포다시망 無 / 10KG단위 발주
A16: 다시멸치(특상품) | B16: 국산 | C16: 1kg | D16: 23200 | E16: ▲ | F16: 【규격】1kg x 2봉 【특징】다시용, 위생팩포함 【성분】다시멸치100%
A17: 다시멸치(특상품) | B17: 국산 | C17: box | D17: 22800 | E17: ▲ | F17: 1kg*10봉/박스, 선별작업, 부직포다시망 無 / 10KG단위 발주
A18: 디포리(상) | B18: 국산 | C18: 1kg | D18: 23200 | E18: ▲ | F18: 【규격】1kg x 2봉 【특징】다시용, 위생팩포함 【성분】디포리100%
A19: 디포리(최상) | B19: 국산 | C19: 1kg | D19: 23600 | E19: ▲ | F19: 【규격】1kg x 2봉 【특징】다시용, 위생팩포함 【성분】디포리100%
A20: 디포리(상) | B20: 수입 | C20: 1kg | D20: 13200 | F20: 【규격】1kg x 2봉 【특징】다시용, 위생팩포함 【성분】디포리100%
A21: 지리멸(상) | B21: 국산 | C21: 1kg | D21: 31700 | F21: 【규격】1kg x 2봉 【특징】세멸치 1cm~3cm 【성분】건멸치100%
A22: 저염지리멸(상) | B22: 국산 | C22: 1kg | D22: 35600 | F22: 【규격】1kg x 2봉 【특징】세멸치 1cm~3cm 【성분】건멸치100%
A23: 짜지않은 지리멸치 | B23: 국산 | C23: 1kg | D23: 35600 | F23: 【규격】1kg x 2봉 【특징】세멸치 1cm~3cm 염분을 제거 【성분】건멸치100%
A24: 깐멸치 | B24: 국산 | C24: 1kg | D24: 52000 | E24: ▲ | F24: 【규격】1kg x 2봉 【특징】볶음, 조림용 【성분】다시멸치100%
A25: 웰빙혼합멸치 | B25: 국산/중국 | C25: 1kg | D25: 28700 | F25: 【규격】1kg x 2봉 [kg단위 발주] 【성분】세멸치40%,아몬드40%,두절건새우20%
A26: 혼합다시(최상) | B26: 국산 | C26: 1kg | D26: 27100 | F26: 【규격】1kg x 2봉 [kg단위 발주] 【성분】건멸치(남해)75%,디포리(남해)10%,표고버섯(국산)5%, 다시마(국산)5%,건새우(국산)5%
A27: 혼합다시(최상) | B27: 국산/중국 | C27: 1kg | D27: 25700 | E27: ▲ | F27: 【규격】1kg x 2봉 [kg단위 발주] 【성분】건멸치(남해)70%,디포리(남해)10%,표고버섯(중국)5%, 다시마(국산)5%,건새우(중국)5%,북어채(러시아)5%
A28: 혼합다시(상) | B28: 국산/중국 | C28: 1kg | D28: 23900 | E28: ▲ | F28: 【규격】1kg x 2봉 [kg단위 발주] 【성분】건멸치(남해)75%,디포리(남해)10%,표고버섯(중국)5%, 다시마(국산)5%,건새우(중국)5%
A29: 건미역 | B29: 국산 | C29: 100g/봉 | D29: 4100 | E29: ▲ | F29: 【규격】100g [1kg이상 발주시 박스 포장] 【성분】미역100%
A30: 건미역 | B30: 국산 | C30: 200g/봉 | D30: 7900 | E30: ▲ | F30: 【규격】200g [1kg이상 발주시 박스 포장] 【성분】미역100%
A31: 건미역 | B31: 국산 | C31: 1kg/봉 | D31: 34500 | E31: ▲ | F31: 【규격】1kg 【성분】미역100%
A32: 자른미역(상) | B32: 국산 | C32: 100g/봉 | D32: 4100 | E32: ▲ | F32: 【규격】100g [1kg이상 발주시 박스 포장] 【성분】미역100%
A33: 자른미역(상) | B33: 국산 | C33: 200g/봉 | D33: 7900 | E33: ▲ | F33: 【규격】200g [1kg이상 발주시 박스 포장] 【성분】미역100%
A34: 자른미역(상) | B34: 국산 | C34: 1kg/봉 | D34: 35400 | E34: ▲ | F34: 【규격】1kg 【성분】미역100%
A35: 캇트건미역(최상) | B35: 국산 | C35: 100g/봉 | D35: 5000 | E35: ▲ | F35: 【규격】100g [1kg이상 발주시 박스 포장] 【성분】미역100%
A36: 캇트건미역(최상) | B36: 국산 | C36: 200g/봉 | D36: 9100 | E36: ▲ | F36: 【규격】200g [1kg이상 발주시 박스 포장] 【성분】미역100%
A37: 다시마 | B37: 완도 | C37: 100g/봉 | D37: 3900 | F37: 【규격】100g [1kg이상 발주시 박스 포장] 【성분】다시마100%
A38: 다시마 | B38: 완도 | C38: 200g/봉 | D38: 8000 | F38: 【규격】200g [1kg이상 발주시 박스 포장] 【성분】다시마100%
A39: 다시마 | B39: 완도 | C39: 500g/봉 | D39: 17300 | F39: 【규격】500g [1kg이상 발주시 박스 포장] 【성분】다시마100%
A40: 다시마 | B40: 기장 | C40: 100g/봉 | D40: 4400 | F40: 【규격】100g [1kg이상 발주시 박스 포장] 【성분】다시마100%
...

Sheet 5790_삼청_6
A1: 5790_삼청_2024년+6월+에프앤에프++홍보코너+단가표.xls
A2: https://school062.com/bbs/board.php?bo_table=product_02&wr_id=5790
G3: TEL: 062) 524-7757
G4: 식품의약품안전처 HACCP지정업소
G5: 어류,연체류 HACCP지정
C6: ※ 원료사정에 의해 산지가 변동될수있습니다.
A7: 24년 6월
A8: 제품명 | B8: 원산지 | C8: 규격 단위 | D8: 학교가(원) | E8: 등락 | F8: 규격/특징/성분함량 | G8: 과세 여부
D9: 냉동
A10: 카레아몬드 고등어스테이크 | B10: 국산 | C10: 50g/개 | D10: 950 | E10: (할인제외) | F10: 【규격】±50g/개,±70g/개 【특징】냉동생선포를 적당한 비율의 카레분말과 빵가루에 혼합하여 아몬드/파슬리분태를 토핑한 제품 【조리방법】오븐전용 : 180~185℃온도 → 20~25분간 굽는다 【성분함량】 순살고등어: 고등어살95%,카레파우더+카레3%,아몬드,빵가루 순살방어: 방어살95%,카레파우더+카레3%,아몬드,빵가루 순살삼치: 삼치살95%,카레파우더+카레3%,아몬드,빵가루 순살숭어: 숭어살95%,카레파우더+카레3%,아몬드,빵가루 | G10: ○
C11: 70g/개 | D11: 1320 | E11: (할인제외) | G11: ○
A12: 카레아몬드 방어스테이크 | B12: 국산 | C12: 50g/개 | D12: 870 | E12: (할인제외) | G12: ○
C13: 70g/개 | D13: 1220 | E13: (할인제외) | G13: ○
A14: 카레아몬드 삼치스테이크 | B14: 국산 | C14: 50g/개 | D14: 1260 | E14: (할인제외) | G14: ○
C15: 70g/개 | D15: 1770 | E15: (할인제외) | G15: ○
A16: 카레아몬드 숭어스테이크 | B16: 국산 | C16: 50g/개 | D16: 870 | E16: (할인제외) | G16: ○
C17: 70g/개 | D17: 1220 | E17: (할인제외) | G17: ○
A18: 숯불바베큐맛 고등어스테이크 | B18: 국산 | C18: 50g/개 | D18: 950 | E18: (할인제외) | F18: 【규격】±50g/개,±70g/개 【특징】냉동생선포를 특제소스에 침지 →담백한 바베큐소스를 토핑하여 오븐이나, 그릴에 굽기 쉽도록 독자적인 기술력과 제조공법으로 제조 【성분함량】 순살고등어 : 고등어살 96%, 바베큐소스 3.6% 순살방어 : 방어살 96%, 바베큐소스 3.6% 순살삼치 : 삼치살 96%, 바베큐소스 3.6% 순살숭어 : 숭어살 96%, 바베큐소스 3.6% | G18: ○
C19: 70g/개 | D19: 1320 | E19: (할인제외) | G19: ○
A20: 숯불바베큐맛 방어스테이크 | B20: 국산 | C20: 50g/개 | D20: 870 | E20: (할인제외) | G20: ○
C21: 70g/개 | D21: 1220 | E21: (할인제외) | G21: ○
A22: 숯불바베큐맛 삼치스테이크 | B22: 국산 | C22: 50g/개 | D22: 1260 | E22: (할인제외) | G22: ○
C23: 70g/개 | D23: 1770 | E23: (할인제외) | G23: ○
A24: 숯불바베큐맛 숭어스테이크 | B24: 국산 | C24: 50g/개 | D24: 870 | E24: (할인제외) | G24: ○
C25: 70g/개 | D25: 1220 | E25: (할인제외) | G25: ○
A26: 허니데리야끼 고등어순살스테이크 | B26: 국산 | C26: 50g/개 | D26: 950 | E26: (할인제외) | F26: 【규격】초등기준(±50g)/고등,성인기준(±70g) 【특징】냉동생선포를 데리야끼소스에 혼합하여 파슬리를 토핑한 제품 【조리방법】오븐전용 : 180~185℃온도 → 20~25분간 굽는다 【성분함량】 순살고등어: 고등어살96%, 데리소스3.96%,건파슬리 순살방어: 방어살96%, 데리소스3.96%,건파슬리 순살삼치: 삼치살96%, 데리소스3.96%,건파슬리 순살숭어: 숭어살96%, 데리소스3.96%,건파슬리 | G26: ○
C27: 70g/개 | D27: 1320 | E27: (할인제외) | G27: ○
A28: 허니데리야끼 방어순살스테이크 | B28: 국산 | C28: 50g/개 | D28: 870 | E28: (할인제외) | G28: ○
C29: 70g/개 | D29: 1220 | E29: (할인제외) | G29: ○
A30: 허니데리야끼 삼치순살스테이크 | B30: 국산 | C30: 50g/개 | D30: 1260 | E30: (할인제외) | G30: ○
C31: 70g/개 | D31: 1770 | E31: (할인제외) | G31: ○
A32: 허니데리야끼 방어순살스테이크 | B32: 국산 | C32: 50g/개 | D32: 870 | E32: (할인제외) | G32: ○
C33: 70g/개 | D33: 1220 | E33: (할인제외) | G33: ○
A34: 허니데리야끼 숭어순살스테이크 | B34: 국산 | C34: 50g/개 | D34: 870 | E34: (할인제외) | G34: ○
C35: 70g/개 | D35: 1220 | E35: (할인제외) | G35: ○
A36: 허니버터 연어스테이크 | B36: 수입산 | C36: 50g/개 | D36: 1580 | E36: (할인제외) | F36: 【규격】50g/팩(±50g*30개),70g/팩(±70g*20개) 【성분함량】연어살 98%,허니버터분말1.5% | G36: ○
C37: 70g/개 | D37: 2210 | E37: (할인제외) | G37: ○
A38: 치즈갈릭연어스테이크 | B38: 국산 | C38: 50g/개 | D38: 1740 | E38: (할인제외) | F38: 【규격】50g/팩(±50g*30개),70g/팩(±70g*20개) 【성분함량】연어살 98%,치즈혼합분말1%,마늘분말 | G38: ○
C39: 70g/개 | D39: 2430 | E39: (할인제외) | G39: ○
A40: 치즈갈릭연어스테이크 | B40: 러시아/ 미국 | C40: 50g/개 | D40: 1580 | E40: (할인제외) | F40: 【규격】50g/팩(±50g*30개),70g/팩(±70g*20개) 【성분함량】연어살 98%,치즈혼합분말1%,마늘분말 | G40: ○
...

Sheet 5790_삼청_7
A1: 5790_삼청_2024년+6월+에프앤에프++홍보코너+단가표.xls
A2: https://school062.com/bbs/board.php?bo_table=product_02&wr_id=5790
H3: TEL: 062) 524-7757
H4: 식품의약품안전처 HACCP지정업소
H5: 어류,연체류 HACCP지정
B6: ※ 원료사정에 의해 산지가 변동될 수 있습니다.
B7: 24년 6월
A8: 형태 | B8: 제품명 | C8: 원산지 | D8: 중량 | E8: 규격 | F8: 학교가 | G8: 등락 | H8: 등락 | I8: 규격/특징/성분함량 | J8: 과세 여부 | K8: 비고
A9: 소스세트 상품 | B9: 큐브삼치스테이크 | C9: 국산 | D9: 1kg | E9: 삼치살강정1kg + 데리소스15%무상제공 | F9: 22800 | H9: (할인제외) | I9: (설명) 삼치살강정을 ±2.5*2.5cm 큐브 모양으로 절단한 제품으로 조리 후 제공된 데리소스를 곁들여 사용 (성분) 삼치살강정 1kg+ 데리소스 150g (용도) 구이 | K9: 할인제외품목 / 최소 발주 6kg 이상
B10: 큐브삼치튀김세트 | C10: 국산 | D10: 1kg | E10: 삼치살강정1kg + 튀김파우더15%+ 강정소스15% 무상제공 | F10: 23600 | H10: (할인제외) | I10: (설명) 삼치살강정을 ±2.5*2.5cm 큐브 모양으로 절단한 제품으로 제공된 파우더을 입혀 튀긴 후, 강정소스를 곁들여 사용 (성분) 삼치살강정 1kg+ 튀김파우더 + 강정소스 150g (용도) 튀김
B11: 큐브방어스테이크 | C11: 국산 | D11: 1kg | E11: 방어살강정1kg + 데리소스15%무상제공 | F11: 15000 | H11: (할인제외) | I11: (설명) 방어살강정을 ±2.5*2.5cm 큐브 모양으로 절단한 제품으로 조리 후 제공된 데리소스를 곁들여 사용 (성분) 방어살강정 1kg+ 데리소스 150g (용도) 구이
B12: 큐브방어튀김세트 | C12: 국산 | D12: 1kg | E12: 방어살강정1kg + 튀김파우더15%+ 강정소스15% 무상제공 | F12: 15800 | H12: (할인제외) | I12: (설명) 방어살강정을 ±2.5*2.5cm 큐브 모양으로 절단한 제품으로 제공된 파우더을 입혀 튀긴 후, 강정소스를 곁들여 사용 (성분) 방어살강정 1kg+ 튀김파우더 + 강정소스 150g (용도) 튀김
B13: 큐브연어스테이크 | C13: 국산 | D13: 1kg | E13: 연어살강정1kg + 데리소스15%무상제공 | F13: 28400 | H13: (할인제외) | I13: (설명) 연어살강정을 ±2.5*2.5cm 큐브 모양으로 절단한 제품으로 조리 후 제공된 데리소스를 곁들여 사용 (성분) 연어살강정 1kg+ 데리소스 150g (용도) 구이
B14: 큐브연어튀김세트 | C14: 국산 | D14: 1kg | E14: 연어살강정1kg + 튀김파우더+소스15% 무상제공 | F14: 29100 | H14: (할인제외) | I14: (설명) 연어살강정을 ±2.5*2.5cm 큐브 모양으로 절단한 제품으로 제공된 파우더을 입혀 튀긴 후, 강정소스를 곁들여 사용 (성분) 연어살강정 1kg+ 튀김파우더 + 강정소스 150g (용도) 튀김
B15: 큐브연어스테이크 | C15: 러시아산 | D15: 1kg | E15: 연어살강정1kg + 데리소스15%무상제공 | F15: 27600 | H15: (할인제외) | I15: (설명) 연어살강정을 ±2.5*2.5cm 큐브 모양으로 절단한 제품으로 조리 후 제공된 데리소스를 곁들여 사용 (성분) 연어살강정 1kg+ 데리소스 150g (용도) 구이
B16: 큐브연어튀김세트 | C16: 러시아산 | D16: 1kg | E16: 연어살강정1kg + 튀김파우더15%+ 강정소스15% 무상제공 | F16: 28400 | H16: (할인제외) | I16: (설명) 연어살강정을 ±2.5*2.5cm 큐브 모양으로 절단한 제품으로 제공된 파우더을 입혀 튀긴 후, 강정소스를 곁들여 사용 (성분) 연어살강정 1kg+ 튀김파우더 + 강정소스 150g (용도) 튀김
B17: 바질향가자미살 튀김세트 | C17: 미국 | D17: 1kg | E17: 가자미살1kg + 튀김파우더15% 무상제공 | F17: 15400 | H17: 할인제외 | I17: (설명) 바질향이 첨가된 가자미살에 파우더을 입혀 튀김용으로 사용 (성분) 바질향가자미순살 1kg+ 튀김파우더 150g (용도) 튀김
B18: 튀겨먹는 한입아귀순살세트 | C18: 국산 | D18: 1kg | E18: 아귀순살1kg + 튀김파우더15% 무상제공 | F18: 24400 | H18: (신규)할인제외 | I18: (설명)아귀순살에 파우더을 입혀 튀김용으로 사용 (성분) 아귀순살 1kg+ 튀김파우더 150g (용도) 튀김
B19: 오징어다리 가라아게세트 | C19: 국산 | D19: 1kg | E19: 오징어다리1kg + 가라아게파우더200g 무상제공 | F19: 26000 | H19: (신규)할인제외 | I19: (설명)오징어다리를 2등분하여 가라아게 파우더를 입현조리 (성분) 오징어다리 1kg + 파아더200g (용도) 튀김 ★출고일 2일 전 발주
B20: 코다리살조림 | C20: 러시아 | D20: ±15-50g | E20: 코다리순살1kg + 조림용소스15%무상제공 | F20: 14700 | H20: 할인제외 | I20: (설명) 건조코다리순살+조림소스를 같이 혼합사용 (성분) 코다리순살 1kg+ 소스 150g (용도) 조림
B21: 통영산장어구이세트 (냉동) | C21: 국산 | D21: 두절 온마리 | E21: 냉동장어살 1kg + 소스15% 무상제공 | F21: 24400 | H21: 할인제외 | I21: (설명) 통영산 장어살+구이소스를 같이 혼합사용 (성분) 장어살 1kg+ 소스 150g (용도) 구이 * 절단시 2,000원 추가/kg당
B22: 통영산장어구이세트 (냉장) | C22: 국산 | D22: 두절 온마리 | E22: 활장어살 1kg + 소스15% 무상제공 | F22: 48000 | H22: 할인제외 | I22: (설명) 통영산 활장어살+구이소스를 같이 혼합사용 (성분) 장어살 1kg+ 소스 150g (용도) 구이 * 절단시 2,000원 추가/kg당
B23: 명태살튀김강정세트 | C23: 러시아 | D23: ±15g | E23: 명태살튀김강정1kg + 유자소스 or 강정소스 15%무상제공 | F23: 16100 | H23: 할인제외 | I23: (설명) 명태살튀김강정에 어울릴 유자청소스 또는 강정소스를 곁들인 제품 (성분) 명태살튀김강정 1kg+ 소스 150g (용도) 튀김 [과세] | J23: ○
B24: 소라주꾸미채세트 | C24: 베트남/미얀마 | D24: 1kg | E24: 소라주꾸미채1kg + 볶음소스25%무상제공 | F24: 22800 | H24: 할인제외 | I24: (설명) 최상품 주꾸미채 원료사용+소스와 같이 혼합사용 (성분) 주꾸미채 1kg+ 소스 250g (용도) 볶음
B25: 낙지채세트 | C25: 베트남/ 인도네시아 | D25: 1kg | E25: 낙지채1kg + 볶음소스25%무상제공 | F25: 24400 | H25: 할인제외 | I25: (설명) 최상품 낙지채 원료사용+소스와 같이 혼합사용 (성분) 낙지채 1kg+ 소스 250g (용도) 볶음
B26: 바질향달고기세트 | C26: 국산 | D26: 1kg | E26: 달고기순살1kg + 상큼소스20%+파우더20% 무상제공 | F26: 26800 | H26: (할인제외) | I26: (설명) 달고기순살+소스와 같이 혼합사용 (성분) 달고기순살 1kg+ 상큼소스200g +파우더 200g (용도) 튀김
B27: * 세트상품은 소스 무상제공이므로 최소 발주 6kg 이상 공급가능합니다.

Sheet 5796_호남푸드_1
A1: 5796_호남푸드_6월★SJ씨푸드★학교가하미라+3.xlsx
A2: https://school062.com/bbs/board.php?bo_table=product_02&wr_id=5796
A3: 구 분 | B3: 코드 | C3: 제 품 명 | D3: 원 산 지 | E3: 제 품 규 격 | F3: 단위 | G3: 학교가 | H3: 특 징 | I3: HACCP 적용 | J3: 품질인증 | K3: 비 고
A4: 가 자 미 | B4: 217 | C4: 가자미토막 | D4: 러시아/미국산 | E4: ±40g~100g | F4: kg | G4: 8250 | H4: 두절.내장.지너러미.꼬리제거 후 세척, 사양에 맞게 토막 절단 | I4: ○
B5: 218 | C5: 가자미토막(냉장) | D5: 러시아/미국산 | E5: ±40g~100g | F5: kg | G5: 9750 | H5: 두절.내장.지너러미.꼬리제거 후 세척, 사양에 맞게 토막 절단 | I5: ○
B6: 223 | C6: 가자미순살(유피) | D6: 러시아/미국산 | E6: ±30g~70g | F6: kg | G6: 13500 | H6: 가자미포(껍질있음)를 사양에 맞게 토막 절단 | I6: ○
B7: 219 | C7: 가자미순살(강정)/유피 | D7: 러시아/미국산 | E7: 2*2cm(8~10g) | F7: kg | G7: 15000 | H7: 가자미포(껍질있음)를 사양에 맞게 토막 절단 | I7: ○
B8: 221 | C8: 가자미순살(유피)슬라이스 | D8: 러시아/미국산 | E8: 20g~50g / 전용,커틀릿 | F8: kg | G8: 15750 | H8: 중뼈 제거한 순살 가자미포를 사양에 맞게 전뜨기 (전및, 커틀릿용) | I8: ○
B9: 224 | C9: 가자미순살(탈피) | D9: 러시아/미국산 | E9: 30g,40g,50g | F9: kg | G9: 14250 | H9: 가자미포(껍질없음)를 사양에 맞게 토막 절단 | I9: ○
B10: 220 | C10: 가자미순살(강정)/탈피 | D10: 러시아/미국산 | E10: 2*2cm(8~10g) | F10: kg | G10: 15750 | H10: 가자미포(껍질없음)를 사양에 맞게 토막 절단
B11: 222 | C11: 가자미순살(탈피)슬라이스 | D11: 러시아/미국산 | E11: 20g~50g / 전용,커틀릿 | F11: kg | G11: 16500 | H11: 중뼈 제거한 순살 가자미포를 사양에 맞게 전뜨기 (전및, 커틀릿용)
B12: 289 | C12: 살짝말린가자미토막(국내산-중) | D12: 국내산 | E12: ±30g~40g | F12: kg | G12: 13050 | H12: 두절.내장.지너러미.꼬리제거 후 세척, 사양에 맞게 토막 절단 | I12: ○
B13: 288 | C13: 살짝말린가자미토막(국내산-대) | D13: 국내산 | E13: 50~100g | F13: kg | G13: 13350 | H13: 두절.내장.지너러미.꼬리제거 후 세척, 사양에 맞게 토막 절단 | I13: ○
B14: 215 | C14: 가자미토막(국내산)-중 | D14: 국내산 | E14: ±30g~40g | F14: kg | G14: 12750 | H14: 두절.내장.지너러미.꼬리제거 후 세척, 사양에 맞게 토막 절단 | I14: ○
B15: 214 | C15: 가자미토막(국내산)-대 | D15: 국내산 | E15: 50~100g | F15: kg | G15: 13050 | H15: 두절.내장.지너러미.꼬리제거 후 세척, 사양에 맞게 토막 절단 | I15: ○ | J15: ○
A16: 갈 치 | C16: 갈치토막(남아공) | D16: 남아공 | E16: ±40g~100g | F16: kg | G16: 품절 | H16: 두절.내장.지너러미.꼬리제거 후 세척, 사양에 맞게 토막 절단 | I16: ○
C17: 갈치토막(남아공)(냉장) | D17: 남아공 | E17: ±40g~100g | F17: kg | G17: 품절 | H17: 두절.내장.지너러미.꼬리제거 후 세척, 사양에 맞게 토막 절단 | I17: ○
B18: 225 | C18: 갈치토막(모로코) | D18: 모로코/브라질 | E18: ±40g~100g | F18: kg | G18: 10950 | H18: 두절.내장.지너러미.꼬리제거 후 세척, 사양에 맞게 토막 절단 | I18: ○
B19: 226 | C19: 갈치토막(모로코)(냉장) | D19: 모로코/브라질 | E19: ±40g~100g | F19: kg | G19: 품절 | H19: 두절.내장.지너러미.꼬리제거 후 세척, 사양에 맞게 토막 절단 | I19: ○
B20: 227 | C20: 갈치토막(세네갈) | D20: 세네갈 | E20: ±40g~100g | F20: kg | G20: 일시품절 | H20: 두절.내장.지너러미.꼬리제거 후 세척, 사양에 맞게 토막 절단 | I20: ○
B21: 228 | C21: 갈치토막(세네갈)(냉장) | D21: 세네갈 | E21: ±40g~100g | F21: kg | G21: 일시품절 | H21: 두절.내장.지너러미.꼬리제거 후 세척, 사양에 맞게 토막 절단 | I21: ○
B22: 231 | C22: 갈치(국내산-중) | D22: 국내산 | E22: 30g,40g | F22: kg | G22: 16500 | H22: 두절.내장.지너러미.꼬리제거 후 세척, 사양에 맞게 토막 절단 | I22: ○
B23: 232 | C23: 갈치(국내산-중)(냉장) | D23: 국내산 | E23: 30g,40g | F23: kg | G23: 18750 | H23: 두절.내장.지너러미.꼬리제거 후 세척, 사양에 맞게 토막 절단 | I23: ○
B24: 229 | C24: 갈치(국내산-대) | D24: 국내산 | E24: 40g,50g,60g` | F24: kg | G24: 19800 | H24: 두절.내장.지너러미.꼬리제거 후 세척, 사양에 맞게 토막 절단 | I24: ○ | J24: ○
B25: 230 | C25: 갈치(국내산-대)(냉장) | D25: 국내산 | E25: 40g,50g,60g | F25: kg | G25: 22050 | H25: 두절.내장.지너러미.꼬리제거 후 세척, 사양에 맞게 토막 절단 | I25: ○ | J25: ○
B26: 421 | C26: 갈치(제주산)(대) | D26: 국내산(제주) | E26: 40g,50g,60g | F26: kg | G26: 23250 | H26: 두절.내장.지너러미.꼬리제거 후 세척, 사양에 맞게 토막 절단 | I26: ○
B27: 422 | C27: 갈치(제주산)(냉장)(대) | D27: 국내산(제주) | E27: 40g,50g,60g | F27: kg | G27: 25500 | H27: 두절.내장.지너러미.꼬리제거 후 세척, 사양에 맞게 토막 절단 | I27: ○
B28: 810 | C28: 갈치(제주산) | D28: 국내산(제주) | E28: 40g | F28: kg | G28: 20250 | H28: 두절.내장.지너러미.꼬리제거 후 세척, 사양에 맞게 토막 절단 | I28: ○
B29: 811 | C29: 갈치(제주산)(냉장) | D29: 국내산(제주) | E29: 40g | F29: kg | G29: 22500 | H29: 두절.내장.지너러미.꼬리제거 후 세척, 사양에 맞게 토막 절단 | I29: ○
B30: 234 | C30: 갈치포(수입) | D30: 수입산 | E30: 20g,30g | F30: kg | G30: 품절 | H30: 중뼈를 제거한 순살 갈치포를 사양에 맞게 토막 절단 | I30: ○
B31: 233 | C31: 갈치포(국내산) | D31: 국내산 | E31: 15g,20g | F31: kg | G31: 16500 | H31: 중뼈를 제거한 순살 갈치포를 5% 건조후 튀김용 사양에 맞게 토막 절단 | I31: ○
A32: 고등어 | B32: 239 | C32: 고등어조림 | D32: 국내산 | E32: ±30g~40g | F32: kg | G32: 3900 | H32: 두절.내장.꼬리제거 후 세척, 사양에 맞게 조림용 토막 절단 | I32: ○
B33: 240 | C33: 고등어조림(냉장) | D33: 국내산 | E33: ±30g~40g | F33: kg | G33: 5400 | H33: 두절.내장.꼬리제거 후 세척, 사양에 맞게 조림용 토막 절단 | I33: ○
B34: 241 | C34: 고등어조림(대) | D34: 국내산 | E34: ±30g~60g | F34: kg | G34: 7350 | H34: 두절.내장.꼬리제거 후 세척, 사양에 맞게 조림용 토막 절단 | I34: ○ | J34: ○
B35: 242 | C35: 고등어조림(대)(냉장) | D35: 국내산 | E35: ±30g~60g | F35: kg | G35: 8850 | H35: 두절.내장.꼬리제거 후 세척, 사양에 맞게 조림용 토막 절단 | I35: ○ | J35: ○
B36: 235 | C36: 고등어구이 | D36: 국내산 | E36: ±30g~40g | F36: kg | G36: 8250 | H36: 두절.내장.꼬리제거 후 세척, 사양에 맞게 구이용 토막 절단 | I36: ○
B37: 236 | C37: 고등어구이(냉장) | D37: 국내산 | E37: ±30g~40g | F37: kg | G37: 9750 | H37: 두절.내장.꼬리제거 후 세척, 사양에 맞게 구이용 토막 절단 | I37: ○
B38: 237 | C38: 고등어구이(대) | D38: 국내산 | E38: ±30g~60g | F38: kg | G38: 8550 | H38: 두절.내장.꼬리제거 후 세척, 사양에 맞게 구이용 토막 절단 | I38: ○ | J38: ○
B39: 238 | C39: 고등어구이(대)(냉장) | D39: 국내산 | E39: ±30g~60g | F39: kg | G39: 10050 | H39: 두절.내장.꼬리제거 후 세척, 사양에 맞게 구이용 토막 절단 | I39: ○ | J39: ○
B40: 243 | C40: 고등어순살 | D40: 국내산 | E40: ±30g~50g | F40: kg | G40: 10350 | H40: 두절.내장.꼬리제거 후 세척, 사양에 맞게 구이용 토막 절단 | I40: ○
...

Sheet 5796_호남푸드_2
A1: 5796_호남푸드_6월★SJ씨푸드★학교가하미라+3.xlsx
A2: https://school062.com/bbs/board.php?bo_table=product_02&wr_id=5796
A3: 구 분 | B3: 코드 | C3: 제 품 명 | D3: 원 산 지 | E3: 제 품 규 격 | F3: 단위 | G3: 학교가 | H3: 특 징 | I3: HACCP 적용 | J3: 비 고
A4: 오징어 | B4: 391 | C4: 오징어채 | D4: 국내(연근해) | E4: 냉동 | F4: kg | G4: 19950 | H4: 1Cm*5~7Cm | I4: ○
B5: 392 | C5: 오징어채(냉장) | D5: 국내(연근해) | E5: 냉장 | F5: kg | G5: 25950 | H5: 1Cm*5~7Cm (해동품) | I5: ○
B6: 393 | C6: 오징어채/탈피 | D6: 국내(연근해) | E6: 냉동 | F6: kg | G6: 20700 | H6: 1Cm*5~7Cm 껍질無 | I6: ○
B7: 394 | C7: 오징어채/탈피(냉장) | D7: 국내(연근해) | E7: 냉장 | F7: kg | G7: 26700 | H7: 1Cm*5~7Cm 껍질無 (해동품) | I7: ○
B8: 395 | C8: 오징어할복 | D8: 국내(연근해) | E8: 냉동 | F8: kg | G8: 21900 | H8: 할복 귀,다리,포함 | I8: ○
B9: 396 | C9: 오징어할복(냉장) | D9: 국내(연근해) | E9: 냉장 | F9: kg | G9: 26400 | H9: 할복 귀,다리,포함 (해동품) | I9: ○
B10: 397 | C10: 오징어할복/탈피 | D10: 국내(연근해) | E10: 냉동 | F10: kg | G10: 24900 | H10: 할복 귀,다리,포함 껍질無 | I10: ○
B11: 398 | C11: 오징어할복/탈피(냉장) | D11: 국내(연근해) | E11: 냉장 | F11: kg | G11: 29400 | H11: 할복 귀,다리,포함 껍질無 (해동품) | I11: ○
B12: 383 | C12: 오징어몸통할복 | D12: 국내(연근해) | E12: 냉동 | F12: kg | G12: 25500 | H12: 몸통할복 귀포함 | I12: ○
B13: 384 | C13: 오징어몸통할복(냉장) | D13: 국내(연근해) | E13: 냉장 | F13: kg | G13: 30000 | H13: 몸통할복 귀포함 (해동품) | I13: ○
B14: 385 | C14: 오징어몸통할복/탈피 | D14: 국내(연근해) | E14: 냉동 | F14: kg | G14: 26250 | H14: 몸통할복 귀포함 껍질無 | I14: ○
B15: 386 | C15: 오징어몸통할복/탈피(냉장) | D15: 국내(연근해) | E15: 냉장 | F15: kg | G15: 30750 | H15: 몸통할복 귀포함 껍질無 (해동품) | I15: ○
B16: 379 | C16: 오징어몸통채 | D16: 국내(연근해) | E16: 냉동 | F16: kg | G16: 22950 | H16: 몸통만 1Cm*5~7Cm 귀포함 | I16: ○
... B25: 372 | C25: 오징어다지기(냉장) | D25: 국내(연근해) | E25: 냉장 | F25: kg | G25: 29250 | H25: 볶음및 완자용 다지기 (해동품) | I25: ○
B26: 369 | C26: 오징어가는채 | D26: 국내(연근해) | E26: 냉동 | F26: kg | G26: 품절 | H26: 부침용및 볶음용 가는채 0.5*5cm | I26: ○
B27: 370 | C27: 오징어가는채(냉장) | D27: 국내(연근해) | E27: 냉동 | F27: kg | G27: 품절 | H27: 부침용및 볶음용 가는채 0.5*5cm | I27: ○
C28: 오징어솔방울사각/탈피 | D28: 국내(연근해) | E28: 냉동 | F28: kg | G28: 품절 | H28: 몸통만칼집후 3Cm*5cm 절단 껍질無 블럭동결 | I28: ○
C29: 오징어솔방울사각/탈피(냉장) | D29: 국내(연근해) | E29: 냉장 | F29: kg | G29: 품절 | H29: 몸통만칼집후 3Cm*5cm 절단 껍질無 (해동품) | I29: ○
B30: 387 | C30: 오징어솔방울채 | D30: 국내(연근해) | E30: 냉동 | F30: kg | G30: 26400 | H30: 몸통만칼집후 1Cm*5~7Cm 절단 | I30: ○
B31: 388 | C31: 오징어솔방울채(냉장) | D31: 국내(연근해) | E31: 냉장 | F31: kg | G31: 30900 | H31: 몸통만칼집후 1Cm*5~7Cm 절단 (해동품) | I31: ○
B32: 389 | C32: 오징어솔방울채/탈피 | D32: 국내(연근해) | E32: 냉동 | F32: kg | G32: 27000 | H32: 몸통만칼집후 1Cm*5~7Cm 절단 껍질無 | I32: ○
B33: 390 | C33: 오징어솔방울채/탈피(냉장) | D33: 국내(연근해) | E33: 냉장 | F33: kg | G33: 31500 | H33: 몸통만칼집후 1Cm*5~7Cm 절단 껍질無 (해동품) | I33: ○
A34: 갑 오 징 어 | B34: 540 | C34: 갑오징어(미탈피채) | D34: 국내산 | E34: 냉장 | F34: kg | G34: 30000 | H34: (귀O,다리O) 탈피 하지않고 그대로 채 썸
B35: 546 | C35: 갑오징어(탈피채) | D35: 국내산 | E35: 냉장 | F35: kg | G35: 일시품절 | H35: (귀X, 다리O) 탈피하여 채 썸
B36: 538 | C36: 갑오징어(미탈피몸통채) | D36: 국내산 | E36: 냉장 | F36: kg | G36: 39750 | H36: (귀O, 다리X) 탈피 하지않고 몸통만 채 썸
B37: 542 | C37: 갑오징어(탈피몸통채) | D37: 국내산 | E37: 냉장 | F37: kg | G37: 일시품절 | H37: (귀X, 다리X) 탈피하여 몸통만 채 썸
B38: 541 | C38: 갑오징어(미탈피할복) | D38: 국내산 | E38: 냉장 | F38: kg | G38: 30000 | H38: (귀O, 다리O) 탈피하지않고 할복만 함
B39: 547 | C39: 갑오징어(탈피할복) | D39: 국내산 | E39: 냉장 | F39: kg | G39: 일시품절 | H39: (귀X, 다리O) 탈피하여 할복함
B40: 539 | C40: 갑오징어(미탈피몸통할복) | D40: 국내산 | E40: 냉장 | F40: kg | G40: 39600 | H40: (귀O, 다리X) 탈피하지않고 몸통만 할복함
B41: 543 | C41: 갑오징어(탈피몸통할복) | D41: 국내산 | E41: 냉장 | F41: kg | G41: 일시품절 | H41: (귀X, 다리X) 탈피하여 몸통만 할복함
B42: 544 | C42: 갑오징어(탈피솔방울) | D42: 국내산 | E42: 냉장 | F42: kg | G42: 일시품절 | H42: 보통 3*4크기
B43: 545 | C43: 갑오징어(탈피솔방울채) | D43: 국내산 | E43: 냉장 | F43: kg | G43: 일시품절 | H43: 보통 1*5크기
B44: 537 | C44: 갑오징어(다리) | D44: 국내산 | E44: 냉장 | F44: kg | G44: 9000 | H44: 갑오징어 다리만 포장함
B45: 595 | C45: 베이비갑오징어(냉동) | D45: 베트남 | E45: 냉동 | F45: kg | G45: 21750 | H45: 갑오징어 냉동 블록, 수입완제품
A46: 주 꾸 미 | B46: 618 | C46: 절단쭈꾸미(냉장) | D46: 국내산 | E46: 냉장 | F46: kg | G46: 67500 | H46: 내장제거, 5cm내외절단, 채 | I46: ○
B47: 617 | C47: 절단쭈꾸미(냉동) | D47: 국내산 | E47: 냉동 | F47: kg | G47: 66000 | H47: 내장제거, 5cm내외절단, 채, 블럭동결 | I47: ○ | J47: 500g / 1kg
B48: 619 | C48: 쭈꾸미온마리(국산)(냉장) | D48: 국내산 | E48: 냉장 | F48: kg | G48: 66000 | H48: kg/10~13미, 길이15cm내외, 온마리, 해동품, 내장제거X, *냉동제품 3일전 미리 발주요망
...

Sheet 5796_호남푸드_3
A1: 5796_호남푸드_6월★SJ씨푸드★학교가하미라+3.xlsx
A2: https://school062.com/bbs/board.php?bo_table=product_02&wr_id=5796
A3: 구 분 | B3: 코 드 | C3: 제 품 명 | D3: 원산지 | E3: 제 품 규 격 | F3: 단위 | G3: 학교가 | H3: 특 징 | I3: HACCP 적용 | J3: 비 고
A4: 꽃 게 | B4: 557 | C4: 꽃게(4절)-발끝제거 | D4: 국내산 | E4: 냉동 | F4: 팩 | G4: 18300 | H4: 1토막:25~30g, 약 24토막, 실중량900g | I4: ○
B5: 556 | C5: 꽃게(2절)-발끝제거 | D5: 국내산 | E5: 냉동 | F5: 팩 | G5: 17550 | H5: 1토막:30~40g, 약 20토막, 실중량900g | I5: ○
B6: 558 | C6: 꽃게(중국/냉동)L사이즈 | D6: 중국 | E6: 냉동 | F6: KG | G6: 13500 | H6: 냉동절단꽃게 수입. L사이즈. 36조각내외 / ±25g | J6: kg
B7: 559 | C7: 꽃게(중국/냉동)M사이즈 | D7: 중국 | E7: 냉동 | F7: KG | G7: 10500 | H7: (팩/450g)냉동절단꽃게 수입. L사이즈. 36조각내외 / ±25g | J7: (팩/450g)
B8: 560 | C8: 꽃게(중국/냉동)S사이즈 | D8: 중국 | E8: 냉동 | F8: KG | G8: 9000 | H8: (팩/450g)냉동절단꽃게 수입. S사이즈. 60조각내외 / ±15g | J8: (팩/450g)
B9: 807 | C9: 꽃게 온마리 | D9: 국내산 | E9: 냉동 | F9: KG | G9: 18000 | H9: 마리당 160~180g 정도. 등껍질제거X, 끝발제거X
A10: 황게 | B10: 644 | C10: 황게(2절) | D10: 국내산 | E10: 냉동 | F10: 팩 | G10: 일시품절 | H10: 1토막:15~20g | I10: ○ | J10: 팩
A11: 새 우 | B11: 553 | C11: 껍질새우/대하 | D11: 국내산 | E11: 냉장 | F11: KG | G11: 품절 | H11: KG/25미~30미. 국산 대하, 해동품
B12: 554 | C12: 껍질새우/대하(냉동) | D12: 국내산 | E12: 냉장 | F12: KG | G12: 품절 | H12: KG/25미~30미. 국산 대하
B13: 193 | C13: 껍질새우 | D13: 국내산 | E13: 냉장 | F13: kg | G13: 품절 | H13: 13~15cm, 50~60미, 양식산, 흰다리새우
B14: 194 | C14: 껍질새우(냉동) | D14: 국내산 | E14: 냉동 | F14: kg | G14: 품절 | H14: 13~15cm, 50~60미, 양식산, 흰다리새우
B15: 646 | C15: 흰다리새우(40미) | D15: 수입(말레이시아) | E15: 냉동 | F15: kg | G15: 30750 | H15: 500g/팩 포장(수입완제품)(머리,꼬리,껍질 있음) | J15: 20미/500g
B16: 195 | C16: 흰다리새우(60미) | D16: 수입(말레이시아) | E16: 냉동 | F16: kg | G16: 27750 | H16: 500g/팩 포장(수입완제품)(머리,꼬리,껍질 있음) | J16: 30미/500g
B17: 837 | C17: 흰다리새우(80미) | D17: 수입(말레이시아) | E17: 냉동 | F17: kg | G17: 26250 | H17: 500g/팩 포장(수입완제품)(머리,꼬리,껍질 있음) | J17: 40미/500g
B18: 645 | C18: 흰다리새우(100미) | D18: 수입(말레이시아) | E18: 냉동 | F18: kg | G18: 24000 | H18: 500g/팩 포장(수입완제품)(머리,꼬리,껍질 있음) | J18: 50미/500g
B19: 794 | C19: 블랙타이거새우(8미)500g | D19: 수입(말레이시아) | E19: 냉동 | F19: 500/팩 | G19: 24750 | H19: IQF개별동결, 홍다리얼룩새우, 길이 약 20cm
B20: 849 | C20: 블랙타이거새우(10미)500g | D20: 수입(말레이시아) | E20: 냉동 | F20: 500/팩 | G20: 23250 | H20: IQF개별동결, 홍다리얼룩새우, 길이 약 17~18cm
B21: 848 | C21: 블랙타이거새우(12미)500g | D21: 수입(말레이시아) | E21: 냉동 | F21: 500/팩 | G21: 21000 | H21: IQF개별동결, 홍다리얼룩새우, 길이 약 17cm
B22: 534 | C22: 가재새우 | D22: 국내산(제주) | E22: 냉동 | F22: kg | G22: 12750 | H22: 40~50미, 딱새우
B23: 589 | C23: 민물새우 | D23: 수입(인도) | E23: 냉동 | F23: 400g/1봉 | G23: 9900 | H23: 3~4cm | J23: 400g단위
B24: 793 | C24: 노바시새우(30미/300g) | D24: 수입(베트남) | E24: 냉동 | F24: 300g/팩 | G24: 10500 | H24: C자로 말리지 않은 일자새우. 머리X껍질X꼬리O, 약 11cm | J24: 300g/팩
A25: 새 우 살 - 껍 질 x | B25: 212 | C25: 홍새우살 | D25: 국내산 | E25: 냉장 | F25: kg | G25: 54000 | H25: 200~300미 내외 국산 새우 두절, 꼬리,껍질제거
B26: 213 | C26: 홍새우살(냉동) | D26: 국내산 | E26: 냉동 | F26: kg | G26: 52500 | H26: 200~300미 내외, 블럭동결홍새우 두절, 꼬리,껍질제거 | I26: ○ | J26: 500g / 1kg
B27: 199 | C27: 생새우살 | D27: 국내산 | E27: 냉장 | F27: kg | G27: 37500 | H27: 150미 내외 흰다리새우 두절, 꼬리,껍질제거
B28: 667 | C28: 생새우살(냉장)600g이상(600g~900g) | D28: 국내산 | E28: 봉 | F28: kg | G28: 39750 | H28: 150미 내외 흰다리새우 두절, 꼬리,껍질제거
B29: 666 | C29: 생새우살(냉장)500g이하(100g~500g) | D29: 국내산 | E29: 봉 | F29: kg | G29: 41250 | H29: 150미 내외 흰다리새우 두절, 꼬리,껍질제거
B30: 200 | C30: 생새우살(냉동) | D30: 국내산 | E30: 냉동 | F30: kg | G30: 37500 | H30: 150미 내외 흰다리새우 두절, 꼬리,껍질제거
B31: 185 | C31: 홍새우살(수입냉동)70/100 | D31: 수입(중국) | E31: 냉동 | F31: kg | G31: 일시품절 | H31: 70/100사이즈, IQF개별동결홍새우 두절, 꼬리,껍질제거
B32: 183 | C32: 홍새우살(수입냉동)100/200 | D32: 수입(중국) | E32: 냉동 | F32: kg | G32: 16200 | H32: 100/200사이즈, IQF개별동결홍새우 두절, 꼬리,껍질제거
B33: 496 | C33: 홍새우살(수입냉장)100/200 | D33: 수입(중국) | E33: 냉장 | F33: kg | G33: 19200 | H33: 100/200사이즈홍새우 두절, 꼬리,껍질제거
B34: 184 | C34: 홍새우살(수입냉동)200/300 | D34: 수입(중국) | E34: 냉동 | F34: kg | G34: 15750 | H34: 200/300사이즈, IQF개별동결홍새우 두절, 꼬리,껍질제거
B35: 198 | C35: 백새우살(냉장) | D35: 국내산 | E35: 냉장 | F35: kg | G35: 37500 | H35: 200미 내외흰다리새우 껍질제거 후 세척
B36: 663 | C36: 백새우살(냉장)600g이상(600g~900g) | D36: 국내산 | E36: 봉 | F36: kg | G36: 39750 | H36: 200미 내외흰다리새우 껍질제거 후 세척
B37: 662 | C37: 백새우살(냉장)500g이하(100g~500g) | D37: 국내산 | E37: 봉 | F37: kg | G37: 41250 | H37: 200미 내외흰다리새우 껍질제거 후 세척
B38: 197 | C38: 백새우살(냉동) | D38: 국내산 | E38: 냉동 | F38: kg | G38: 37500 | H38: 200미 내외, 블럭동결흰다리새우 껍질제거 후 세척 | I38: ○ | J38: 500g / 1kg
C39: 백새우살(수입냉장) | D39: 수입(중국,베트남외) | E39: 냉장 | F39: kg | G39: 품절 | H39: 90/120사이즈흰다리새우 껍질제거 후 세척
B40: 139 | C40: 백새우살(수입냉동)31/50 | D40: 수입(베트남,인도외) | E40: 냉동 | F40: kg | G40: 22500 | H40: 31/50사이즈, IQF개별동결흰다리새우 껍질제거 후 세척 | J40: kg - 100미 내외
...

Sheet 5796_호남푸드_4
A1: 5796_호남푸드_6월★SJ씨푸드★학교가하미라+3.xlsx
A2: https://school062.com/bbs/board.php?bo_table=product_02&wr_id=5796
A3: 구 분 | B3: 코 드 | C3: 제 품 명 | D3: 원산지 | E3: 제 품 규 격 | F3: 단위 | G3: 학교가 | H3: 특 징 | I3: HACCP 적용 | J3: 비 고
A4: 바 지 락 | B4: 591 | C4: 바지락살(생물) | D4: 국내산(삼천포) | E4: 냉장 | F4: kg | G4: 50250 | H4: 생물, 선별하여 껍질제거 후 세척-★HACCP인증
B5: 661 | C5: 바지락살(생물)600g이상(600g~900g) | D5: 국내산(삼천포) | E5: 냉장 | F5: 600g 이상 소수점발주 | G5: 51750 | H5: 생물, 선별하여 껍질제거 후 세척-★HACCP인증
B6: 660 | C6: 바지락살(생물)500g이하(100g~500g) | D6: 국내산(삼천포) | E6: 냉장 | F6: 500g 이하 소수점발주 | G6: 54000 | H6: 생물, 선별하여 껍질제거 후 세척-★HACCP인증
B7: 590 | C7: 바지락살(냉동) | D7: 국내산(삼천포) | E7: 냉동 | F7: kg | G7: 50300 | H7: 생물, 선별하여 껍질제거 후 세척, 블럭동결-★HACCP인증 | I7: ○
B8: 592 | C8: 바지락살(자숙) | D8: 수입(중국) | E8: 냉동 | F8: kg | G8: 9900 | H8: 자숙바지락살 IQF동결중상품, 껍질크기 4~5cm
B9: 633 | C9: 피바지락(생물) | D9: 국내산 | E9: 냉장 | F9: kg | G9: 12750 | H9: 껍질조개, 생물, 해감
B10: 632 | C10: 피바지락(냉동) | D10: 국내산 | E10: 냉동 | F10: kg | G10: 12800 | H10: 껍질조개, 생물, 해감된것을 동결 | I10: ○
A11: 대 합 | B11: 571 | C11: 대합살(생물) | D11: 국내산(연근해) | E11: 냉장 | F11: kg | G11: 66000 | H11: 촉수가 싱싱하고 살아있는 것, 탈각
B12: 659 | C12: 대합살(생물)600g이상(600g~900g) | D12: 국내산(연근해) | E12: 냉장 | F12: 600g 이상 소수점발주 | G12: 67500 | H12: 촉수가 싱싱하고 살아있는 것, 탈각
B13: 658 | C13: 대합살(생물)500g이하(100g~500g) | D13: 국내산(연근해) | E13: 냉장 | F13: 500g 이하 소수점발주 | G13: 69450 | H13: 촉수가 싱싱하고 살아있는 것, 탈각
B14: 570 | C14: 대합살(냉동) | D14: 국내산(연근해) | E14: 냉동 | F14: kg | G14: 66100 | H14: 생물 선별하여 껍질제거 한것을 동결(500g , 1kg) | I14: ○
B15: 630 | C15: 피대합(생물) | D15: 국내산(연근해) | E15: 냉장 | F15: kg | G15: 24750 | H15: 껍질대합, 생물, 해감
A16: 홍 합 | B16: 641 | C16: 홍합살(생물) | D16: 국내산(연근해) | E16: 냉장 | F16: kg | G16: 30750 | H16: 생물, 선별하여 껍질제거 후 세척
B17: 669 | C17: 홍합살(생물)600g이상(600g~900g) | D17: 국내산(연근해) | E17: 냉장 | F17: 600g 이상 소수점발주 | G17: 32250 | H17: 생물, 선별하여 껍질제거 후 세척
B18: 668 | C18: 홍합살(생물)500g이하(100g~500g) | D18: 국내산(연근해) | E18: 냉장 | F18: 500g 이하 소수점발주 | G18: 34200 | H18: 생물, 선별하여 껍질제거 후 세척
B19: 640 | C19: 홍합살(냉동) | D19: 국내산(연근해) | E19: 냉동 | F19: kg | G19: 30800 | H19: 생물 선별하여 껍질제거 한것을 동결. | I19: ○ | J19: 500g / 1kg
B20: 642 | C20: 홍합살(자숙) | D20: 수입(중국) | E20: 냉동 | F20: kg | G20: 9000 | H20: 자숙홍합살 IQF동결
B21: 639 | C21: 피홍합(생물) | D21: 국내산 | E21: 냉장 | F21: kg | G21: 4500 | H21: 해감 후 다듬어진 것, 수염제거
B22: 638 | C22: 피홍합(냉동) | D22: 국내산 | E22: 냉동 | F22: kg | G22: 일시품절 | H22: 해감 후 다듬어진 것, 수염제거 후 동결 | I22: ○
B23: 551 | C23: 그린홍합(냉동) | D23: 수입(뉴질랜드) | E23: 냉동 | F23: 800g/팩 | G23: 23250 | H23: 한쪽껍질 탈각, M사이즈 | J23: 800g단위
A24: 전 복 | B24: 657 | C24: 피전복(9-10미)특대(생물) | D24: 국내산(완도) | E24: 냉장 | F24: kg | G24: 67500 | H24: 생물, 껍질O, 선별하여 세척, 양식산 | J24: 마릿수 사양변경
B25: 472 | C25: 피전복(11-13미)대(생물) | D25: 국내산(완도) | E25: 냉장 | F25: kg | G25: 61500 | H25: 생물, 껍질O, 선별하여 세척, 양식산 | J25: 마릿수 사양변경
B26: 473 | C26: 피전복(14-16미)대(생물) | D26: 국내산(완도) | E26: 냉장 | F26: kg | G26: 52500 | H26: 생물, 껍질O, 선별하여 세척, 양식산 | J26: 마릿수 사양변경
B27: 474 | C27: 피전복(17-19미)중(생물) | D27: 국내산(완도) | E27: 냉장 | F27: kg | G27: 51000 | H27: 생물, 껍질O, 선별하여 세척, 양식산 | J27: 마릿수 사양변경
B28: 475 | C28: 피전복(19-22미)중(생물) | D28: 국내산(완도) | E28: 냉장 | F28: kg | G28: 48000 | H28: 생물, 껍질O, 선별하여 세척, 양식산 | J28: 마릿수 사양변경
B29: 476 | C29: 피전복(23-26미)소(생물) | D29: 국내산(완도) | E29: 냉장 | F29: kg | G29: 45000 | H29: 생물, 껍질O, 선별하여 세척, 양식산 | J29: 마릿수 사양변경
B30: 477 | C30: 피전복(28-32미)소(생물) | D30: 국내산(완도) | E30: 냉장 | F30: kg | G30: 42000 | H30: 생물, 껍질O, 선별하여 세척, 양식산 | J30: 마릿수 사양변경
B31: 478 | C31: 피전복(32미 이상)꼬마전복 | D31: 국내산(완도) | E31: 냉장 | F31: kg | G31: 일시품절 | H31: 생물, 껍질O, 선별하여 세척, 양식산 | J31: 마릿수 사양변경
B32: 614 | C32: 전복살(8미 탈각)특대(생물) | D32: 국내산(완도) | E32: 냉장 | F32: kg | G32: 일시품절 | H32: 생물, 껍질X, 선별하여 세척, 양식산
B33: 408 | C33: 전복살(10-12미 탈각)특(생물) | D33: 국내산(완도) | E33: 냉장 | F33: kg | G33: 105000 | H33: 생물, 껍질X, 선별하여 세척, 양식산
B34: 409 | C34: 전복살(13-15미 탈각)대(생물) | D34: 국내산(완도) | E34: 냉장 | F34: kg | G34: 99000 | H34: 생물, 껍질X, 선별하여 세척, 양식산
B35: 410 | C35: 전복살(16-20미 탈각)중(생물) | D35: 국내산(완도) | E35: 냉장 | F35: kg | G35: 91500 | H35: 생물, 껍질X, 선별하여 세척, 양식산
B36: 411 | C36: 전복살(19-21미 탈각)중(생물) | D36: 국내산(완도) | E36: 냉장 | F36: kg | G36: 단종 | H36: 생물, 껍질X, 선별하여 세척, 양식산
B37: 412 | C37: 전복살(21-25미 탈각)소(생물) | D37: 국내산(완도) | E37: 냉장 | F37: kg | G37: 84000 | H37: 생물, 껍질X, 선별하여 세척, 양식산
C38: 전복살(냉동) | D38: 국내산(완도) | E38: 냉동 | F38: kg | G38: 문의 | H38: 생물, 껍질X, 선별하여 세척, 양식산 | I38: ○
B39: 615 | C39: 전복살(수입냉동) | D39: 수입(필리핀) | E39: 냉동 | F39: kg | G39: 90000 | H39: kg/33~35마리, IQF동결
B40: 261 | C40: 다진전복살(생물) | D40: 국내산 | E40: 냉장 | F40: kg | G40: 120000 | H40: 전복 탈각하여 고르게 다진것, 껍질X, 내장 따로 포장: 전복죽용
...

Sheet 5796_호남푸드_5
A1: 5796_호남푸드_6월★SJ씨푸드★학교가하미라+3.xlsx
A2: https://school062.com/bbs/board.php?bo_table=product_02&wr_id=5796
A3: 구 분 | B3: 코 드 | C3: 제 품 명 | D3: 원산지 | E3: 제 품 규 격 | F3: 단위 | G3: 학교가 | H3: 용도 | I3: 특 징 | J3: 비 고
A4: 멸 치 류 | B4: 126 | C4: 다시멸치(상품) | D4: 국내(연근해) | E4: 다시용(5~7cm) | F4: kg | G4: 18900 | H4: 다시용 | I4: 1kg 위생내포장지에 탈기 씰링포장 부직포 미제공
B5: 128 | C5: 다시멸치(특상) | D5: 국내(연근해) | E5: 다시용(5~7cm) | F5: kg | G5: 23250 | H5: 다시용 | I5: 1kg 위생내포장지에 탈기 씰링포장 부직포 미제공
B6: 167 | C6: 중멸치(고바) | D6: 국내(연근해) | E6: 볶음용(3~4cm) | F6: kg | G6: 18000 | H6: 볶음용 | I6: 선별가공후 1kg 위생내포장지에 탈기 씰링포장
B7: 154 | C7: 소멸치(상품) | D7: 국내(연근해) | E7: 볶음용(2~3cm) | F7: kg | G7: 21750 | H7: 볶음용 | I7: 선별가공후 1kg 위생내포장지에 탈기 씰링포장
B8: 169 | C8: 지리가이리(상품) | D8: 국내(연근해) | E8: 볶음용(1.5-2.5cm) | F8: kg | G8: 25500 | H8: 볶음용 | I8: 선별가공후 1kg 위생내포장지에 탈기 씰링포장
B9: 153 | C9: 세멸치 | D9: 국내(연근해) | E9: 볶음용(1~2cm) | F9: kg | G9: 28350 | H9: 볶음용 | I9: 선별가공후 1kg 위생내포장지에 탈기 씰링포장
B10: 870 | C10: 자연담 저염멸치 | D10: 국내(연근해) | E10: 볶음용(1~2cm) | F10: kg | G10: 29250 | H10: 볶음용 | I10: 선별가공후 1kg 위생내포장지에 탈기 씰링포장
B11: 159 | C11: 웰빙혼합멸치3종 | D11: 혼합제품 | E11: 볶음용 | F11: kg | G11: 34500 | H11: 볶음용 | I11: 건멸치(국내산)40%,아몬드s(미국)30% ,두절건새우(중국)30%
B12: 160 | C12: 웰빙혼합멸치4종 | D12: 혼합제품 | E12: 볶음용 | F12: kg | G12: 27750 | H12: 볶음용 | I12: 건멸치(국내산)40%아몬드S20%,호두20%,해바라기씨20%
B13: 161 | C13: 웰빙혼합멸치5종 | D13: 혼합제품 | E13: 볶음용 | F13: kg | G13: 29250 | H13: 볶음용 | I13: 건멸치40%,아몬드s20%,건새우10%,해바라기씨20%,캐슈넛10%
B14: 182 | C14: 혼합다시6종 | D14: 혼합제품 | E14: 다시용 | F14: kg | G14: 21450 | H14: 다시용 | I14: 멸치70%,띠포리10%,건새우5%,건표고5%,다시마5%,명태머리5%
B15: 181 | C15: 혼합다시5종(국내산) | D15: 국내산원료 | E15: 다시용 | F15: kg | G15: 21450 | H15: 다시용 | I15: 멸치75%,띠포리10%,건새우5%,건표고5%,다시마5%
B16: 133 | C16: 띠포리 | D16: 국내(연근해) | E16: 다시용(5~10cm) | F16: kg | G16: 19200 | H16: 다시용 | I16: 1kg 위생내포장지에 탈기 씰링포장 부직포 미제공
A17: 조 미 어 포 류 | B17: 162 | C17: 일미채 | D17: 국내(연근해) | E17: 백색 | F17: kg | G17: 119250 | I17: 조미 오징어로 가늘게 채씀.
B18: 163 | C18: 일미채(수입) | D18: 국내가공(페루) | E18: 백색 | F18: kg | G18: 29250 | I18: 조미 오징어로 가늘게 채씀.
B19: 170 | C19: 진미채 | D19: 국내(연근해) | E19: 백색 | F19: kg | G19: 119250 | I19: 조미 오징어로 굵게 채씀.
B20: 171 | C20: 진미채(수입) | D20: 국내가공(페루) | E20: 백색 | F20: kg | G20: 29250 | I20: 조미 오징어로 굵게 채씀.
B21: 186 | C21: 홍진미채 | D21: 국내(연근해) | E21: 홍색 | F21: kg | G21: 119250 | I21: 껍질이 있는 오징어를 조미하여 굴게 채씀.
B22: 187 | C22: 홍진미채(수입) | D22: 국내가공(페루) | E22: 홍색 | F22: kg | G22: 29250 | I22: 껍질이 있는 오징어를 조미하여 굴게 채씀.
B23: 158 | C23: 오징어실채 | D23: 국내가공(페루) | E23: 볶음용 | F23: kg | G23: 35850 | I23: 오징어 가늘게 채씀.
B24: 130 | C24: 동전쥐포 | D24: 베트남 | E24: 작은크기 | F24: kg | G24: 27750 | I24: 작은크기의 쥐치포.
B25: 172 | C25: 참쥐포구이채 | D25: 베트남 | E25: 찢은구운쥐포채 | F25: kg | G25: 31500 | I25: 구운 참쥐포를 채를 씀.
B26: 174 | C26: 참쥐포채 | D26: 베트남 | E26: 0.3 * 8cm | F26: kg | G26: 28500 | I26: 8cm 길이 참쥐포를 채씀 두께는 1cm 또는 0.3cm
B27: 173 | C27: 참쥐포사각 | D27: 베트남 | E27: 2 * 2cm | F27: kg | G27: 28500 | I27: 2*2cm로 참쥐포를 사각 절단함.
B28: 155 | C28: 아귀포채 | D28: 중국 | F28: kg | G28: 44250 | I28: 구운아귀포채를 찢음
B29: 168 | C29: 쥐어채 | D29: 베트남 | E29: 0.3*7cm | F29: kg | G29: 일시품절 | I29: 연육을 말려서 채를 씀.
B30: 134 | C30: 명엽채 | D30: 베트남 | E30: 0.5 * 15cm | F30: kg | G30: 11700 | I30: 연육을 말려서 채를 씀.
A31: 기 타 건 포 류 | B31: 188 | C31: 황태채 | D31: 러시아(중국가공) | E31: 짙은황색 | F31: kg | G31: 43500 | I31: 살이 도툼하고 건조상태 양호한 제품
B32: 851 | C32: 황태채 500g | D32: 러시아(중국가공) | E32: 짙은황색 | F32: 봉 | G32: 22650 | I32: 살이 도툼하고 건조상태 양호한 제품
B33: 850 | C33: 황태채 200g | D33: 러시아(중국가공) | E33: 짙은황색 | F33: 봉 | G33: 10950 | I33: 살이 도툼하고 건조상태 양호한 제품
B34: 148 | C34: 북어채 | D34: 러시아(중국가공) | E34: 밝은황색 | F34: kg | G34: 43350 | I34: 살이 도툼하고 건조상태 양호한 제품
B35: 853 | C35: 북어채 500g | D35: 러시아(중국가공) | E35: 밝은황색 | F35: 봉 | G35: 22500 | I35: 살이 도툼하고 건조상태 양호한 제품
B36: 852 | C36: 북어채 200g | D36: 러시아(중국가공) | E36: 밝은황색 | F36: 봉 | G36: 10800 | I36: 살이 도툼하고 건조상태 양호한 제품
B37: 136 | C37: 명태머리 | D37: 러시아(국내가공) | E37: 다시용 | F37: kg | G37: 22200 | H37: 다시용 | I37: 건조 명태머리 국물 다시용
B38: 135 | C38: 명태껍질 | D38: 러시아 | E38: 튀김/무침 | F38: kg | G38: 19500 | I38: 튀김및 무침용
B39: 144 | C39: 뱅어포(특상) | D39: 국내(연근해)산 | E39: 무침 | F39: 10장/속 | G39: 24000 | I39: 20*28cm 10장/속 | J39: 계절상품으로 재고문의후 발주
B40: 143 | C40: 뱅어포(kg)(특상) | D40: 국내(연근해)산 | E40: 무침 | F40: kg | G40: 135000 | I40: 20*28cm | J40: 계절상품으로 재고문의후 발주
...

Sheet 5796_호남푸드_7
A1: 5796_호남푸드_6월★SJ씨푸드★학교가하미라+3.xlsx
A2: https://school062.com/bbs/board.php?bo_table=product_02&wr_id=5796
B3: 튀김류및 기타가공품 단가표
A4: 구 분 | B4: 코드명 | C4: 제 품 명 | D4: 원산지 | E4: 단위 | F4: 특 징 | G4: 학교가 | H4: 과세/면세 | I4: 비고
A5: 오 븐 용 | B5: 460 | C5: 카레아몬드 통살방어스테이크 | D5: 국산 | E5: 50g/개 | F5: 【규격】50g/개,70g/개 【특징】냉동생선포를 적당한 비율의 카레분말에 혼합하여 아몬드분태를 토핑한 제품 【조리방법】①오븐전용 : 180~185℃온도→20~25분간 굽는다 【성분함량】 가자미순살 : 가자미살97%, 카레분말1% 아몬드분태0.5%빵가루1.5% 가자미방어 : 방어살97%, 카레분말1% 아몬드분태0.5%빵가루1.5% 삼치순살 : 삼치살97%, 카레분말1% 아몬드분태0.5%빵가루1.5% 고등어순살 : 고등어살97%, 카레분말1% 아몬드분태0.5%빵가루1.5% | G5: 1155
B6: 462 | D6: 국산 | E6: 70g/개 | G6: 1650
B7: 463 | C7: 카레아몬드 통살삼치스테이크 | D7: 국산 | E7: 50g/개 | G7: 1815
B8: 465 | D8: 국산 | E8: 70g/개 | G8: 2640
B9: 457 | C9: 카레아몬드 통살고등어스테이크 | D9: 국산 | E9: 50g/개 | G9: 1320
B10: 459 | D10: 국산 | E10: 70g/개 | G10: 1815
B11: 454 | C11: 카레아몬드 통살가자미스테이크 | D11: 수입산 | E11: 50g/개 | G11: 일시품절
B12: 456 | D12: 수입산 | E12: 70g/개 | G12: 일시품절
B13: 344 | C13: 숯불바베큐맛 통살방어스테이크 | D13: 국산 | E13: 50g/개 | F13: 【규격】50g/개,70g/개 【특징】냉동생선포를 특제소스에 침지 →담백한 바베큐소스를 토핑하여 오븐이나, 그릴에 굽기 쉽도록 독자적인 기술력과 제조공법으로 제조 【성분함량】 순살방어 : 방어살 95%, 숯불바베큐소스 4.0%,재제염 1.0% 순살삼치 : 삼치살 95%, 숯불바베큐소스 4.0%,재제염 1.0% 순살고등어 : 고등어살 95%, 숯불바베큐소스 4.0%,재제염 1.0% | G13: 1155
B14: 346 | D14: 국산 | E14: 70g/개 | G14: 1650
B15: 347 | C15: 숯불바베큐맛 통살삼치스테이크 | D15: 국산 | E15: 50g/개 | G15: 1815
B16: 349 | D16: 국산 | E16: 70g/개 | G16: 2640
B17: 341 | C17: 숯불바베큐맛 통살고등어스테이크 | D17: 국산 | E17: 50g/개 | G17: 1320
B18: 343 | D18: 국산 | E18: 70g/개 | G18: 1815
B19: 487 | C19: 허니데리야끼 삼치순살스테이크 | D19: 국산 | E19: 50g/개 | F19: 【규격】초등기준(±50g)/고등,성인기준(±70g) 【성분함량】삼치 94.97%, 데리야끼소스 4.53%, 피쉬순살염지제 0.5% | G19: 1815
B20: 489 | D20: 국산 | E20: 70g/개 | G20: 2640
B21: 481 | C21: 허니데리야끼 고등어순살스테이크 | D21: 국산 | E21: 50g/개 | F21: 【규격】초등기준(±50g)/고등,성인기준(±70g) 【성분함량】고등어94.97%, 데리야끼소스4.53%, 피쉬순살염지제0.5% | G21: 1320
B22: 483 | D22: 국산 | E22: 70g/개 | G22: 1815
B23: 484 | C23: 허니데리야끼 방어순살스테이크 | D23: 국산 | E23: 50g/개 | F23: 【규격】초등기준(±50g)/고등,성인기준(±70g) 【성분함량】방어94.97%, 데리야끼소스4.53%, 피쉬순살염지제0.5% | G23: 1155
B24: 486 | D24: 국산 | E24: 70g/개 | G24: 1650
B25: 830 | C25: 발사믹고등어순살 | D25: 국산 | E25: 40g/개 | F25: 【규격】초등기준(±40g)/고등,성인기준(±70g) 【성분함량】고등어97.8%, 천일염0.2%, 발사믹소스2% | G25: 990
B26: 831 | C26: 발사믹고등어순살 | D26: 국산 | E26: 70g/개 | F26: 【규격】온마리(±70) 【성분함량】고등어97.8%, 천일염0.2%, 발사믹소스2% | G26: 1650
B27: 832 | C27: 발사믹고등어순살 | D27: 국산 | E27: 90g/개 | F27: 【규격】온마리(±90) 【성분함량】고등어97.8%, 천일염0.2%, 발사믹소스2% | G27: 2145
B28: 838 | C28: 허브향 칠레연어스테이크(silver Salmon) | D28: 칠레 | E28: 60g/개 | F28: 최고급의 칠레산 은연어사용 【규격】±60g,±80g 【특징】연어살 98.0%, 버터혼합분말65 1.5%, 백설허브맛솔트순한맛, 파슬리후레이크 | G28: 2970
B29: 839 | C29: 허브향 칠레연어스테이크(silver Salmon) | D29: 칠레 | E29: 80g/개 | G29: 3960
B30: 840 | C30: 허니버터 칠레연어스테이크(silver Salmon) | D30: 칠레 | E30: 60g/개 | F30: 최고급의 칠레산 은연어사용 【규격】±60g,±80g 【특징】연어살 98.0%, 허니버터소스2% | G30: 2970
B31: 841 | C31: 허니버터 칠레연어스테이크(silver Salmon) | D31: 칠레 | E31: 80g/개 | G31: 3960
B32: 842 | C32: 허니갈릭 칠레연어스테이크(silver Salmon) | D32: 칠레 | E32: 60g/개 | F32: 최고급의 칠레산 은연어사용 【규격】±60g,±80g 【특징】연어살 98.5%, 허니갈릭시즈닝1.3%, 천일염0.2% | G32: 2970
B33: 843 | C33: 허니갈릭 칠레연어스테이크(silver Salmon) | D33: 칠레 | E33: 80g/개 | G33: 3960
B34: 844 | C34: 치즈갈릭 칠레연어스테이크(silver Salmon) | D34: 칠레 | E34: 60g/개 | F34: 최고급의 칠레산 은연어사용 【규격】±60g,±80g 【특징】연어살 98.5%, 천일염0.2% 혼합치즈1%,갈릭시즈닝0.5.% | G34: 2970
B35: 845 | C35: 치즈갈릭 칠레연어스테이크(silver Salmon) | D35: 칠레 | E35: 80g/개 | G35: 3960
A36: 구 분 | B36: 코드명 | C36: 제 품 명 | D36: 원산지 | E36: 단위 | F36: 특 징 | G36: 학교가 | H36: 과세/면세 | I36: 비고
A37: 새 우 튀 김 류 | B37: 800 | C37: 깐쇼새우 | D37: 수입산 | E37: 900g/봉 | F37: 새우(베트남),67.50%,밀가루(밀:미국산),13.10%,식물성유지(팜유),튀김가루(밀가루,전분,옥수수가루(밀가루,전분,옥수수가루,쌀가루,정제소금,포도당,후추가루,베이킹파우더,유화제,마늘향파우더,양파향파우더,비타민B-2,L-글루타민산나트륨,정제염,정제수,베이킹파우더 | G37: 24750 | H37: (부가세포함가격) *과세품목*
B38: 798 | C38: 감자말이 새우 | D38: 베트남산 | E38: kg | F38: 개당 20g (1kg=50개) 감자50%, 새우25%, 어육페이스트 25%(메기살 88.1%, 밀가루(밀)2%, 생선분(메기)2%,감자전분2%, 양파1.7%, 마늘1.7%, 설탕0.7%, 정제소금0.7%, L-글루타민산나트륨 (향미증진제)0.3%, 후추0.5%, 그린신(향미증진제)0.2%, 제삼인산나트륨0.1%) | G38: 37950
B39: 816 | C39: 빵가루 새우(튀김용)특대 | D39: 베트남산 | E39: 500g/10미 | F39: 50gx6마리 (마리당 18cm내외) 새우40%,백색빵가루27.3%(밀가루,정제수,대두유,설탕,소금,효모,프로피온산칼슘(합성보존료) 배터믹스15%(밀가루,타피오카전분,소금,식물성유지(팜유),구아검,밀단백질,L-글루타민산나트륨 (향미증진제),합성팽창제,유화제,향신료추출물(후추,옥수수)),오렌지색빵가루11.7%(밀가루,쇼트닝 (팜유),설탕,효모,소금,안나토색소,이스트푸드),프리더스트6%(타피오카전분,패각칼슘(가리비), 유화제,식물성유지(들깨유) | G39: 11250
B40: 817 | C40: 빵가루 새우(튀김용)대 | D40: 베트남산 | E40: 300g/10미 | F40: 30gx10마리 (마리당 12cm내외) 흰다리새우 30%,화이트팬코(밀가루,쇼트닝(팜유),설탕,효모,정제소금,이스트푸드]예로우팬코[밀가루,쇼트닝(팜유),설탕,효모,정제소금,안나토색소,이스트푸드],정제수,배터믹스[밀가루구아검,잔탄검,탈지대두분말,정제소금,분말지방(팜유ㅡ포도당시럽,카제인,폴리인산나트륨,이산화규소(고결방지제,)],변성전분(인산이전분),옥수수전분(유전자변형옥수수포함가능성있음), 밀가루,정제소금,새우,밀,대두유포함 | G40: 5700
...

Sheet 5813_다솔이네_1
A1: 5813_다솔이네_2024년+6월+녹채원+단가표수산.건어물.xlsx
A2: https://school062.com/bbs/board.php?bo_table=product_02&wr_id=5813
G3: ▲ | H3: ▼
A4: 다솔유통 062-603-4800 팩스 062-603-4801 제품문의및 홍보사원 010-3852-0618
A5: 제품명 | B5: 인증 | C5: 원산지 | D5: 단위 | E5: 6월 학교가 | G5: 냉동등락 | H5: 냉장등락 | I5: 제 품 특 징
E6: 냉동 | F6: 냉장
A7: 가자미토막 | B7: HACCP | C7: 러시아 /미국 | D7: KG | E7: 8200 | F7: 9600 | I7: * ±40g~80g * 비가식부위 제거(머리,꼬리,내장 등)
A8: 가자미토막(30g~50g) | C8: 국내산 | D8: KG | E8: 12800 | F8: 14200 | I8: * ±30g~50g * 비가식부위 제거(머리,꼬리,내장 등)
A9: 가자미토막(60g~80g) | C9: 국내산 | D9: KG | E9: 12800 | F9: 14200 | I9: * ±60g~80g * 비가식부위 제거(머리,꼬리,내장 등)
A10: 가자미유피포 | C10: 러시아 /미국 | D10: KG | E10: 14000 | F10: 0 | I10: * ±40g,~80g * 강정, 튀김용 / 머리,꼬리, 내장, 등뼈 제거후 절단
A11: 가자미탈피포 | C11: 러시아 /미국 | D11: KG | E11: 13900 | F11: 0 | G11: ▼ | I11: * ±40g * 탈피, 머리,꼬리, 내장, 등뼈 제거후 절단
A12: 갈치토막-남아공 | B12: HACCP | C12: 남아공/ 소말리아 | D12: KG | E12: 10800 | F12: 12200 | I12: * ±40g~100g * 비가식부위제거(머리,꼬리,내장 등) 후 절단
A13: 갈치토막(소) | B13: HACCP | C13: 국내산 | D13: KG | E13: 29000 | F13: 0 | I13: * ±40g / 연근해 선망 갈치 * 비가식부위제거(머리,꼬리,내장 등) 후 절단
A14: 갈치포 | C14: 국내산 | D14: KG | E14: 품절 | F14: 0 | G14: 품절 | I14: * ±20g~30g * 전처리된 갈치포를 절단
A15: 갈치포(수입산) | C15: 수입산 | D15: KG | E15: 20300 | F15: 0 | I15: * ±40g,~60g * 전처리된 갈치포를 절단
A16: 고등어토막 30~50g | B16: HACCP | C16: 국내산 | D16: KG | E16: 6800 | F16: 8200 | I16: * ±30g~50g * 비가식부위제거(머리,꼬리,내장 등) 후 절단
A17: 고등어토막 60~80g | B17: HACCP | C17: 국내산 | D17: KG | E17: 6800 | F17: 8200 | I17: * ±60g~80g * 비가식부위제거(머리,꼬리,내장 등) 후 절단
A18: 고등어구이 30~50g | B18: HACCP | C18: 국내산 | D18: KG | E18: 7200 | F18: 8600 | I18: * ±30g~50g * 비가식부위제거(머리,꼬리,내장 등) 후 절단
A19: 고등어구이 60~80g | B19: HACCP | C19: 국내산 | D19: KG | E19: 7200 | F19: 8600 | I19: * ±60g~80g * 비가식부위제거(머리,꼬리,내장 등) 후 절단
A20: 고등어구이(대) 60~80g | E20: 8600 | F20: 10000
A21: 간고등어구이(저염) 30~50g | B21: HACCP | C21: 국내산 | D21: KG | E21: 8000 | F21: 9400 | I21: * ±30g~50g * 고등어 99.06%,제재염0.94%
A22: 간고등어구이(저염) 60~80g | B22: HACCP | C22: 국내산 | D22: KG | E22: 8000 | F22: 9400 | I22: * ±60g~80g * 고등어 99.06%,제재염0.94%
A23: 고등어포 30~50g | B23: HACCP | C23: 국내산 | D23: KG | E23: 10300 | F23: 11700 | I23: * ±30g~50g * 순살 고등어
A24: 고등어포 60~80g | B24: HACCP | C24: 국내산 | D24: KG | E24: 10300 | F24: 11700 | I24: * ±60g~80g * 순살 고등어
A25: 간고등어포(저염) 30~50g | B25: HACCP | C25: 국내산 | D25: KG | E25: 10800 | F25: 12200 | I25: * ±30g~50g * 고등어98.77%, 제제염1.23% 순살고등어
A26: 간고등어포(저염) 60~80g | B26: HACCP | C26: 국내산 | D26: KG | E26: 10800 | F26: 12200 | I26: * ±60g~80g * 고등어98.77%, 제제염1.23% 순살고등어
A27: 녹차간고등어포 30~50g | B27: HACCP | C27: 국내산 | D27: KG | E27: 품절 | F27: 품절 | G27: 일시중단 | H27: 일시중단 | I27: * ±30g~50g * 고등어99.65%, 제제염0.3%,녹차가루0.05%
A28: 녹차간고등어포 60~80g | B28: HACCP | C28: 국내산 | D28: KG | E28: 품절 | F28: 품절 | G28: 일시중단 | H28: 일시중단 | I28: * ±60g~80g * 고등어99.65%, 제제염0.3%,녹차가루0.05%
A29: 꽁치토막 30~50g | B29: HACCP | C29: 국내산 | D29: KG | E29: 품절 | F29: 품절 | G29: 일시중단 | H29: 일시중단 | I29: * ±30g~50g * 비가식부위제거(머리,꼬리,내장 등) 후 절단
A30: 참대구토막-국내산 | B30: HACCP | C30: 국내산 | D30: KG | E30: 9400 | F30: 10800 | I30: * ±40g~80g * 비가식부위제거(머리,꼬리,내장 등) 후 절단
A31: 참대구토막-러시아산 | B31: HACCP | C31: 러시아 /미국 | D31: KG | E31: 12600 | F31: 14000 | I31: * ±40g~80g * 비가식부위제거(머리,꼬리,내장 등) 후 절단
A32: 민대구토막 | C32: 원양산 | D32: KG | E32: 8200 | F32: 9600 | I32: * ±40g~80g * 비가식부위제거(머리,꼬리,내장 등) 후 절단
A33: 참대구유피포 | C33: 미국산 | D33: KG | E33: 17100 | F33: 0 | I33: * ±40g,~80g * 강정, 튀김용 / 머리,꼬리, 내장, 등뼈 제거후 절단
A34: 참대구탈피포 | C34: 미국산 | D34: KG | E34: 21800 | F34: 0 | I34: * ±40g * 탈피, 머리,꼬리, 내장, 등뼈 제거후 절단
A35: 대구곤 | C35: 노르웨이 | D35: KG | E35: 11200 | F35: 0 | I35: *냉동블록상태
A36: 대구알 | C36: 러시아 /미국 | D36: KG | E36: 12900 | F36: 0 | I36: *냉동블록상태
A37: 동태토막 30~50g | B37: HACCP | C37: 러시아/ 미국 | D37: KG | E37: 7000 | F37: 8400 | G37: ▲ | H37: ▲ | I37: * ±30g~50g * 비가식부위제거(머리,꼬리,내장 등) 후 절단
A38: 동태토막 60~80g | B38: HACCP | C38: 러시아/ 미국 | D38: KG | E38: 7000 | F38: 8400 | G38: ▲ | H38: ▲ | I38: * ±60g~80g * 비가식부위제거(머리,꼬리,내장 등) 후 절단
A39: 동태전 30~40g | C39: 러시아/ 미국 | D39: KG | E39: 9600 | F39: 0 | I39: * ±30 ~ 40g * 슬라이스/전용/껍질제거
A40: 동태전 40~50g | C40: 러시아/ 미국 | D40: KG | E40: 9600 | F40: 0 | I40: * ±40 ~ 50g * 슬라이스/전용/껍질제거
...

Sheet 5813_다솔이네_2
A1: 5813_다솔이네_2024년+6월+녹채원+단가표수산.건어물.xlsx
A2: https://school062.com/bbs/board.php?bo_table=product_02&wr_id=5813
A3: 다솔유통 062-603-4800 팩스 062-603-4801 제품문의및 홍보사원 010-3852-0618
A4: ■햇살좋은바다(건어물)
A5: 구분 | B5: 제품명 | C5: 원산지 | D5: 단위 | E5: 6월 학교가 | F5: 등락 | G5: 제품특징
A6: 다 시 마 | B6: 건다시마(100G) | C6: 완도산 | D6: 봉 | E6: 3900 | G6: *100G *원초다시마를자연건조한것
B7: 건다시마(100G,8봉) | C7: 완도산 | D7: BOX | E7: 26700 | G7: *100G*8봉/박스 *원초다시마를자연건조한것
B8: 건다시마(100G,30봉) | C8: 완도산 | D8: BOX | E8: 94200 | G8: *100G*30봉/박스 *원초다시마를자연건조한것
B9: 건다시마(200G) | C9: 완도산 | D9: 봉 | E9: 6400 | G9: *200G *원초다시마를자연건조한것
B10: 건다시마(200G,8봉) | C10: 완도산 | D10: BOX | E10: 44900 | G10: *200G*8봉/박스 *원초다시마를자연건조한것
B11: 건다시마(200G,20봉) | C11: 완도산 | D11: BOX | E11: 108300 | G11: *200G*20봉/박스 *원초다시마를자연건조한것
B12: 건다시마(500G) | C12: 완도산 | D12: 봉 | E12: 12900 | G12: *500G *원초다시마를자연건조한것
B13: 건다시마(500G,4봉) | C13: 완도산 | D13: BOX | E13: 49000 | G13: *500G*4봉/박스 *원초다시마를자연건조한것
B14: 건다시마(500G,10봉) | C14: 완도산 | D14: BOX | E14: 120900 | G14: *500G*10봉/박스 *원초다시마를자연건조한것
B15: 건다시마(1KG) | C15: 완도산 | D15: KG | E15: 24600 | F15: ▲ | G15: *1Kg/봉 *원초다시마를자연건조한것
B16: 건다시마(1KG,7봉) | C16: 완도산 | D16: KG | E16: 166400 | F16: ▲ | G16: *1Kg*7봉/박스 *원초다시마를자연건조한것
B17: 기장 다시마(100g) (NEW) | C17: 기장산 | D17: 봉 | E17: 3700 | G17: *100G *원초다시마를자연건조한것
B18: 기장 다시마(100g,30봉) (NEW) | C18: 기장산 | D18: BOX | E18: 87900 | G18: *100G*30봉/박스 *원초다시마를자연건조한것
B19: 기장 다시마(200g) (NEW) | C19: 기장산 | D19: BOX | E19: 6300 | G19: *200G *원초다시마를자연건조한것
B20: 기장 다시마(200g,20봉) (NEW) | C20: 기장산 | D20: 봉 | E20: 106800 | G20: *200G*20봉/박스 *원초다시마를자연건조한것
B21: 기장 다시마(500g) (NEW) | C21: 기장산 | D21: BOX | E21: 13300 | G21: *500G *원초다시마를자연건조한것
B22: 기장 다시마(500g,10봉) (NEW) | C22: 기장산 | D22: BOX | E22: 124000 | G22: *500G*10봉/박스 *원초다시마를자연건조한것
B23: 기장 다시마(1kg) (NEW) | C23: 기장산 | D23: 봉 | E23: 24600 | G23: *1Kg/봉 *원초다시마를자연건조한것
B24: 기장 다시마(1kg,7봉) (NEW) | C24: 기장산 | D24: BOX | E24: 164900 | G24: *1Kg*7봉/박스 *원초다시마를자연건조한것
B25: 뿌리 다시마 (100g) (NEW) | C25: 완도산 | D25: 봉 | E25: 3800 | G25: *100G *원초다시마를자연건조한것
B26: 뿌리 다시마 (100g,30봉) (NEW) | C26: 완도산 | D26: BOX | E26: 82400 | G26: *100G*30봉/박스 *원초다시마를자연건조한것
B27: 뿌리 다시마 (200g) (NEW) | C27: 완도산 | D27: BOX | E27: 6000 | G27: *200G *원초다시마를자연건조한것
B28: 뿌리 다시마 (200g,20봉) (NEW) | C28: 완도산 | D28: 봉 | E28: 106800 | G28: *200G*20봉/박스 *원초다시마를자연건조한것
... B31: 뿌리 다시마 (1kg) (NEW) | C31: 완도산 | D31: KG | E31: 21800 | G31: *1Kg/봉 *원초다시마를자연건조한것
B32: 뿌리 다시마 (1kg,7봉) (NEW) | C32: 완도산 | D32: KG | E32: 142900 | F32: ▼ | G32: *1Kg*7봉/박스 *원초다시마를자연건조한것
A33: 미역 | B33: 건미역(100G) | C33: 완도산 | D33: 봉 | E33: 4000 | G33: *100G *원초미역을자연건조한것
B34: 건미역(100G,8봉) | C34: 완도산 | D34: BOX | E34: 28300 | G34: *100G*8봉/박스 *원초미역을자연건조한것
B35: 건미역(100G,20봉) | C35: 완도산 | D35: BOX | E35: 64400 | G35: *100G*20봉/박스 *원초미역을자연건조한것
B36: 건미역(200G) | C36: 완도산 | D36: 봉 | E36: 6300 | G36: *200G *원초미역을자연건조한것
B37: 건미역(200G,6봉) | C37: 완도산 | D37: BOX | E37: 34500 | G37: *200G*6봉/박스 *원초미역을자연건조한것
B38: 건미역(200G,10봉) | C38: 완도산 | D38: BOX | E38: 55700 | G38: *200G*10봉/박스 *원초미역을자연건조한것
B39: 건미역(500G) | C39: 완도산 | D39: 봉 | E39: 13800 | G39: *500G *원초미역을자연건조한것
B40: 건미역(1KG) | C40: 완도산 | D40: KG | E40: 26500 | G40: *500g*2봉/박스 *원초미역을자연건조한것
B41: 건미역(500G,6봉) | C41: 완도산 | D41: 봉 | E41: 78500 | G41: *500g*6봉/박스 *원초미역을자연건조한것
B42: 컷트미역(100G) | C42: 완도산 | D42: 봉 | E42: 5400 | G42: *100g/봉 *원초미역을자연건조하여자름
...

Sheet 5821_호남푸드_1
A1: 5821_호남푸드_슬로우24,6월단가5최종12+3.xlsx
A2: https://school062.com/bbs/board.php?bo_table=product_02&wr_id=5821
A3: The 슬로우 메 이 드
A4: 홍보담당 장선아/ 010-9602-5236 / 호남푸드 576-0993
A5: 구분 | B5: 제품 | C5: 제품명 | D5: 규격 | E5: 봉당입수 | F5: 개당단가 | G5: 봉단가 | H5: 원재료명 및 함량
C6: 블랙 타이거 치즈새우 | D6: 450g | E6: 45g*10 | F6: 2332 | G6: 23320 | H6: 새우(85%),모짜렐라치즈11%(우유,소금,락토코커스락티스.우유응고효소,)프리더스트(변성전분,난백분말,소금,옥수수전분,팜유.글리세린지방산에스테르)
C7: 스페셜 버터갈릭 미트볼+이탈리인프레쉬화이트소스200g | D7: 1kg | E7: 25g*40 | F7: 494 | G7: 19750 | H7: 돼지고기(국내산,뒷다리살78.5%,지방포함)풍미가득버터갈릭소스(마요네즈(식물성유지,(외국산:아르헨티나,미국,중국등)정제수,난황백(계란:국산)정제소금(국산)
C8: 스페셜 버터갈릭 미트볼 | D8: 1kg | E8: 25g*40 | F8: 420 | G8: 16820 | H8: 돼지고기(국내산,뒷다리살78.5%,지방포함)풍미가득버터갈릭소스(마요네즈(식물성유지,(외국산:아르헨티나,미국,중국등)정제수,난황백(계란:국산)정제소금(국산)
C9: 모과청 한돈 갈비 로스트갈릭소스200g | D9: 900g | E9: 75g*12 | F9: 1457 | G9: 17480 | H9: 돼지갈비살(국산)32.61%,돼지고기(국산)30.11%,돼지지방(국산)7.53%,모과청0.4%(모과:60%,국산),배퓌래,파인애플퓌래
C10: 모과청 한돈 갈비 | D10: 900g | E10: 75g*12 | F10: 1300 | G10: 15610 | H10: 돼지갈비살(국산)32.61%,돼지고기(국산)30.11%,돼지지방(국산)7.53%,모과청0.4%(모과:60%,국산),배퓌래,파인애플퓌래
C11: 조선의떡갈비왕+풍미가득 버터갈릭소스240g | D11: 1.2kg | E11: 100g*12 | F11: 단종 | H11: 돼지고기(갈비살:국산)36.3%,돼지고기(정육:국산)27.22% 돈지방(국산)6.05%,쇠고기(정육:국산)3.02%,닭고기(정육:국산)3.02%,마늘 대파,숯불갈비맛액기스
C12: 조선의떡갈비왕 | D12: 1.2kg | E12: 100g*12 | H12: 돼지고기(갈비살:국산)36.3%,돼지고기(정육:국산)27.22% 돈지방(국산)6.05%,쇠고기(정육:국산)3.02%,닭고기(정육:국산)3.02%,마늘 대파,숯불갈비맛액기스
C13: 투움바 함박 스테이크스테이크잘라흘러나오는투움바소스찍어드세요 | D13: 800g | E13: 80g×10 | F13: 단종 | H13: 돼지고기51.66%(뒷다리/국내산),돈지방(국산),투움바소스21.06%,냉동양파,건빵가루,드-미글라스소스
C14: 브리또8호(20cm) | E14: 12장 | F14: 단종
