Workbook

Sheet 5750_나결_1
A1: 5750_나결_2024년+6월+싱싱플러스+수산+단가표.xlsx
A2: https://school062.com/bbs/board.php?bo_table=product_02&wr_id=5750
A3: 제품명 | B3: 규격 (포장단위) | C3: 학교가 | E3: 제품설명 | F3: 알레 르기 | G3: HACCP 인증 | H3: 보관 유통기한
C4: 개단가 | D4: 규격단가
A5: 5 無 : 아질산나트륨, 소르빈산칼륨, 에리소르빈산나트륨,합성색소,전분 6 無 : 아질산나트륨, 소르빈산칼륨, 에리소르빈산나트륨,합성색소,전분,아질산나트륨 9 無 : 아질산나트륨, 소르빈산칼륨, 에리소르빈산나트륨,합성색소,전분,아질산나트륨,합성스모크향,카제인나트륨,L-글루타민나트륨
A6: 건멸치(볶음용/지리) | B6: kg | D6: 43560 | E6: 국내산,2cm 내외
A7: 건멸치(조림용/가이리) | B7: kg | D7: 43560 | E7: 국내산,2~3.5cm내외
A8: 건다시멸치(국물용/A급) | B8: kg | D8: 37880 | E8: 국내산
A9: 건미역 | B9: kg | D9: 34090 | E9: 완도
A10: 조미김가루 | B10: kg | D10: 66290 | E10: 국산
A11: 혼합다시/5종/국물용 | B11: kg | D11: 37880 | E11: 국산/수입,다시멸치,다시마 건새우, 건표고,북어머리
A12: [새우]왕새우튀김 30g | B12: 300g (30g*10ea) | D12: 4920 | E12: 흰다리새우33%(Penaeus Vannamei), 배터믹스25.00%,황색빵가루18,50%, 백색빵가루18.50%프리더스트5.00% | F12: 1,5,6,9 | H12: 냉동 2년
A13: [새우]왕새우튀김 40g | B13: 400g (40g*10ea) | D13: 8910 | E13: 새우30%, 화이트펜코20%, 옐로우펜코20% 정제수15%, 베타믹스5%, 변성전분 | F13: 1,5,6,9
A14: [새우]왕새우튀김 50g | B14: 500g (50g*10ea) | D14: 10780 | E14: 새우33% | F14: 1,5,6,9
A15: 싱싱 알찬 깐쇼새우 | B15: 1kg (80개 내외) | D15: 22500 | E15: 새우(베트남)58.5%,밀가루, 빵가루외 | F15: 2,5,6, 9,16 | G15: O | H15: 냉동 9개월
A16: [새우]감자말이새우 30g | B16: 300g (30g*10ea) | D16: 8440 | E16: 감자61.37%, 어육(실꼬리돔)21.13%, 새우 15%타피오카전분1.2%, 설탕0.4%, 쪽파, 정제소금, 후추, 마늘, 재삼인산나트륨 | F16: 1,5,6,9 | H16: 냉동 2년
A17: [새우]수제 버터플라이 새우 300g | B17: 300g (30g*10ea) | D17: 7190 | E17: 새우40%, 정제수18.58%, 빵가루(BE-6FH)15%, | F17: 1,5,6,9 | H17: 냉동 2년
A18: [새우]통큰쉬림프까스 60g*10ea | B18: 600g (60g*10ea) | D18: 12970 | E18: . | F18: 1,5,6,9 | H18: 냉동 2년
A19: [새우]통큰쉬림프까스 80g*10ea | B19: 800g (80g*10ea) | D19: 16410 | E19: 새우 60%(베트남) | F19: 1,5,6,9
A20: 통살 쉬림프 버거 세트 110g (통살 쉬림프 까스 60g + 버거50g) | B20: 1100g (110g*10ea) | D20: 2200 | E20: 통큰 쉬림프까스: 새우(베트남)60%, 브리오슈 번50g:밀(미국,캐나다산),설탕,전란액(계란:국내산) ,마가린, 야자경화유,가공버터,식물성크림,정제소금외 | F20: 1,2,5,6,9 | G20: O | H20: 패티:냉동 9개월,브리오슈: 냉동3개월
A21: 통살 쉬림프 버거 세트 130g (통살 쉬림프 까스 80g + 버거50g) | B21: 1300g (13g*10ea) | D21: 2560
A22: 오감 통살 오징어탕수 | B22: 1kg | D22: 16440 | E22: 오징어몸채(대왕오징오몸통100%/외국산;칠레,페루,중국등)진미채배터,밀가루/(밀;호주산,미국산),정제소금(국내산)20%,정제수,팜유(말레이시아산),매운맛염지제4호 | F22: 5.6.17 | G22: O | H22: 냉동 9개월
A23: 오감 통살 오징어탕수+탕수육소스 | B23: 1kg | D23: 17980 | F23: 5.6.17.
A24: 싱싱 신당동 꼬치어묵 | B24: 1000g(40g*25) | D24: 15780 | E24: 냉동연육75%(외국산:베트남,파키스탄,중국,인도,태국등/어육,설탕폴리인산나트륨),밀가루(밀:호주산,미국산),당근(국내산)파(중국산), D-자일로스,대두유,가공소금,L-글루탐산나트륨,글루코노-Q-락톤,소브산칼륨(보존료),혼합제제(피로인산나트륨,폴리인산나트륨) | F24: 5.6 | G24: O | H24: 냉동 18개월
A25: 싱싱 신당동 사각 부산 진어묵 | B25: 1000g | D25: 6330 | E25: 냉동연육65%(외국산:베트남,파키스탄,중국,인도,태국등/어육,설탕폴리인산나트륨),밀가루(밀:호주산,미국산),당근(국내산)파(중국산), D-자일로스,대두유,가공소금,L-글루탐산나트륨,글루코노-Q-락톤,소브산칼륨(보존료),혼합제제(피로인산나트륨,폴리인산나트륨) | F25: 5.6 | G25: O | H25: 냉장16일
A26: 야채 오징어 어묵바 50g | B26: 1kg (50g*20ea) | D26: 16720 | E26: 냉동연육73%(외국산:베트남,파키스탄,중국,인도,태국등/어육,설탕폴리인산나트륨),밀가루14%(밀:호주산,미국산),오징어(8%), 파(1.3%), 가공소금(1.1%), 당근(1%), 콩기름(1%), 소브산칼륨(0.2%), 혼합제제(0.2%)(피로인산나트륨), 글루타민산나트륨(0.%1)글루타민산나트륨제제(0.1%) | F26: 5,6,17 | G26: O | H26: 냉동 18월
A27: 해물모듬-찌게용 | B27: 1kg | D27: 9920 | E27: 오징어(칠레)33.3%,홍합살(칠레,중국)24.4%,바지락살(중국)13.3%,칵테일새우(베트남)4.4%,홍새우살(중국)4.4%,솔방울오징어(중국)4.4%,자숙새우살 외 | F27: 9,17,18 | H27: 냉동 1년
A28: 해물모듬-볶음용 | B28: 1kg | D28: 9300 | E28: 오징어(칠레)28%,홍합살(칠레,중국)25%,바지락살(중국)25%,솔방울오징어(중국)8%,홍새우살(중국)7%,칵테일새우(베트남)7% <성분배합은 작업과정중 다소 차이가 있을수 있습니다> | F28: 9,17,18

Sheet 5790_삼청_1
A1: 5790_삼청_2024년+6월+에프앤에프++홍보코너+단가표.xls
A2: https://school062.com/bbs/board.php?bo_table=product_02&wr_id=5790
A3: 2024년 6월 단가표
A4: 공지사항 | B4: 국내산 오징어 원료부족으로 재고소진시 절품예정(오징어가공류)
A5: 인상품목 | B5: 별첨참조
A6: 인하품목 | B6: 별첨참조
A7: 신제품 | B7: 킹타이거 할복새우(100g /130g)/다슬기(국산)
A8: 할인제외 품 목 | B8: 별첨참조
A9: 절품 | B9: 날치알(레드)/네모난명태까스/랍스트하프(250-170g)

Sheet 5790_삼청_2
A1: 5790_삼청_2024년+6월+에프앤에프++홍보코너+단가표.xls
A2: https://school062.com/bbs/board.php?bo_table=product_02&wr_id=5790
F3: TEL: 062) 524-7757
F4: 식품의약품안전처 HACCP지정업소
F5: 어류,연체류 HACCP지정
C6: ※ 원료사정에 의해 산지가 변동될수있습니다.
A7: 24년 6월
A8: 제품명 | B8: 원산지 | C8: 중량 | D8: 규격 | E8: 학교가 | F8: 비고 | G8: 규격/특징/성분함량
A9: 양념붕장어세트 | B9: 통영산 | C9: 1kg | D9: 소자(냉장) (장어1kg+소스200g) (60-90g) | E9: 25200 | F9: 할인제외 | G9: 활장어 상태에서 작업 후 소스 혼입된 제품
C10: 1kg | D10: 중자(냉장) (장어1kg+소스200g) (120-150g) | E10: 26800
A11: 장문뽈락순살 (PBO제품) | B11: 미국 | C11: 1kg | D11: 냉동 | E11: 17300 | F11: 할인제외 | G11: 【규격】±40g/50g(토막) 70g/80g(온포) 【사양】순살
A12: 킹타이거새우 (할복구이용) | B12: 말레이시아 | C12: ±130g (개당) | D12: 치즈와 파슬리조합 추천 (대리점 자체세트구성) | E12: 10200 | F12: 할인제외
A13: 킹타이거새우 (할복구이용) | B13: 말레이시아 | C13: ±100g (개당) | D13: 치즈와 파슬리조합 추천 (대리점 자체세트구성) | E13: 8700 | F13: 할인제외
A14: 킹타이거새우 (할복구이용) | B14: 말레이시아 | C14: ±85g (개당) | D14: 치즈와 파슬리조합 추천 (대리점 자체세트구성) | E14: 7100 | F14: 할인제외
A15: 킹타이거새우 (할복구이용) | B15: 말레이시아 | C15: ±62g (개당) | D15: 치즈와 파슬리조합 추천 (대리점 자체세트구성) | E15: 4100 | F15: 할인제외
A16: 절단문어살 (솥밥용) | B16: 인도네시아 | C16: 800g | D16: 【사양】문어살절단 | E16: 24400 | F16: 할인제외 | G16: 【사양】자숙
A17: 잔가시없는 고등어순살 (PBO제품) | B17: 국산 | C17: 1kg | D17: 【규격】±40g/50g(토막) 【사양】순살 | E17: 15800 | F17: 할인제외
A18: 잔가시없는 고등어순살 (PBO제품) | B18: 국산 | C18: 1kg | D18: 【규격】±51g/80g(토막) 【사양】순살 | E18: 17800 | F18: 할인제외
A19: 랍스타(자숙)-하프형태 (바다가재) | B19: 캐나다 | C19: 200-235g (개당) | E19: 11300 | F19: 할인제외 | G19: 【사양】자숙 랍스타를 하프 형태로 절단한 제품(1/2토막)
A20: 훈제된 삼치순살 (PBO제품) | B20: 국산 | C20: 1kg | D20: 냉동 | E20: 24700 | F20: 신제품(할인제외) | G20: 【규격】±40g~±80g 【사양】 훈제과정을 거쳐서 쫄깃하고 불향을 느낄수 있는 제품
A21: 훈제된 방어순살 (PBO제품) | B21: 국산 | C21: 1kg | D21: 냉동 | E21: 18800 | F21: 신제품(할인제외) | G21: 【규격】±40g~±80g 【사양】 훈제과정을 거쳐서 쫄깃하고 불향을 느낄수 있는 제품
A22: 훈제된 연어순살 (PBO제품) | B22: 미국 | C22: 1kg | D22: 냉동 | E22: 31500 | F22: 신제품(할인제외) | G22: 【규격】±40g~±80g 【사양】 훈제과정을 거쳐서 쫄깃하고 불향을 느낄수 있는 제품
A23: 성형가리비관자살 | B23: 중국 | C23: 1kg | E23: 31500 | F23: 신제품(할인제외) | G23: 【사양】냉동/성형틀에 가공한제품(1kg에 32미) [1K 단위로 발주]
A24: 베이비크랩(꽃게) | B24: 베트남 | C24: 1kg | E24: 12300 | F24: 신제품(할인제외) | G24: 【사양】꽃게100%
A25: 붉은대게살 | B25: 국산 | C25: 700g | E25: 35400 | F25: 신제품(할인제외) | G25: 【사양】대게살85% , 조미액 외15% 다리살30%+몸통살70%

Sheet 5790_삼청_3
A1: 5790_삼청_2024년+6월+에프앤에프++홍보코너+단가표.xls
A2: https://school062.com/bbs/board.php?bo_table=product_02&wr_id=5790
H3: TEL: 062) 524-7757
H4: 식품의약품안전처 HACCP지정업소
H5: 어류,연체류 HACCP지정
C6: ※ 원료사정에 의해 산지가 변동될수있습니다.
B7: 24년 6월
A8: 어종 | B8: 제품명 | C8: 원산지 | D8: 규격 단위 | E8: 학교가(원/kg) | G8: 등락 | H8: 규격/특징/성분함량
E9: 냉동 | F9: 냉장
A10: 연 체 류 | B10: 오징어할복(유피)[1] | C10: 국산 | D10: 1kg | E10: 28700 | F10: 29900 | G10: (할인제외) | H10: 【사양】전처리 후 할복 * 품질인증은 냉동품에 한함
B11: 오징어할복(탈피)[2] | C11: 국산 | D11: 1kg | E11: 29100 | F11: 30400 | G11: (할인제외) | H11: 【사양】전처리 후 할복 탈피(다리,귀 탈피 X) * 품질인증은 냉동품에 한함
B12: 오징어몸통할복(유피)[3] | C12: 국산 | D12: 1kg | E12: 30200 | F12: 31500 | G12: (할인제외) | H12: 【사양】전처리 후 몸통 할복(귀포함) * 품질인증은 냉동품에 한함
B13: 오징어몸통할복(탈피)[4] | C13: 국산 | D13: 1kg | E13: 31000 | F13: 32300 | G13: (할인제외) | H13: 【사양】전처리 후 몸통 탈피 할복(귀포함) * 품질인증은 냉동품에 한함
B14: 오징어몸통할복(탈피)[5] | C14: 국산 | D14: 1kg | E14: 31400 | F14: 32600 | G14: (할인제외) | H14: 【사양】전처리 후 몸통 탈피 할복(귀제거) * 품질인증은 냉동품에 한함
B15: 오징어링(유피) [1] | C15: 국산 | D15: 1kg | E15: 30700 | F15: * | G15: ▲(할인제외) | H15: 【사양】몸통(귀제거) 링 절단 * 품질인증은 냉동품에 한함
B16: 오징어링(탈피) [2] | C16: 국산 | D16: 1kg | E16: 31500 | F16: * | G16: ▲(할인제외) | H16: 【사양】몸통탈피(귀제거) 후 링 절단 * 품질인증은 냉동품에 한함
B17: 오징어채유피(1)-개별분리 | C17: 국산 | D17: 1kg | E17: 26000 | F17: 29100 | G17: (할인제외) | H17: 【규격】±1cm x ±5cm 세절 【사양】비가식부 제거 후 세절(다리 有 껍질 有) * 품질인증은 냉동품에 한함
B18: 오징어채탈피(2)-개별분리 | C18: 국산 | D18: 1kg | E18: 26800 | F18: 29800 | G18: (할인제외) | H18: 【규격】±1cm x ±5cm 세절 【사양】비가식부 제거 후 세절(다리 有 껍질 無) * 품질인증은 냉동품에 한함
B19: 오징어몸통채(유피)[3]-개별분리 | C19: 국산 | D19: 1kg | E19: 29300 | F19: 31500 | G19: ▲(할인제외) | H19: 【규격】±1cm x ±5cm 세절 【사양】비가식부 제거 후 몸통 세절(다리 無 껍질 有) * 품질인증은 냉동품에 한함
B20: 오징어몸통채(탈피)[4]-개별분리 | C20: 국산 | D20: 1kg | E20: 30100 | F20: 32300 | G20: ▲(할인제외) | H20: 【규격】±1cm x ±5cm 세절 【사양】비가식부 제거 후 몸통 세절(다리 無 껍질 無) * 품질인증은 냉동품에 한함
B21: 오징어몸통채(탈피)[5]-개별분리 | C21: 국산 | D21: 1kg | E21: 30400 | F21: 32600 | G21: ▲(할인제외) | H21: 【규격】±1cm x ±5cm 세절 【사양】비가식부 제거 후 몸통 세절(다리 無 껍질 無 귀제거) * 품질인증은 냉동품에 한함
B22: 오징어사각 | C22: 국산 | D22: 1kg | E22: 일시절품 | H22: 【사양】몸통탈피(칼집 없음) ±3cm X ±4cm
B23: 오징어솔방울사각 | C23: 국산 | D23: 1kg | E23: 34700 | F23: * | G23: ▲(할인제외) | H23: 【사양】몸통탈피(칼집 넣음) ±3cm X ±4cm
B24: 오징어솔방울채 | C24: 국산 | D24: 1kg | E24: 32300 | F24: * | G24: ▲(할인제외) | H24: 【사양】몸통탈피(칼집 넣음) ±1cm X ±5cm
B25: 오징어다지기 | C25: 국산 | D25: 1kg | E25: 25200 | F25: 27600 | G25: (할인제외) | H25: 【사양】유피다지기(귀,다리포함)
B26: 오징어몸통다지기 | C26: 국산 | D26: 1kg | E26: 30700 | F26: 33100 | G26: ▲(할인제외) | H26: 【사양】유피몸통다지기
B27: 오징어순대(유피) | C27: 국산 | D27: 1kg | E27: 일시절품 | G27: (할인제외) | H27: 【사양】몸통만, 껍질 有, 다리 無
B28: 오징어순대(탈피) | C28: 국산 | D28: 1kg | E28: 일시절품 | G28: (할인제외) | H28: 【사양】몸통만, 껍질 無, 다리 無
B29: 오징어족 | C29: 국산 | D29: 1kg | E29: 일시절품 | G29: (할인제외) | H29: 【사양】오징어다리(다리분리)
B30: 오징어할복(유피)[1] | C30: 원양산 (포크랜드) | D30: 1kg | E30: 21300 | F30: * | G30: ▲(할인제외) | H30: 【사양】전처리 후 할복
B31: 오징어할복(탈피)[2] | C31: 원양산 (포크랜드) | D31: 1kg | E31: 22100 | F31: * | G31: ▲(할인제외) | H31: 【사양】전처리 후 할복 탈피(다리,귀 탈피 X)
B32: 오징어몸통할복(유피)[3] | C32: 원양산 (포크랜드) | D32: 1kg | E32: 24100 | F32: * | G32: ▲(할인제외) | H32: 【사양】전처리 후 몸통 할복(귀포함)
B33: 오징어몸통할복(탈피)[4] | C33: 원양산 (포크랜드) | D33: 1kg | E33: 25100 | F33: * | G33: ▲(할인제외) | H33: 【사양】전처리 후 몸통 탈피 할복(귀포함)
B34: 오징어몸통할복(탈피)[5] | C34: 원양산 (포크랜드) | D34: 1kg | E34: 25200 | F34: * | G34: ▲(할인제외) | H34: 【사양】전처리 후 몸통 탈피 할복(귀제거)
B35: 오징어칼집몸통할복 | C35: 원양산 (포크랜드) | D35: 1kg | E35: 일시절품 | H35: 【사양】전처리 후 칼집몸통 할복(귀제거)
B36: 오징어탈피칼집몸통할복 | C36: 원양산 (포크랜드) | D36: 1kg | E36: 일시절품 | H36: 【사양】전처리(탈피) 후 칼집몸통 할복(귀제거)
B37: 오징어링(유피) [1] | C37: 원양산 (포크랜드) | D37: 1kg | E37: 24600 | F37: * | G37: ▲(할인제외) | H37: 【사양】몸통(귀제거) 링 절단
B38: 오징어링(탈피) [2] | C38: 원양산 (포크랜드) | D38: 1kg | E38: 25400 | F38: * | G38: ▲(할인제외) | H38: 【사양】몸통탈피(귀제거) 후 링 절단
B39: 오징어채유피(1)-개별분리 | C39: 원양산 (포크랜드) | D39: 1kg | E39: 18900 | F39: * | G39: ▲(할인제외) | H39: 【규격】±1cm x ±5cm 세절 【사양】비가식부 제거 후 세절(다리 有 껍질 有)
B40: 오징어채탈피(2)-개별분리 | C40: 원양산 (포크랜드) | D40: 1kg | E40: 19800 | F40: * | G40: ▲(할인제외) | H40: 【규격】±1cm x ±5cm 세절 【사양】비가식부 제거 후 세절(다리 有 껍질 無)
B41: 오징어몸통채(유피)[3]-개별분리 | C41: 원양산 (포크랜드) | D41: 1kg | E41: 22200 | F41: * | G41: ▲(할인제외) | H41: 【규격】±1cm x ±5cm 세절 【사양】비가식부 제거 후 몸통 세절(다리 無 껍질 有)
B42: 오징어몸통채(탈피)[4]-개별분리 | C42: 원양산 (포크랜드) | D42: 1kg | E42: 23200 | F42: * | G42: ▲(할인제외) | H42: 【규격】±1cm x ±5cm 세절 【사양】비가식부 제거 후 몸통 세절(다리 無 껍질 無)
B43: 오징어몸통채(탈피)[5]-개별분리 | C43: 원양산 (포크랜드) | D43: 1kg | E43: 23500 | F43: * | G43: ▲(할인제외) | H43: 【규격】±1cm x ±5cm 세절 【사양】비가식부 제거 후 몸통 세절(다리 無 껍질 無 귀제거)
B44: 오징어솔방울채(유피) | C44: 원양산 (포크랜드) | D44: 1kg | E44: 일시절품 | H44: 【사양】몸통유피(칼집 넣음) ±1cm X ±5cm
B45: 오징어솔방울채(탈피) | C45: 원양산 (포크랜드) | D45: 1kg | E45: 25200 | F45: * | G45: ▲(할인제외) | H45: 【사양】몸통탈피(칼집 넣음) ±1cm X ±5cm
B46: 오징어솔방울사각 | C46: 원양산 (포크랜드) | D46: 1kg | E46: 27100 | F46: * | G46: ▲(할인제외) | H46: 【사양】몸통탈피(칼집 넣음) ±3cm X ±4cm
B47: 오징어다지기 | C47: 원양산 (포크랜드) | D47: 1kg | E47: 23600 | F47: 27600 | G47: 신규(할인제외) | H47: 【사양】유피다지기(귀,다리포함)
B48: 갑오징어채(유피) [1] | C48: 국산 | D48: 1kg | E48: 29800 | F48: 30200 | G48: (할인제외) | H48: 【규격】±1cm x ±5cm 세절 【사양】비가식부 제거 후 세절(다리 有 껍질 有)
B49: 갑오징어채(탈피) [2] | C49: 국산 | D49: 1kg | E49: 35400 | F49: 35900 | G49: (할인제외) | H49: 【규격】±1cm x ±5cm 세절 【사양】비가식부 제거 후 세절(다리 有 껍질 無)
B50: 갑오징어몸통채(유피)[3] | C50: 국산 | D50: 1kg | E50: 39400 | F50: 39900 | G50: (할인제외) | H50: 【규격】±1cm x ±5cm 세절 【사양】비가식부 제거 후 몸통 세절(다리 無 껍질 有)
B51: 갑오징어몸통채(탈피)[4] | C51: 국산 | D51: 1kg | E51: 44100 | F51: 44600 | G51: (할인제외) | H51: 【규격】±1cm x ±5cm 세절 【사양】비가식부 제거 후 몸통 세절(다리 無 껍질 無)
B52: 갑오징어몸통채(탈피)[5] | C52: 국산 | D52: 1kg | E52: 45000 | F52: 45500 | G52: (할인제외) | H52: 【규격】±1cm x ±5cm 세절 【사양】비가식부 제거 후 몸통 세절(다리 無 껍질 無 귀제거)
B53: 갑오징어할복(유피) [1] | C53: 국산 | D53: 1kg | E53: 29800 | F53: 30200 | G53: (할인제외) | H53: 【사양】전처리 후 할복
B54: 갑오징어할복(탈피) [2] | C54: 국산 | D54: 1kg | E54: 35400 | F54: 35900 | G54: (할인제외) | H54: 【사양】전처리 후 탈피 할복(귀,다리탈피 X)
B55: 갑오징어몸통할복(유피)[3] | C55: 국산 | D55: 1kg | E55: 39400 | F55: 39900 | G55: (할인제외) | H55: 【사양】전처리 후 몸통 할복(귀포함)
B56: 갑오징어몸통할복(탈피)[4] | C56: 국산 | D56: 1kg | E56: 44100 | F56: 44600 | G56: (할인제외) | H56: 【사양】전처리 후 몸통 탈피 할복(귀포함)
B57: 갑오징어몸통할복(탈피)[5] | C57: 국산 | D57: 1kg | E57: 45000 | F57: 45500 | G57: (할인제외) | H57: 【사양】전처리 후 몸통 탈피 할복(귀제거)
B58: 갑오징어족 | C58: 국산 | D58: 1kg | E58: * | F58: 24400 | G58: (할인제외) | H58: 【사양】갑오징어다리(다리분리)
B59: 갑오징어솔방울사각 | C59: 국산 | D59: 1kg | E59: 46300 | F59: 46800 | G59: (할인제외) | H59: 【사양】몸통탈피(칼집넣음) ±3cm X ±4cm
B60: 갑오징어솔방울채 | C60: 국산 | D60: 1kg | E60: 46300 | F60: 46800 | G60: (할인제외) | H60: 【사양】몸통탈피(칼집넣음) ±1cm X ±5cm
B61: 베이비갑오징어 | C61: 수입 | D61: 1kg | E61: 19700 | F61: * | H61: 【사양】전처리 후 할복(탈피)
B62: 한치할복 | C62: 국산 | D62: 1kg | E62: * | F62: 30700 | H62: 【사양】내장제거 온마리
B63: 한치채 | C63: 국산 | D63: 1kg | E63: * | F63: 30700 | H63: 【사양】±5cm이상 세절
B64: 탈피한치채 | C64: 국산 | D64: 1kg | E64: * | F64: 36400 | H64: 【사양】±5cm이상 탈피 세절
B65: 탈피한치회 | C65: 국산 | D65: 1kg | E65: * | F65: 36400 | H65: 【사양】±0.7cm 탈피 세절
B66: 낙지(온마리) | C66: 중국산 | D66: 1kg | E66: 15000 | F66: * | H66: 【규격】±온마리(내장제거) 300-400g/미당 【사양】블럭
B67: 낙지채 | C67: 국산 | D67: 1kg | E67: 37000 | F67: 44300 | H67: 【규격】±5cm 세절 【사양】세절
B68: 낙지채 | C68: 중국산 | D68: 1kg | E68: 20300 | F68: 23600 | H68: 【규격】±5cm 세절 【사양】세절
B69: 낙지채-국내가공 | C69: 중국산 | D69: 1kg | E69: 22100 | F69: 23600 | H69: 【규격】±5cm 세절 【사양】세절
B70: 낙지채(IQF) | C70: 중국산 | D70: 1kg | E70: 21300 | F70: * | H70: 【규격】±5cm 세절, IQF 개별분리 【사양】세절
B71: 호롱낙지-이물질 제거작업 | C71: 중국산 /베트남 | D71: ±34-38g (미당) | E71: 1000 | F71: *
B72: 낙지채 | C72: 베트남산 | D72: 1kg | E72: 20300 | F72: 23600 | H72: 【규격】±5cm 세절 【사양】세절, 500g 또는 550g/블록
B73: 주꾸미 | C73: 베트남산 | D73: 1kg | E73: 16500 | F73: 20500 | H73: 【사양】내장제거, 온마리
B74: 베이비주꾸미 | C74: 베트남산 | D74: 1kg | E74: 16500 | F74: 20500 | H74: 60-70미/1kg 【사양】내장제거, 온마리
B75: 주꾸미채 | C75: 인도네시아/ 베트남 | D75: 1kg | E75: 18100 | F75: 21700 | G75: ▲ | H75: 【규격】±4cm 세절 【사양】세절
B76: 주꾸미채(개별분리) | C76: 베트남산 | D76: 1kg | E76: 21000 | F76: * | G76: ▲ | H76: 【규격】±4cm 세절 / 다리2개분리 【사양】세절
B77: 소라주꾸미채 | C77: 인도네시아/ 베트남 | D77: 1kg | E77: 19500 | F77: * | H77: 【사양】내장제거, 세절 / 최상품 원료로 사용
B78: 소라주꾸미소스 | D78: 1kg | E78: 14200 | F78: * | H78: 【소스성분】고추장(미국,호주), 고추가루외
B79: 소라주꾸미채세트 | C79: 인도네시아/ 베트남 | D79: 1kg | E79: 22800 | F79: * | G79: 할인제외 | H79: 【사양】소라주꾸미채1kg + 소스250g 증정 발주시 소라주꾸미채 kg로 발주
B80: 활주꾸미 | C80: 국산 | D80: 1kg | E80: 40300 | F80: 48000 | H80: 【규격】±온마리(내장제거) 100-200g/미당 【사양】할복
B81: 활주꾸미채 | C81: 국산 | D81: 1kg | E81: 40300 | F81: 48000 | H81: 【규격】±5cm 세절 【사양】세절
B82: 생물문어 | C82: 국산 | D82: 1kg | E82: * | F82: 52900 | H82: 【사양】온마리, 내장포함
B83: 생물문어(내장제거) | C83: 국산 | D83: 1kg | E83: * | F83: 56700 | H83: 【사양】온마리, 내장제거
B84: 냉동문어 | C84: 국산 | D84: 1kg | E84: 39400 | F84: * | G84: 재공급 | H84: 【사양】온마리, 내장포함
B85: 냉동문어(내장제거) | C85: 국산 | D85: 1kg | E85: 43300 | F85: * | H85: 【사양】온마리, 내장제거
B86: 절단문어살(솥밥용) | C86: 인도네시아 | D86: 800g | E86: 24400 | F86: * | H86: 【사양】자숙,[800g 단위 발주]
A87: 젓 갈 류 | B87: 새우젓 | C87: 국산 | D87: 1kg | E87: * | F87: 16400 | H87: 【사양】새우 75%, 식염 25% [kg단위 발주]
B88: 새우젓 | C88: 국산 | D88: 500g | E88: * | F88: 9800 | H88: 【사양】새우 75%, 식염 25% [0.5kg단위 발주]
B89: 오징어젓갈 | C89: 국산 | D89: 1kg | E89: * | F89: 33600 | H89: 【사양】껍질有(양념처리),몸통 5cm*3.5cm ,다리길이 1-1.5cm
B90: 낙지젓갈 | C90: 중국 | D90: 1kg | E90: * | F90: 29800 | H90: 【사양】껍질有(양념처리),몸통 5cm*3.5cm ,다리길이 1-1.5cm
B91: 명란젓 | C91: 러시아 (국내가공) | D91: 1kg | E91: 29900 | F91: * | H91: 【사양】명란81.5%, 정제염7.5%, 고추가루 외
B92: 갈치젓 | C92: 국산 | D92: 1kg | E92: 18300 | F92: * | G92: 신제품 | H92: 【사양】갈치젓81.5%, 정제염7.5%, 고추가루 외
A93: 랍 스 타 | B93: 랍스타(자숙)-하프형태 (바다가재) | C93: 캐나다 | D93: 160-175g (개당) | E93: 11300 | F93: * | H93: 【사양】자숙 랍스타를 하프 형태로 절단한 제품(1/2토막)
B94: 랍스타(자숙)-하프형태 (바다가재) | C94: 캐나다 | D94: 200-235g (개당) | E94: 11300 | F94: * | H94: 【사양】자숙 랍스타를 하프 형태로 절단한 제품(1/2토막)
B95: 랍스타(자숙)-하프형태 (바다가재) | C95: 캐나다 | D95: 255-295g (개당) | E95: 일시절품 | H95: 【사양】자숙 랍스타를 하프 형태로 절단한 제품(1/2토막)
B96: 랍스타테일(바다가재꼬리) (자숙아님) | C96: 캐나다 | D96: 110-120g (개당) | E96: 일시절품 | H96: 【사양】 랍스타 꼬리부분
B97: 랍스타테일(바다가재꼬리) (자숙아님) | C97: 캐나다 | D97: 130-140g (개당) | E97: 일시절품 | H97: 【사양】 랍스타 꼬리부분
A98: 새 우 류 | B98: 새우살(I.Q.F) | C98: 국산 | D98: 1kg | E98: 40500 | F98: * | G98: ▲ | H98: 【사양】I.Q.F 개별동결
B99: 새우살(I.Q.F) | C99: 중국산 | D99: 1kg | E99: 18800 | F99: * | H99: 【사양】I.Q.F 개별동결
B100: 생새우살 | C100: 국산 | D100: 1kg | E100: * | F100: 45200 | G100: ▲ | H100: 【사양】냉장,두절,탈각
...

Sheet 5790_삼청_4
A1: 5790_삼청_2024년+6월+에프앤에프++홍보코너+단가표.xls
A2: https://school062.com/bbs/board.php?bo_table=product_02&wr_id=5790
H3: TEL: 062) 524-7757
H4: 식품의약품안전처 HACCP지정업소
H5: 어류,연체류 HACCP지정
C6: ※ 원료사정에 의해 산지가 변동될수있습니다.
B7: 24년 6월 | H7: 단위 :원/kg
A8: 어종 | B8: 제품명 | C8: 원산지 | D8: 규격 단위 | E8: 학교가(원/kg) | G8: 등락 | H8: 규격/특징/성분함량
E9: 냉동 | F9: 냉장
A10: 가자미 | B10: 가자미 | C10: 미국/러시아 | D10: 1kg | E10: 8700 | F10: 9600 | H10: 【규격】±40g~±100g 【사양】두절, 내장, 지느러미, 꼬리 제거 후 절단
B11: 가자미 | C11: 국산 | D11: 1kg | E11: 15800 | F11: 16700 | H11: 【규격】±40g~±100g 【사양】두절, 내장, 지느러미, 꼬리 제거 후 절단
B12: 가자미순살(탈피) | C12: 미국/러시아 | D12: 1kg | E12: 14700 | F12: * | H12: 【규격】±30g~±50g 【사양】전처리된 가자미순살 (껍질 無)
B13: 가자미순살(유피) | C13: 미국/러시아 | D13: 1kg | E13: 13900 | F13: * | H13: 【규격】±30~±60g 【사양】전처리된 가자미순살 (껍질 有)
B14: 가자미살강정 | C14: 러시아산 | D14: 1kg | E14: 11800 | F14: * | H14: 【규격】±9g~±10g 【사양】강정용(2cm*2cm)
A15: 갈치 | B15: 갈치 | C15: 모로코/남아공 | D15: 1kg | E15: 10600 | F15: 11500 | H15: 【규격】±40g~±100g 【사양】두절, 내장, 지느러미, 꼬리 제거 후 절단
C16: 세네갈 | D16: 1kg | E16: 10600 | F16: 11500 | G16: 사이즈구분 | H16: 【규격】±40g~±50g 【사양】두절, 내장, 지느러미, 꼬리 제거 후 절단
C17: 세네갈 | D17: 1kg | E17: 13400 | F17: 14500 | H17: 【규격】±60g~±100g 【사양】두절, 내장, 지느러미, 꼬리 제거 후 절단
B18: 제주은갈치 -10cm기준 | C18: 국산 | D18: 1kg | E18: 30700 | F18: 32300 | H18: 【규격】±40g~±60g 【사양】두절, 내장, 지느러미, 꼬리 제거 후 절단
B19: 제주은갈치 -10cm기준 | C19: 국산 | D19: 1kg | E19: 33100 | F19: 34700 | H19: 【규격】±61g~±70g 【사양】두절, 내장, 지느러미, 꼬리 제거 후 절단
B20: 갈치(中)-선망 | C20: 국산 | D20: 1kg | E20: 16500 | F20: 18100 | H20: 【규격】±30g~±50g 【사양】두절, 내장, 지느러미, 꼬리 제거 후 절단
B21: 바질향 갈치(중) | C21: 국산 | D21: 1kg | E21: 18100 | F21: * | H21: 【규격】±30g~±50g 【사양】갈치에 바질향 첨가
B22: 애플민트담은갈치(중) | C22: 국산 | D22: 1kg | E22: 18100 | F22: * | H22: 【규격】±30g~±50g 【사양】갈치에 애플민트 첨가
B23: 갈치(大)-선망 10cm기준 | C23: 국산 | D23: 1kg | E23: 28400 | F23: 29500 | H23: 【규격】±40g~±60g 【사양】두절, 내장, 지느러미, 꼬리 제거 후 절단
B24: 갈치(大)-선망 10cm기준 | C24: 국산 | D24: 1kg | E24: 31500 | F24: 33100 | H24: 【규격】±61g~±70g 【사양】두절, 내장, 지느러미, 꼬리 제거 후 절단
B25: 바질향 갈치(대) | C25: 국산 | D25: 1kg | E25: 31500 | F25: * | H25: 【규격】±30g~±60g 【사양】갈치에 바질향 첨가
B26: 애플민트담은갈치(대) | C26: 국산 | D26: 1kg | E26: 31500 | F26: * | H26: 【규격】±30g~±60g 【사양】갈치에 애플민트 첨가
B27: 라임담은 갈치 | C27: 세네갈 | D27: 1kg | E27: 15000 | F27: * | H27: 【규격】±30g~±80g 【사양】갈치에 라임농축액 첨가
B28: 레몬담은 갈치 | C28: 세네갈 | D28: 1kg | E28: 15000 | F28: * | H28: 【규격】±30g~±80g 【사양】갈치에 레몬농축액 첨가
B29: 함초담은 갈치 | C29: 세네갈 | D29: 1kg | E29: 15000 | F29: * | H29: 【규격】±30g~±80g 【사양】갈치에 함초분말 첨가
B30: 갈치순살 | C30: 국산 | D30: 1kg | E30: 17000 | F30: * | H30: 【규격】±20g~±30g 【사양】전처리된 갈치를 순살로 작업
C31: 수입 | D31: 1kg | E31: 22100 | H31: 【규격】±20g~±40g 【사양】전처리된 갈치를 순살로 작업
B32: 바질향 갈치순살 | C32: 국산 | D32: 1kg | E32: 18100 | F32: * | H32: 【규격】±20g~±30g 【사양】갈치순살에 바질향 첨가
B33: 애플민트담은갈치순살 | C33: 국산 | D33: 1kg | E33: 18100 | F33: * | H33: 【규격】±20g~±30g 【사양】갈치순살에 애플민트 첨가
B34: 레몬담은 갈치순살 | C34: 국산 | D34: 1kg | E34: 18100 | F34: * | H34: 【규격】±20g~±30g 【사양】갈치순살에 레몬 첨가
B35: 고등어(조림) | C35: 국산 | D35: 1kg | E35: 7100 | F35: 8400 | G35: (할인제외) | H35: 【규격】±40g~±100g 【사양】두절, 내장, 지느러미, 꼬리 제거 후 절단
B36: 고등어(구이) | C36: 국산 | D36: 1kg | E36: 8700 | F36: 9900 | G36: (할인제외) | H36: 【규격】±40g~±100g 【사양】두절, 내장, 지느러미, 꼬리 제거 후 절단
B37: 고등어순살 | C37: 국산 | D37: 1kg | E37: 11800 | F37: 13400 | G37: (할인제외) | H37: 【규격】±40g~±50g 【사양】전처리된 고등어를 순살로 작업
C38: 국산 | D38: 1kg | E38: 12600 | F38: 14200 | G38: (할인제외) | H38: 【규격】±51g이상 【사양】전처리된 고등어를 순살로 작업
B39: 반건조고등어순살 | C39: 국산 | D39: 1kg | E39: 17300 | F39: * | G39: (할인제외) | H39: 【규격】±30g~±70g 【사양】고등어순살100% 6시간 건조(8-10%건조율)
B40: 고등어(조림) 품질 | C40: 국산 | D40: 1kg | E40: 8700 | F40: * | G40: (할인제외) | H40: 【규격】±40g~±100g 【사양】두절, 내장, 지느러미, 꼬리 제거 후 절단 * 품질인증은 냉동품에 한함
B41: 고등어(구이) 품질 | C41: 국산 | D41: 1kg | E41: 9500 | F41: * | G41: (할인제외)
B42: 고등어순살 품질 | C42: 국산 | D42: 1kg | E42: 14200 | F42: * | G42: (할인제외) | H42: 【규격】±40g~±80g 【사양】전처리된 고등어를 순살로 작업 * 품질인증은 냉동품에 한함
B43: 잔가시없는고등어순살 (PBO제품) | C43: 국산 | D43: 1kg | E43: 15800 | F43: * | G43: (할인제외) | H43: 【규격】±40g~±50g 【사양】99% 가시제거
B44: 잔가시없는고등어순살 (PBO제품) | C44: 국산 | D44: 1kg | E44: 17800 | F44: * | G44: (할인제외) | H44: 【규격】±51g~±80g 【사양】99% 가시제거
B45: 노르웨이고등어순살 | C45: 노르웨이 | D45: 1kg | E45: 15600 | F45: 16400 | G45: (할인제외) | H45: 【규격】±40g~±80g 【사양】전처리된 고등어를 순살로 작업
B46: 잔가시없는고등어순살 (PBO제품) | C46: 노르웨이 | D46: 1kg | E46: 17300 | F46: * | G46: (할인제외) | H46: 【규격】±40g~±80g 【사양】99% 가시제거/40,50g 절단/60g이상은 온마리포
B47: 건강마늘 고등어순살 | C47: 국산 | D47: 1kg | E47: 15800 | F47: * | G47: (할인제외) | H47: 【규격】±40g~±80g 【사양】고등어95.4%,마늘분말2%,생강액기스2%,소금0.6%
B48: 키토산저염고등어순살 | C48: 국산 | D48: 1kg | E48: 12900 | F48: * | G48: (할인제외) | H48: 【규격】±40g~±80g 【사양】고등어99.03%,키토산염0.67%,정제염0.3%
B49: 애플민트담은고등어순살 | C49: 국산 | D49: 1kg | E49: 14200 | F49: * | G49: (할인제외) | H49: 【규격】±40g~±50g 【사양】고등어99.5%, 애플민트0.3%, 정제염0.2%
B50: 애플민트담은고등어순살 | C50: 국산 | D50: 1kg | E50: 15000 | F50: * | G50: (할인제외) | H50: 【규격】±51g~±80g 【사양】고등어99.5%, 애플민트0.3%, 정제염0.2%
B51: 웰빙녹차고등어순살 | C51: 국산 | D51: 1kg | E51: 15000 | F51: * | G51: (할인제외) | H51: 【규격】±40g~±80g 【사양】고등어96.4%,녹차분말2%,생강엑기스1%,소금0.3%
B52: 라임담은고등어순살 | C52: 국산 | D52: 1kg | E52: 14200 | F52: * | G52: (할인제외) | H52: 【규격】±40g~±50g 【사양】고등어99.5%, 라임농축액0.3%, 정제소금
B53: 라임담은고등어순살 | C53: 국산 | D53: 1kg | E53: 15000 | F53: * | G53: (할인제외) | H53: 【규격】±51g~±80g 【사양】고등어99.5%,라임농축액0.3%, 정제소금
B54: 레몬담은고등어순살 | C54: 국산 | D54: 1kg | E54: 14200 | F54: * | G54: (할인제외) | H54: 【규격】±40g~±50g 【사양】고등어99.5%, 레몬농축액0.3%, 정제소금
B55: 레몬담은고등어순살 | C55: 국산 | D55: 1kg | E55: 15000 | F55: * | G55: (할인제외) | H55: 【규격】±51g~±80g 【사양】고등어99.5%, 레몬농축액0.3%, 정제소금
B56: 발사믹고등어순살 | C56: 국산 | D56: 1kg | E56: 14200 | F56: * | G56: (할인제외) | H56: 【규격】±40g~±50g 【사양】고등어98%, 발사믹식초2%, 정제염수
B57: 발사믹고등어순살 | C57: 국산 | D57: 1kg | E57: 15000 | F57: * | G57: (할인제외) | H57: 【규격】±51g~±80g 【사양】고등어98%, 발사믹식초2%, 정제염수
... B60: 고등어살강정 | C60: 국산 | D60: 1kg | E60: 17300 | F60: * | G60: (할인제외) | H60: 【규격】±9g~±10g 【사양】강정형, 비정형적
A61: 꽁치 | B61: 꽁치 | C61: 원양/대만 | D61: 1kg | E61: 17300 | F61: 18600 | G61: (할인제외) | H61: 【규격】±40g~±80g 【사양】두절, 내장, 지느러미, 꼬리 제거 후 절단
A62: 삼치 | B62: 삼치(조림) | C62: 국산 | D62: 1kg | E62: 8700 | F62: 9900 | G62: (할인제외) | H62: 【규격】±40g~±100g 【사양】두절, 내장, 지느러미, 꼬리 제거 후 절단
B63: 삼치(구이) | C63: 국산 | D63: 1kg | E63: 12800 | F63: 13700 | G63: (할인제외) | H63: 【규격】±40g~±100g 【사양】두절, 내장, 지느러미, 꼬리 제거 후 절단
B64: 삼치순살 | C64: 국산 | D64: 1kg | E64: 15800 | F64: 17000 | G64: (할인제외) | H64: 【규격】±40g~±50g 【사양】전처리된 삼치를 순살로 작업
B65: 삼치순살 | C65: 국산 | D65: 1kg | E65: 16200 | F65: 17300 | G65: (할인제외) | H65: 【규격】±51g~±100g 【사양】전처리된 삼치를 순살로 작업
B66: 삼치(조림) | C66: 국산 | D66: 1kg | E66: 11000 | F66: * | G66: (할인제외) | H66: 【규격】±40g~±100g 【사양】두절, 내장, 지느러미, 꼬리 제거 후 절단 * 품질인증은 냉동품에 한함
B67: 삼치(구이) | C67: 국산 | D67: 1kg | E67: 14200 | F67: * | G67: (할인제외)
B68: 삼치순살 | C68: 국산 | D68: 1kg | E68: 18100 | F68: * | G68: (할인제외) | H68: 【규격】±40g~±100g 【사양】두절, 필렛, 내장, 지느러미, 꼬리 제거 후 절단
B69: 반건조삼치순살 | C69: 국산 | D69: 1kg | E69: 22100 | F69: * | G69: (할인제외) | H69: 【규격】±40g~±80g 【사양】삼치순살100% 6시간 건조(8-10%건조율)
B70: 잔가시없는삼치순살 | C70: 국산 | D70: 1kg | E70: 19700 | F70: * | G70: (할인제외) | H70: 【규격】±40g~±80g 【사양】삼치살 속 가시까지 99%제거
B71: 키토산저염삼치순살 | C71: 국산 | D71: 1kg | E71: 18900 | F71: * | G71: (할인제외) | H71: 【규격】±40g~±80g 【사양】삼치99.63%,키토산0.67%,정제소금
B72: 애플민트담은삼치순살 | C72: 국산 | D72: 1kg | E72: 19700 | F72: * | G72: (할인제외) | H72: 【규격】±40g~±80g 【사양】삼치살에 애플민트 첨가
B73: 라임담은삼치순살 | C73: 국산 | D73: 1kg | E73: 19700 | F73: * | G73: (할인제외) | H73: 【규격】±40g~±80g 【사양】삼치살에 라임농축액 첨가
B74: 레몬담은삼치순살 | C74: 국산 | D74: 1kg | E74: 19700 | F74: * | G74: (할인제외) | H74: 【규격】±40g~±80g 【사양】삼치살에 레몬농축액 첨가
B75: 발사믹삼치순살 | C75: 국산 | D75: 1kg | E75: 19700 | F75: * | G75: (할인제외) | H75: 【규격】±40g~±80g 【사양】삼치살에 발사믹식초, 정제염수 첨가
B76: 함초담은삼치순살 | C76: 국산 | D76: 1kg | E76: 19700 | F76: * | G76: (할인제외) | H76: 【규격】±40g~±80g 【사양】삼치살에 함초분말 첨가
B77: 훈제삼치순살(PBO제품) | C77: 국산 | D77: 1kg | E77: 24700 | F77: * | G77: (할인제외) | H77: 【규격】±40g~±80g 【사양】 훈제과정을 거쳐서 쫄깃하고 불향을 느낄수 있는 제품
B78: 삼치살강정 | C78: 국산 | D78: 1kg | E78: 17300 | F78: * | G78: (할인제외) | H78: 【규격】±10g~±12g 【사양】강정용, 비정형적
A79: 대구 | B79: 대구 | C79: 러시아산 | D79: 1kg | E79: 13900 | F79: 14800 | H79: 【규격】±40g~±100g 【사양】두절, 내장, 지느러미, 꼬리 제거 후 절단
B80: 민대구 | C80: 원양산 | D80: 1kg | E80: 10200 | F80: 11200 | H80: 【규격】±40g~±100g 【사양】두절, 내장, 지느러미, 꼬리 제거 후 절단
B81: 민대구순살 | C81: 원양산 | D81: 1kg | E81: 14200 | F81: * | H81: 【규격】±40g~±80g 【사양】전처리된 민대구를 규격별 작업(껍질유)
B82: 민대구순살(탈피) | C82: 원양산 | D82: 1kg | E82: 16100 | F82: * | H82: 【규격】±40g~±80g 【사양】전처리된 민대구를 규격별 작업(껍질없음)
B83: 은대구 | C83: 원양 | D83: 1kg | E83: 18400 | F83: * | H83: 【규격】±40g~±100g 【사양】두절, 내장, 지느러미, 꼬리 제거 후 절단
B84: 참대구 | C84: 국산 | D84: 1kg | E84: 12600 | F84: 13500 | H84: 【규격】±40g~±100g 【사양】두절, 내장, 지느러미, 꼬리 제거 후 절단
B85: 참대구코다리토막 | C85: 국산 | D85: 1kg | E85: 17300 | F85: * | H85: 【규격】±40g~±100g 【사양】두절, 내장, 지느러미, 꼬리 제거 후 절단
B86: 참대구순살(유피) | C86: 국산 | D86: 1kg | E86: 19700 | F86: * | H86: 【규격】±40g~±60g 【사양】전처리된 참대구순살 (껍질 無)
B87: 참대구순살(탈피) | C87: 국산 | D87: 1kg | E87: 21300 | F87: * | H87: 【규격】±40g~±60g 【사양】전처리된 참대구순살 (껍질 有)
B88: 참대구살슬라이스(유피) | C88: 국산 | D88: 1kg | E88: 19700 | F88: * | H88: 【규격】±30g~±40g 【사양】국산참대구를 슬라이스로 정형화한 제품
B89: 대구알 | C89: 미국/러시아 | D89: 1kg | E89: 14200 | F89: * | H89: 【사양】 해물탕용
B90: 대구곤 | C90: 미국/러시아 | D90: 1kg | E90: 11000 | F90: * | H90: 【사양】 해물탕용
A91: 명태 | B91: 명태 | C91: 미국/러시아 | D91: 1kg | E91: 7100 | F91: 8000 | H91: 【규격】±40g~±100g 【사양】두절, 내장, 지느러미, 꼬리 제거 후 절단
B92: 명태순살 | C92: 러시아산 | D92: 1kg | E92: 9500 | F92: * | H92: 【규격】±170g~±230g 【사양】전처리된 명태를 순살로 작업
B93: 명태순살(절단) | C93: 러시아산 | D93: 1kg | E93: 10100 | F93: * | H93: 【규격】±30g~80g 【사양】전처리된 명태순살을 규격별 절단
B94: 명태살슬라이스 | C94: 러시아산 | D94: 1kg | E94: 9800 | F94: * | H94: 【규격】±35g~±60g 【사양】전처리된 명태순살을 슬라이스로 작업
B95: 네모명태살(선동-압착) | C95: 러시아산 | D95: 1kg | E95: 12600 | F95: * | H95: 【규격】±20g~±50g 【사양】생선까스용 / 부침용
B96: 명태살강정 | C96: 러시아산 | D96: 1kg | E96: 10200 | F96: * | H96: 【규격】±8g~±10g 【사양】강정용(2cm*2cm)
B97: 명태곤 | C97: 러시아산 | D97: 1kg | E97: 11000 | F97: * | H97: 【사양】 해물탕용
B98: 명란 | C98: 미국/러시아 | D98: 1kg | E98: 16500 | F98: * | H98: 【사양】 해물탕용
A99: 코다리 | B99: 코다리 | C99: 미국/러시아 | D99: 1kg | E99: 7400 | F99: * | H99: 【규격】±40g~±100g 【사양】두절, 내장, 지느러미, 꼬리 제거 후 절단
B100: 코다리순살 | C100: 러시아산 | D100: 1kg | E100: 10100 | F100: * | H100: 【규격】±30g~±50g 【사양】건조율20%
B101: 코다리탕수육 | C101: 러시아산 | D101: 1kg | E101: 10400 | F101: * | H101: 【규격】±12g~±14g 【사양】탕수육용(2cm*5cm)
B102: 코다리순살강정 | C102: 러시아산 | D102: 1kg | E102: 10400 | F102: * | H102: 【규격】±10g~±14g 【사양】강정용(3cm*3cm)
...

Sheet 5790_삼청_5
A1: 5790_삼청_2024년+6월+에프앤에프++홍보코너+단가표.xls
A2: https://school062.com/bbs/board.php?bo_table=product_02&wr_id=5790
F3: TEL: 062) 524-7757
F4: 식품의약품안전처 HACCP지정업소
F5: 어류,연체류 HACCP지정
D6: ※ 원료사정에 의해 산지가 변동될수있습니다.
A7: 24년 6월 | F7: 단위 :원/kg
A8: 제품명 | B8: 원산지 | C8: 규격 단위 | D8: 학교가(원/kg) | E8: 등락 | F8: 규격/특징/성분함량 | G8: 과세 여부
D9: 냉동
A10: 가이리(상) | B10: 국산 | C10: 1kg | D10: 27900 | E10: ▼ | F10: 【규격】1kg x 2봉 【특징】 소멸치 2cm~4cm 【성분】가이리100%
A11: 지리가이리(상) | B11: 국산 | C11: 1kg | D11: 31700 | F11: 【규격】1kg x 2봉 【특징】지리멸, 가이리 중간사이즈 【성분】지가이리100%
A12: 다시멸치(상) | B12: 국산 | C12: 1kg | D12: 21100 | E12: ▲ | F12: 【규격】1kg x 2봉 【특징】다시용, 위생팩포함 【성분】다시멸치100%
A13: 다시멸치(상) | B13: 국산 | C13: box | D13: 20800 | E13: ▲ | F13: 1kg*10봉/박스, 선별작업, 부직포다시망 無 / 10KG단위 발주
A14: 다시멸치(최상) | B14: 국산 | C14: 1kg | D14: 21700 | E14: ▲ | F14: 【규격】1kg x 2봉 【특징】다시용, 위생팩포함 【성분】다시멸치100%
A15: 다시멸치(최상) | B15: 국산 | C15: box | D15: 21400 | E15: ▲ | F15: 1kg*10봉/박스, 선별작업, 부직포다시망 無 / 10KG단위 발주
A16: 다시멸치(특상품) | B16: 국산 | C16: 1kg | D16: 23200 | E16: ▲ | F16: 【규격】1kg x 2봉 【특징】다시용, 위생팩포함 【성분】다시멸치100%
A17: 다시멸치(특상품) | B17: 국산 | C17: box | D17: 22800 | E17: ▲ | F17: 1kg*10봉/박스, 선별작업, 부직포다시망 無 / 10KG단위 발주
A18: 디포리(상) | B18: 국산 | C18: 1kg | D18: 23200 | E18: ▲ | F18: 【규격】1kg x 2봉 【특징】다시용, 위생팩포함 【성분】디포리100%
A19: 디포리(최상) | B19: 국산 | C19: 1kg | D19: 23600 | E19: ▲ | F19: 【규격】1kg x 2봉 【특징】다시용, 위생팩포함 【성분】디포리100%
A20: 디포리(상) | B20: 수입 | C20: 1kg | D20: 13200 | F20: 【규격】1kg x 2봉 【특징】다시용, 위생팩포함 【성분】디포리100%
A21: 지리멸(상) | B21: 국산 | C21: 1kg | D21: 31700 | F21: 【규격】1kg x 2봉 【특징】세멸치 1cm~3cm 【성분】건멸치100%
A22: 저염지리멸(상) | B22: 국산 | C22: 1kg | D22: 35600 | F22: 【규격】1kg x 2봉 【특징】세멸치 1cm~3cm 【성분】건멸치100%
A23: 짜지않은 지리멸치 | B23: 국산 | C23: 1kg | D23: 35600 | F23: 【규격】1kg x 2봉 【특징】세멸치 1cm~3cm 염분을 제거 【성분】건멸치100%
A24: 깐멸치 | B24: 국산 | C24: 1kg | D24: 52000 | E24: ▲ | F24: 【규격】1kg x 2봉 【특징】볶음, 조림용 【성분】다시멸치100%
A25: 웰빙혼합멸치 | B25: 국산/중국 | C25: 1kg | D25: 28700 | F25: 【규격】1kg x 2봉 [kg단위 발주] 【성분】세멸치40%,아몬드40%,두절건새우20%
A26: 혼합다시(최상) | B26: 국산 | C26: 1kg | D26: 27100 | F26: 【규격】1kg x 2봉 [kg단위 발주] 【성분】건멸치(남해)75%,디포리(남해)10%,표고버섯(국산)5%, 다시마(국산)5%,건새우(국산)5%
A27: 혼합다시(최상) | B27: 국산/중국 | C27: 1kg | D27: 25700 | E27: ▲ | F27: 【규격】1kg x 2봉 [kg단위 발주] 【성분】건멸치(남해)70%,디포리(남해)10%,표고버섯(중국)5%, 다시마(국산)5%,건새우(중국)5%,북어채(러시아)5%
A28: 혼합다시(상) | B28: 국산/중국 | C28: 1kg | D28: 23900 | E28: ▲ | F28: 【규격】1kg x 2봉 [kg단위 발주] 【성분】건멸치(남해)75%,디포리(남해)10%,표고버섯(중국)5%, 다시마(국산)5%,건새우(중국)5%
A29: 건미역 | B29: 국산 | C29: 100g/봉 | D29: 4100 | E29: ▲ | F29: 【규격】100g [1kg이상 발주시 박스 포장] 【성분】미역100%
A30: 건미역 | B30: 국산 | C30: 200g/봉 | D30: 7900 | E30: ▲ | F30: 【규격】200g [1kg이상 발주시 박스 포장] 【성분】미역100%
A31: 건미역 | B31: 국산 | C31: 1kg/봉 | D31: 34500 | E31: ▲ | F31: 【규격】1kg 【성분】미역100%
A32: 자른미역(상) | B32: 국산 | C32: 100g/봉 | D32: 4100 | E32: ▲ | F32: 【규격】100g [1kg이상 발주시 박스 포장] 【성분】미역100%
A33: 자른미역(상) | B33: 국산 | C33: 200g/봉 | D33: 7900 | E33: ▲ | F33: 【규격】200g [1kg이상 발주시 박스 포장] 【성분】미역100%
A34: 자른미역(상) | B34: 국산 | C34: 1kg/봉 | D34: 35400 | E34: ▲ | F34: 【규격】1kg 【성분】미역100%
A35: 캇트건미역(최상) | B35: 국산 | C35: 100g/봉 | D35: 5000 | E35: ▲ | F35: 【규격】100g [1kg이상 발주시 박스 포장] 【성분】미역100%
A36: 캇트건미역(최상) | B36: 국산 | C36: 200g/봉 | D36: 9100 | E36: ▲ | F36: 【규격】200g [1kg이상 발주시 박스 포장] 【성분】미역100%
A37: 다시마 | B37: 완도 | C37: 100g/봉 | D37: 3900 | F37: 【규격】100g [1kg이상 발주시 박스 포장] 【성분】다시마100%
A38: 다시마 | B38: 완도 | C38: 200g/봉 | D38: 8000 | F38: 【규격】200g [1kg이상 발주시 박스 포장] 【성분】다시마100%
A39: 다시마 | B39: 완도 | C39: 500g/봉 | D39: 17300 | F39: 【규격】500g [1kg이상 발주시 박스 포장] 【성분】다시마100%
A40: 다시마 | B40: 기장 | C40: 100g/봉 | D40: 4400 | F40: 【규격】100g [1kg이상 발주시 박스 포장] 【성분】다시마100%
A41: 다시마 | B41: 기장 | C41: 200g/봉 | D41: 8500 | F41: 【규격】200g [1kg이상 발주시 박스 포장] 【성분】다시마100%
A42: 다시마 | B42: 기장 | C42: 500g/봉 | D42: 18900 | F42: 【규격】500g [1kg이상 발주시 박스 포장] 【성분】다시마100%
A43: 뿌리다시마 | B43: 완도 | C43: 100g/봉 | D43: 4400 | F43: 【규격】100g [1kg이상 발주시 박스 포장] 【성분】다시마100%
A44: 뿌리다시마 | B44: 완도 | C44: 200g/봉 | D44: 8500 | F44: 【규격】200g [1kg이상 발주시 박스 포장] 【성분】다시마100%
A45: 뿌리다시마 | B45: 완도 | C45: 500g/봉 | D45: 19400 | F45: 【규격】500g [1kg이상 발주시 박스 포장] 【성분】다시마100%
A46: 다시마사각 | B46: 국산 | C46: 1kg | D46: 34700 | F46: 【규격 500g x 2봉 【특징】3x4cm, 1,500ea, 튀각용 【성분】다시마100%(완도산)
A47: 두절건새우 | B47: 중국산 | C47: 1kg | D47: 35600 | F47: 【규격】500g x 2봉 【특징】볶음용 【성분】새우100%
A48: 두절건새우 | B48: 국산 | C48: 1kg | D48: 92100 | F48: 【규격】500g x 2봉 【특징】볶음용 【성분】새우100%
... A55: 황태채 | B55: 러시아 | C55: 1kg | D55: 52000 | F55: 【규격】500g x 2봉 【성분】명태100%
A56: 김밥김 | B56: 국산 | C56: 속 (100장) | D56: 23000 | E56: ▲ | F56: 【규격】속당 100장 (단위주의) 【성분】김100%
A57: 구운김밥김 | B57: 국산 | C57: 속 (100장) | D57: 25200 | E57: ▲ | F57: 【규격】속당 100장 (단위주의) 【성분】구운김100%
A58: 돌김 | B58: 국산 | C58: 속 (100장) | D58: 20200 | F58: 【규격】속당 100장 (단위주의) 【성분】김100%
A59: 무염김가루 | B59: 국산 | C59: 1kg | D59: 일시절품 | F59: 【규격】500g x 2봉 【성분】마른김100%
A60: 조미김가루 | B60: 국산 | C60: 1kg | D60: 51000 | F60: 【규격】500g x 2봉 【특징】부가세포함 【성분】마른김80%,참기름,맛소금,식용유 | G60: ○
A61: 건포도 | B61: 미국산 | C61: 1kg | D61: 13100 | F61: 【규격】1kg x 2봉 【특징】부가세포함 【성분】건포도99.25%,식물성기름(면실유,대두유)0.75%
A62: 건홍합 | B62: 국산 | C62: 1kg | D62: 49000 | F62: 【규격】1kg x 2봉 【성분】홍합 100%
A63: 건표고버섯 | B63: 국산 | C63: 1kg | D63: 77300 | F63: 【규격】500g x 2봉 【성분】표고버섯100%
A64: 건표고버섯 | B64: 중국산 | C64: 1kg | D64: 39400 | F64: 【규격】500g x 2봉 【성분】표고버섯100%
A65: 건표고슬라이스 | B65: 중국산 | C65: 1kg | D65: 35600 | F65: 【규격】500g x 2봉 【성분】표고버섯100%
A66: 깐호두 | B66: 미국/베트남 | C66: 1kg | D66: 19100 | F66: 【규격】1kg x 2봉 【성분】호두 100%
A67: 통아몬드 | B67: 미국산 | C67: 1kg | D67: 21100 | F67: 【규격】1kg x 2봉 【성분】아몬드 100%
A68: 통아몬드 슬라이스 | B68: 미국산 | C68: 1kg | D68: 22100 | F68: 【규격】1kg x 2봉 【성분】아몬드 100%
A69: 명엽채 | B69: 베트남 | C69: 1kg | D69: 10700 | F69: 【규격】1kg x 2봉 【특징】부가세포함 【성분】연육80.65%,설탕 외 | G69: ○
A70: 백진미채 | B70: 국산 | C70: 1kg | D70: 일시절품 | F70: 【규격】1kg x 2봉 【특징】부가세포함 【성분】오징어(국산)83.8% 외 | G70: ○
A71: 백진미채 | B71: 수입 | C71: 1kg | D71: 39100 | E71: ▲ | F71: 【규격】1kg x 2봉 【특징】부가세포함 【성분】오징어(페루)88.57%,D-소르비톨 외 | G71: ○
A72: 일미채 | B72: 국산 | C72: 1kg | D72: 126000 | E72: (할인제외) | F72: 【규격】1kg x 2봉 【특징】부가세포함 【성분】오징어(국산)83.8% 외 | G72: ○
A73: 일미채 | B73: 중국산 | C73: 1kg | D73: 28400 | F73: 【규격】1kg x 2봉 【특징】부가세포함 【성분】오징어(중국)63%,D-소르비톨 외 | G73: ○
A74: 일미채 | B74: 수입 | C74: 1kg | D74: 39100 | E74: ▲ | F74: 【규격】1kg x 2봉 【특징】부가세포함 【성분】오징어(페루)88.57%,D-소르비톨 외 | G74: ○
A75: 참진미채(홍진미채) | B75: 국산 | C75: 1kg | D75: 126000 | E75: (할인제외) | F75: 【규격】1kg x 2봉 【특징】부가세포함 【성분】오징어(국산)83.8% 외 | G75: ○
A76: 참진미채(홍진미채) | B76: 수입 | C76: 1kg | D76: 39100 | E76: ▲ | F76: 【규격】1kg x 2봉 【특징】부가세포함 【성분】오징어(페루)89.58%,D-소르비톨 외 | G76: ○
A77: 쥐포채 | B77: 베트남 | C77: 1kg | D77: 12900 | F77: 【규격】1kg x 2봉 【특징】부가세포함 【성분】연육(베트남)75%,설탕,전분,솔비톨,정제염 외 | G77: ○
A78: 구운참쥐포채 | B78: 베트남 | C78: 1kg | D78: 40300 | F78: 【규격】1kg x 2봉 【특징】부가세포함 【성분】쥐치89%,설탕,식염 외 | G78: ○
A79: 참쥐치채 | B79: 베트남 | C79: 1kg | D79: 36500 | F79: 【규격】1kg x 2봉 【특징】부가세포함 【성분】쥐치89%,설탕,식염 외 | G79: ○
A80: 동전참쥐포 | B80: 베트남 | C80: 1kg | D80: 34700 | F80: 【규격】1kg x 2봉 【특징】부가세포함 【성분】쥐치89%,설탕,식염 외 | G80: ○
A81: 참쥐포채(가는채) | B81: 베트남 | C81: 1kg | D81: 36500 | F81: 【규격】1kg x 2봉 【특징】부가세포함 【성분】쥐치89%,설탕,식염 외 | G81: ○
A82: 참쥐포사각(볶음) | B82: 베트남 | C82: 1kg | D82: 36500 | F82: 【규격】1kg x 2봉 【특징】부가세포함 【성분】쥐치89%,설탕,식염 외 | G82: ○
A83: 구운아귀채 | B83: 중국산 | C83: 1kg | D83: 54700 | F83: 【규격】1kg x 2봉 【특징】부가세포함 【성분】 아귀86.9%, 설탕,정제염 외 | G83: ○
A84: 구운물메기채 | B84: 중국산 | C84: 1kg | D84: 39400 | F84: 【규격】1kg x 2봉 【특징】부가세포함 【성분】 물메기87%, 설탕,정제염 외 | G84: ○
A85: 맛다랑어(가쓰오부시) -훈연용- | B85: 인도네시아 | C85: 1kg | D85: 43300 | F85: 【규격】500g x 2봉 【성분】가다랑어 100%
A86: 맛다랑어(가쓰오부시) -고명용- | B86: 인도네시아 | C86: 1kg | D86: 56700 | F86: 【규격】500g x 2봉 【성분】가다랑어 100%
A87: 건파래 | B87: 국산 | C87: 1kg | D87: 81300 | F87: 【규격】500g 【성분】김,파래 혼합비율 7:3 식용 첨가물 無
A88: 김파래김자반(돌자반) | B88: 국산 | C88: 1kg | D88: 32800 | F88: 【규격】1kg 【특징】부가세포함[kg단위 발주] 【성분】돌자반(국내산)20%,대두유,참기름,맛소금 | G88: ○

Sheet 5790_삼청_6
A1: 5790_삼청_2024년+6월+에프앤에프++홍보코너+단가표.xls
A2: https://school062.com/bbs/board.php?bo_table=product_02&wr_id=5790
G3: TEL: 062) 524-7757
G4: 식품의약품안전처 HACCP지정업소
G5: 어류,연체류 HACCP지정
C6: ※ 원료사정에 의해 산지가 변동될수있습니다.
A7: 24년 6월
A8: 제품명 | B8: 원산지 | C8: 규격 단위 | D8: 학교가(원) | E8: 등락 | F8: 규격/특징/성분함량 | G8: 과세 여부
D9: 냉동
A10: 카레아몬드 고등어스테이크 | B10: 국산 | C10: 50g/개 | D10: 950 | E10: (할인제외) | F10: 【규격】±50g/개,±70g/개 【특징】냉동생선포를 적당한 비율의 카레분말과 빵가루에 혼합하여 아몬드/파슬리분태를 토핑한 제품 【조리방법】오븐전용 : 180~185℃온도 → 20~25분간 굽는다 【성분함량】 순살고등어: 고등어살95%,카레파우더+카레3%,아몬드,빵가루 순살방어: 방어살95%,카레파우더+카레3%,아몬드,빵가루 순살삼치: 삼치살95%,카레파우더+카레3%,아몬드,빵가루 순살숭어: 숭어살95%,카레파우더+카레3%,아몬드,빵가루 | G10: ○
C11: 70g/개 | D11: 1320 | E11: (할인제외) | G11: ○
A12: 카레아몬드 방어스테이크 | B12: 국산 | C12: 50g/개 | D12: 870 | E12: (할인제외) | G12: ○
C13: 70g/개 | D13: 1220 | E13: (할인제외) | G13: ○
A14: 카레아몬드 삼치스테이크 | B14: 국산 | C14: 50g/개 | D14: 1260 | E14: (할인제외) | G14: ○
C15: 70g/개 | D15: 1770 | E15: (할인제외) | G15: ○
A16: 카레아몬드 숭어스테이크 | B16: 국산 | C16: 50g/개 | D16: 870 | E16: (할인제외) | G16: ○
C17: 70g/개 | D17: 1220 | E17: (할인제외) | G17: ○
A18: 숯불바베큐맛 고등어스테이크 | B18: 국산 | C18: 50g/개 | D18: 950 | E18: (할인제외) | F18: 【규격】±50g/개,±70g/개 【특징】냉동생선포를 특제소스에 침지 →담백한 바베큐소스를 토핑하여 오븐이나, 그릴에 굽기 쉽도록 독자적인 기술력과 제조공법으로 제조 【성분함량】 순살고등어 : 고등어살 96%, 바베큐소스 3.6% 순살방어 : 방어살 96%, 바베큐소스 3.6% 순살삼치 : 삼치살 96%, 바베큐소스 3.6% 순살숭어 : 숭어살 96%, 바베큐소스 3.6% | G18: ○
C19: 70g/개 | D19: 1320 | E19: (할인제외) | G19: ○
A20: 숯불바베큐맛 방어스테이크 | B20: 국산 | C20: 50g/개 | D20: 870 | E20: (할인제외) | G20: ○
C21: 70g/개 | D21: 1220 | E21: (할인제외) | G21: ○
A22: 숯불바베큐맛 삼치스테이크 | B22: 국산 | C22: 50g/개 | D22: 1260 | E22: (할인제외) | G22: ○
C23: 70g/개 | D23: 1770 | E23: (할인제외) | G23: ○
A24: 숯불바베큐맛 숭어스테이크 | B24: 국산 | C24: 50g/개 | D24: 870 | E24: (할인제외) | G24: ○
C25: 70g/개 | D25: 1220 | E25: (할인제외) | G25: ○
A26: 허니데리야끼 고등어순살스테이크 | B26: 국산 | C26: 50g/개 | D26: 950 | E26: (할인제외) | F26: 【규격】초등기준(±50g)/고등,성인기준(±70g) 【특징】냉동생선포를 데리야끼소스에 혼합하여 파슬리를 토핑한 제품 【조리방법】오븐전용 : 180~185℃온도 → 20~25분간 굽는다 【성분함량】 순살고등어: 고등어살96%, 데리소스3.96%,건파슬리 순살방어: 방어살96%, 데리소스3.96%,건파슬리 순살삼치: 삼치살96%, 데리소스3.96%,건파슬리 순살숭어: 숭어살96%, 데리소스3.96%,건파슬리 | G26: ○
C27: 70g/개 | D27: 1320 | E27: (할인제외) | G27: ○
A28: 허니데리야끼 방어순살스테이크 | B28: 국산 | C28: 50g/개 | D28: 870 | E28: (할인제외) | G28: ○
C29: 70g/개 | D29: 1220 | E29: (할인제외) | G29: ○
A30: 허니데리야끼 삼치순살스테이크 | B30: 국산 | C30: 50g/개 | D30: 1260 | E30: (할인제외) | G30: ○
C31: 70g/개 | D31: 1770 | E31: (할인제외) | G31: ○
A32: 허니데리야끼 방어순살스테이크 | B32: 국산 | C32: 50g/개 | D32: 870 | E32: (할인제외) | G32: ○
C33: 70g/개 | D33: 1220 | E33: (할인제외) | G33: ○
A34: 허니데리야끼 숭어순살스테이크 | B34: 국산 | C34: 50g/개 | D34: 870 | E34: (할인제외) | G34: ○
C35: 70g/개 | D35: 1220 | E35: (할인제외) | G35: ○
A36: 허니버터 연어스테이크 | B36: 수입산 | C36: 50g/개 | D36: 1580 | E36: (할인제외) | F36: 【규격】50g/팩(±50g*30개),70g/팩(±70g*20개) 【성분함량】연어살 98%,허니버터분말1.5% | G36: ○
C37: 70g/개 | D37: 2210 | E37: (할인제외) | G37: ○
A38: 치즈갈릭연어스테이크 | B38: 국산 | C38: 50g/개 | D38: 1740 | E38: (할인제외) | F38: 【규격】50g/팩(±50g*30개),70g/팩(±70g*20개) 【성분함량】연어살 98%,치즈혼합분말1%,마늘분말 | G38: ○
C39: 70g/개 | D39: 2430 | E39: (할인제외) | G39: ○
A40: 치즈갈릭연어스테이크 | B40: 러시아/ 미국 | C40: 50g/개 | D40: 1580 | E40: (할인제외) | F40: 【규격】50g/팩(±50g*30개),70g/팩(±70g*20개) 【성분함량】연어살 98%,치즈혼합분말1%,마늘분말 | G40: ○
C41: 70g/개 | D41: 2210 | E41: (할인제외) | G41: ○
A42: 허니버터 연어스테이크 (PBO제품-핀폰제거) | B42: 미국/양식 | C42: 50g/개 | D42: 1740 | E42: (할인제외) | F42: 【규격】50g/팩(±50g*30개),70g/팩(±70g*20개) 【성분함량】연어살 98%,허니버터분말1.5% | G42: ○
C43: 70g/개 | D43: 2430 | E43: (할인제외) | G43: ○
A44: 치즈갈릭연어스테이크 (PBO제품-핀폰제거) | B44: 미국/양식 | C44: 50g/개 | D44: 1740 | E44: (할인제외) | F44: 【규격】50g/팩(±50g*30개),70g/팩(±70g*20개) 【성분함량】연어살 98%,치즈혼합분말1%,마늘분말 | G44: ○
C45: 70g/개 | D45: 2430 | E45: (할인제외) | G45: ○
A46: 세모청파래오징어까스(40g) | B46: 페루산 | C46: kg | D46: 12770 | E46: (할인제외) | F46: 【규격】(±40g*20ea)x10봉 【사양】페루산오징어37%, 배터분말, 빵가루 외 / 세모모양 | G46: ○
A47: 명태살튀김강정 | B47: * | C47: kg | D47: 13400 | E47: (할인제외) | F47: 【규격】(±12g) 10kg/박스 【사양】명태살67.3%, 배터분말, 전분 외 / 사각모양 | G47: ○
A48: 생선까스(60g) | B48: * | C48: kg | D48: 12600 | E48: (할인제외) | F48: 【규격】(±60g x 20ea)x5봉 【사양】청대구(수입)54.69%,빵가루,쇼트닝 외 | G48: ○
A49: 파래생선까스(60g) | B49: * | C49: kg | D49: 13080 | E49: (할인제외) | F49: 【규격】(±60g x 20ea)x5봉 【사양】청대구(수입)54.79%,빵가루,쇼트닝 외 | G49: ○
A50: 네모난명태까스(50g) | B50: * | C50: kg | D50: 일시절품 | F50: 【규격】(±50g*20ea)x10봉 【사양】명태살57.8%,빵가루20%,베타파우더 외 / 네모모양 | G50: ○
A51: 새우튀김(30g) | B51: 베트남 | C51: 10미/팩 | D51: 6200 | E51: (할인제외) | F51: 【규격】팩당 300g(±30g*10ea) [팩 단위 발주] 【사양】새우30%, 빵가루26.82%, 쇼트닝외43.18% | G51: ○
A52: 치즈듬뿍빵가루새우(50g) | B52: 태국 | C52: 10미/팩 | D52: 12300 | E52: 신제품(할인제외) | F52: 【규격】팩당 500g(±50g*10ea) [팩 단위 발주] 【사양】새우24%, 치즈 13% 빵가루35%, 쇼트닝외28% | G52: ○

Sheet 5790_삼청_7
A1: 5790_삼청_2024년+6월+에프앤에프++홍보코너+단가표.xls
A2: https://school062.com/bbs/board.php?bo_table=product_02&wr_id=5790
H3: TEL: 062) 524-7757
H4: 식품의약품안전처 HACCP지정업소
H5: 어류,연체류 HACCP지정
B6: ※ 원료사정에 의해 산지가 변동될 수 있습니다.
B7: 24년 6월
A8: 형태 | B8: 제품명 | C8: 원산지 | D8: 중량 | E8: 규격 | F8: 학교가 | G8: 등락 | H8: 등락 | I8: 규격/특징/성분함량 | J8: 과세 여부 | K8: 비고
A9: 소스세트 상품 | B9: 큐브삼치스테이크 | C9: 국산 | D9: 1kg | E9: 삼치살강정1kg + 데리소스15%무상제공 | F9: 22800 | H9: (할인제외) | I9: (설명) 삼치살강정을 ±2.5*2.5cm 큐브 모양으로 절단한 제품으로 조리 후 제공된 데리소스를 곁들여 사용 (성분) 삼치살강정 1kg+ 데리소스 150g (용도) 구이 | K9: 할인제외품목 / 최소 발주 6kg 이상
B10: 큐브삼치튀김세트 | C10: 국산 | D10: 1kg | E10: 삼치살강정1kg + 튀김파우더15%+ 강정소스15% 무상제공 | F10: 23600 | H10: (할인제외) | I10: (설명) 삼치살강정을 ±2.5*2.5cm 큐브 모양으로 절단한 제품으로 제공된 파우더을 입혀 튀긴 후, 강정소스를 곁들여 사용 (성분) 삼치살강정 1kg+ 튀김파우더 + 강정소스 150g (용도) 튀김
B11: 큐브방어스테이크 | C11: 국산 | D11: 1kg | E11: 방어살강정1kg + 데리소스15%무상제공 | F11: 15000 | H11: (할인제외) | I11: (설명) 방어살강정을 ±2.5*2.5cm 큐브 모양으로 절단한 제품으로 조리 후 제공된 데리소스를 곁들여 사용 (성분) 방어살강정 1kg+ 데리소스 150g (용도) 구이
B12: 큐브방어튀김세트 | C12: 국산 | D12: 1kg | E12: 방어살강정1kg + 튀김파우더15%+ 강정소스15% 무상제공 | F12: 15800 | H12: (할인제외) | I12: (설명) 방어살강정을 ±2.5*2.5cm 큐브 모양으로 절단한 제품으로 제공된 파우더을 입혀 튀긴 후, 강정소스를 곁들여 사용 (성분) 방어살강정 1kg+ 튀김파우더 + 강정소스 150g (용도) 튀김
B13: 큐브연어스테이크 | C13: 국산 | D13: 1kg | E13: 연어살강정1kg + 데리소스15%무상제공 | F13: 28400 | H13: (할인제외) | I13: (설명) 연어살강정을 ±2.5*2.5cm 큐브 모양으로 절단한 제품으로 조리 후 제공된 데리소스를 곁들여 사용 (성분) 연어살강정 1kg+ 데리소스 150g (용도) 구이
B14: 큐브연어튀김세트 | C14: 국산 | D14: 1kg | E14: 연어살강정1kg + 튀김파우더+소스15% 무상제공 | F14: 29100 | H14: (할인제외) | I14: (설명) 연어살강정을 ±2.5*2.5cm 큐브 모양으로 절단한 제품으로 제공된 파우더을 입혀 튀긴 후, 강정소스를 곁들여 사용 (성분) 연어살강정 1kg+ 튀김파우더 + 강정소스 150g (용도) 튀김
B15: 큐브연어스테이크 | C15: 러시아산 | D15: 1kg | E15: 연어살강정1kg + 데리소스15%무상제공 | F15: 27600 | H15: (할인제외) | I15: (설명) 연어살강정을 ±2.5*2.5cm 큐브 모양으로 절단한 제품으로 조리 후 제공된 데리소스를 곁들여 사용 (성분) 연어살강정 1kg+ 데리소스 150g (용도) 구이
B16: 큐브연어튀김세트 | C16: 러시아산 | D16: 1kg | E16: 연어살강정1kg + 튀김파우더15%+ 강정소스15% 무상제공 | F16: 28400 | H16: (할인제외) | I16: (설명) 연어살강정을 ±2.5*2.5cm 큐브 모양으로 절단한 제품으로 제공된 파우더을 입혀 튀긴 후, 강정소스를 곁들여 사용 (성분) 연어살강정 1kg+ 튀김파우더 + 강정소스 150g (용도) 튀김
B17: 바질향가자미살 튀김세트 | C17: 미국 | D17: 1kg | E17: 가자미살1kg + 튀김파우더15% 무상제공 | F17: 15400 | H17: 할인제외 | I17: (설명) 바질향이 첨가된 가자미살에 파우더을 입혀 튀김용으로 사용 (성분) 바질향가자미순살 1kg+ 튀김파우더 150g (용도) 튀김
B18: 튀겨먹는 한입아귀순살세트 | C18: 국산 | D18: 1kg | E18: 아귀순살1kg + 튀김파우더15% 무상제공 | F18: 24400 | H18: (신규)할인제외 | I18: (설명)아귀순살에 파우더을 입혀 튀김용으로 사용 (성분) 아귀순살 1kg+ 튀김파우더 150g (용도) 튀김
B19: 오징어다리 가라아게세트 | C19: 국산 | D19: 1kg | E19: 오징어다리1kg + 가라아게파우더200g 무상제공 | F19: 26000 | H19: (신규)할인제외 | I19: (설명)오징어다리를 2등분하여 가라아게 파우더를 입현조리 (성분) 오징어다리 1kg + 파아더200g (용도) 튀김 ★출고일 2일 전 발주
B20: 코다리살조림 | C20: 러시아 | D20: ±15-50g | E20: 코다리순살1kg + 조림용소스15%무상제공 | F20: 14700 | H20: 할인제외 | I20: (설명) 건조코다리순살+조림소스를 같이 혼합사용 (성분) 코다리순살 1kg+ 소스 150g (용도) 조림
B21: 통영산장어구이세트 (냉동) | C21: 국산 | D21: 두절 온마리 | E21: 냉동장어살 1kg + 소스15% 무상제공 | F21: 24400 | H21: 할인제외 | I21: (설명) 통영산 장어살+구이소스를 같이 혼합사용 (성분) 장어살 1kg+ 소스 150g (용도) 구이 * 절단시 2,000원 추가/kg당
B22: 통영산장어구이세트 (냉장) | C22: 국산 | D22: 두절 온마리 | E22: 활장어살 1kg + 소스15% 무상제공 | F22: 48000 | H22: 할인제외 | I22: (설명) 통영산 활장어살+구이소스를 같이 혼합사용 (성분) 장어살 1kg+ 소스 150g (용도) 구이 * 절단시 2,000원 추가/kg당
B23: 명태살튀김강정세트 | C23: 러시아 | D23: ±15g | E23: 명태살튀김강정1kg + 유자소스 or 강정소스 15%무상제공 | F23: 16100 | H23: 할인제외 | I23: (설명) 명태살튀김강정에 어울릴 유자청소스 또는 강정소스를 곁들인 제품 (성분) 명태살튀김강정 1kg+ 소스 150g (용도) 튀김 [과세] | J23: ○
B24: 소라주꾸미채세트 | C24: 베트남/미얀마 | D24: 1kg | E24: 소라주꾸미채1kg + 볶음소스25%무상제공 | F24: 22800 | H24: 할인제외 | I24: (설명) 최상품 주꾸미채 원료사용+소스와 같이 혼합사용 (성분) 주꾸미채 1kg+ 소스 250g (용도) 볶음
B25: 낙지채세트 | C25: 베트남/ 인도네시아 | D25: 1kg | E25: 낙지채1kg + 볶음소스25%무상제공 | F25: 24400 | H25: 할인제외 | I25: (설명) 최상품 낙지채 원료사용+소스와 같이 혼합사용 (성분) 낙지채 1kg+ 소스 250g (용도) 볶음
B26: 바질향달고기세트 | C26: 국산 | D26: 1kg | E26: 달고기순살1kg + 상큼소스20%+파우더20% 무상제공 | F26: 26800 | H26: (할인제외) | I26: (설명) 달고기순살+소스와 같이 혼합사용 (성분) 달고기순살 1kg+ 상큼소스200g +파우더 200g (용도) 튀김
B27: * 세트상품은 소스 무상제공이므로 최소 발주 6kg 이상 공급가능합니다.

Sheet 5796_호남푸드_1
A1: 5796_호남푸드_6월★SJ씨푸드★학교가하미라+3.xlsx
A2: https://school062.com/bbs/board.php?bo_table=product_02&wr_id=5796
A3: 구 분 | B3: 코드 | C3: 제 품 명 | D3: 원 산 지 | E3: 제 품 규 격 | F3: 단위 | G3: 학교가 | H3: 특 징 | I3: HACCP 적용 | J3: 품질인증 | K3: 비 고
A4: 가 자 미 | B4: 217 | C4: 가자미토막 | D4: 러시아/미국산 | E4: ±40g~100g | F4: kg | G4: 8250 | H4: 두절.내장.지너러미.꼬리제거 후 세척, 사양에 맞게 토막 절단 | I4: ○
B5: 218 | C5: 가자미토막(냉장) | D5: 러시아/미국산 | E5: ±40g~100g | F5: kg | G5: 9750 | H5: 두절.내장.지너러미.꼬리제거 후 세척, 사양에 맞게 토막 절단 | I5: ○
B6: 223 | C6: 가자미순살(유피) | D6: 러시아/미국산 | E6: ±30g~70g | F6: kg | G6: 13500 | H6: 가자미포(껍질있음)를 사양에 맞게 토막 절단 | I6: ○
B7: 219 | C7: 가자미순살(강정)/유피 | D7: 러시아/미국산 | E7: 2*2cm(8~10g) | F7: kg | G7: 15000 | H7: 가자미포(껍질있음)를 사양에 맞게 토막 절단 | I7: ○
B8: 221 | C8: 가자미순살(유피)슬라이스 | D8: 러시아/미국산 | E8: 20g~50g / 전용,커틀릿 | F8: kg | G8: 15750 | H8: 중뼈 제거한 순살 가자미포를 사양에 맞게 전뜨기 (전및, 커틀릿용) | I8: ○
B9: 224 | C9: 가자미순살(탈피) | D9: 러시아/미국산 | E9: 30g,40g,50g | F9: kg | G9: 14250 | H9: 가자미포(껍질없음)를 사양에 맞게 토막 절단 | I9: ○
B10: 220 | C10: 가자미순살(강정)/탈피 | D10: 러시아/미국산 | E10: 2*2cm(8~10g) | F10: kg | G10: 15750 | H10: 가자미포(껍질없음)를 사양에 맞게 토막 절단
B11: 222 | C11: 가자미순살(탈피)슬라이스 | D11: 러시아/미국산 | E11: 20g~50g / 전용,커틀릿 | F11: kg | G11: 16500 | H11: 중뼈 제거한 순살 가자미포를 사양에 맞게 전뜨기 (전및, 커틀릿용)
B12: 289 | C12: 살짝말린가자미토막(국내산-중) | D12: 국내산 | E12: ±30g~40g | F12: kg | G12: 13050 | H12: 두절.내장.지너러미.꼬리제거 후 세척, 사양에 맞게 토막 절단 | I12: ○
B13: 288 | C13: 살짝말린가자미토막(국내산-대) | D13: 국내산 | E13: 50~100g | F13: kg | G13: 13350 | H13: 두절.내장.지너러미.꼬리제거 후 세척, 사양에 맞게 토막 절단 | I13: ○
B14: 215 | C14: 가자미토막(국내산)-중 | D14: 국내산 | E14: ±30g~40g | F14: kg | G14: 12750 | H14: 두절.내장.지너러미.꼬리제거 후 세척, 사양에 맞게 토막 절단 | I14: ○
B15: 214 | C15: 가자미토막(국내산)-대 | D15: 국내산 | E15: 50~100g | F15: kg | G15: 13050 | H15: 두절.내장.지너러미.꼬리제거 후 세척, 사양에 맞게 토막 절단 | I15: ○ | J15: ○
A16: 갈 치 | C16: 갈치토막(남아공) | D16: 남아공 | E16: ±40g~100g | F16: kg | G16: 품절 | H16: 두절.내장.지너러미.꼬리제거 후 세척, 사양에 맞게 토막 절단 | I16: ○
C17: 갈치토막(남아공)(냉장) | D17: 남아공 | E17: ±40g~100g | F17: kg | G17: 품절 | H17: 두절.내장.지너러미.꼬리제거 후 세척, 사양에 맞게 토막 절단 | I17: ○
B18: 225 | C18: 갈치토막(모로코) | D18: 모로코/브라질 | E18: ±40g~100g | F18: kg | G18: 10950 | H18: 두절.내장.지너러미.꼬리제거 후 세척, 사양에 맞게 토막 절단 | I18: ○
B19: 226 | C19: 갈치토막(모로코)(냉장) | D19: 모로코/브라질 | E19: ±40g~100g | F19: kg | G19: 품절 | H19: 두절.내장.지너러미.꼬리제거 후 세척, 사양에 맞게 토막 절단 | I19: ○
B20: 227 | C20: 갈치토막(세네갈) | D20: 세네갈 | E20: ±40g~100g | F20: kg | G20: 일시품절 | H20: 두절.내장.지너러미.꼬리제거 후 세척, 사양에 맞게 토막 절단 | I20: ○
B21: 228 | C21: 갈치토막(세네갈)(냉장) | D21: 세네갈 | E21: ±40g~100g | F21: kg | G21: 일시품절 | H21: 두절.내장.지너러미.꼬리제거 후 세척, 사양에 맞게 토막 절단 | I21: ○
B22: 231 | C22: 갈치(국내산-중) | D22: 국내산 | E22: 30g,40g | F22: kg | G22: 16500 | H22: 두절.내장.지너러미.꼬리제거 후 세척, 사양에 맞게 토막 절단 | I22: ○
B23: 232 | C23: 갈치(국내산-중)(냉장) | D23: 국내산 | E23: 30g,40g | F23: kg | G23: 18750 | H23: 두절.내장.지너러미.꼬리제거 후 세척, 사양에 맞게 토막 절단 | I23: ○
B24: 229 | C24: 갈치(국내산-대) | D24: 국내산 | E24: 40g,50g,60g` | F24: kg | G24: 19800 | H24: 두절.내장.지너러미.꼬리제거 후 세척, 사양에 맞게 토막 절단 | I24: ○ | J24: ○
B25: 230 | C25: 갈치(국내산-대)(냉장) | D25: 국내산 | E25: 40g,50g,60g | F25: kg | G25: 22050 | H25: 두절.내장.지너러미.꼬리제거 후 세척, 사양에 맞게 토막 절단 | I25: ○ | J25: ○
B26: 421 | C26: 갈치(제주산)(대) | D26: 국내산(제주) | E26: 40g,50g,60g | F26: kg | G26: 23250 | H26: 두절.내장.지너러미.꼬리제거 후 세척, 사양에 맞게 토막 절단 | I26: ○
B27: 422 | C27: 갈치(제주산)(냉장)(대) | D27: 국내산(제주) | E27: 40g,50g,60g | F27: kg | G27: 25500 | H27: 두절.내장.지너러미.꼬리제거 후 세척, 사양에 맞게 토막 절단 | I27: ○
B28: 810 | C28: 갈치(제주산) | D28: 국내산(제주) | E28: 40g | F28: kg | G28: 20250 | H28: 두절.내장.지너러미.꼬리제거 후 세척, 사양에 맞게 토막 절단 | I28: ○
B29: 811 | C29: 갈치(제주산)(냉장) | D29: 국내산(제주) | E29: 40g | F29: kg | G29: 22500 | H29: 두절.내장.지너러미.꼬리제거 후 세척, 사양에 맞게 토막 절단 | I29: ○
B30: 234 | C30: 갈치포(수입) | D30: 수입산 | E30: 20g,30g | F30: kg | G30: 품절 | H30: 중뼈를 제거한 순살 갈치포를 사양에 맞게 토막 절단 | I30: ○
B31: 233 | C31: 갈치포(국내산) | D31: 국내산 | E31: 15g,20g | F31: kg | G31: 16500 | H31: 중뼈를 제거한 순살 갈치포를 5% 건조후 튀김용 사양에 맞게 토막 절단 | I31: ○
A32: 고등어 | B32: 239 | C32: 고등어조림 | D32: 국내산 | E32: ±30g~40g | F32: kg | G32: 3900 | H32: 두절.내장.꼬리제거 후 세척, 사양에 맞게 조림용 토막 절단 | I32: ○
B33: 240 | C33: 고등어조림(냉장) | D33: 국내산 | E33: ±30g~40g | F33: kg | G33: 5400 | H33: 두절.내장.꼬리제거 후 세척, 사양에 맞게 조림용 토막 절단 | I33: ○
B34: 241 | C34: 고등어조림(대) | D34: 국내산 | E34: ±30g~60g | F34: kg | G34: 7350 | H34: 두절.내장.꼬리제거 후 세척, 사양에 맞게 조림용 토막 절단 | I34: ○ | J34: ○
B35: 242 | C35: 고등어조림(대)(냉장) | D35: 국내산 | E35: ±30g~60g | F35: kg | G35: 8850 | H35: 두절.내장.꼬리제거 후 세척, 사양에 맞게 조림용 토막 절단 | I35: ○ | J35: ○
B36: 235 | C36: 고등어구이 | D36: 국내산 | E36: ±30g~40g | F36: kg | G36: 8250 | H36: 두절.내장.꼬리제거 후 세척, 사양에 맞게 구이용 토막 절단 | I36: ○
B37: 236 | C37: 고등어구이(냉장) | D37: 국내산 | E37: ±30g~40g | F37: kg | G37: 9750 | H37: 두절.내장.꼬리제거 후 세척, 사양에 맞게 구이용 토막 절단 | I37: ○
B38: 237 | C38: 고등어구이(대) | D38: 국내산 | E38: ±30g~60g | F38: kg | G38: 8550 | H38: 두절.내장.꼬리제거 후 세척, 사양에 맞게 구이용 토막 절단 | I38: ○ | J38: ○
B39: 238 | C39: 고등어구이(대)(냉장) | D39: 국내산 | E39: ±30g~60g | F39: kg | G39: 10050 | H39: 두절.내장.꼬리제거 후 세척, 사양에 맞게 구이용 토막 절단 | I39: ○ | J39: ○
B40: 243 | C40: 고등어순살 | D40: 국내산 | E40: ±30g~50g | F40: kg | G40: 10350 | H40: 두절.내장.꼬리제거 후 세척, 사양에 맞게 구이용 토막 절단 | I40: ○
B41: 244 | C41: 고등어순살(냉장) | D41: 국내산 | E41: ±30g~50g | F41: kg | G41: 12150 | H41: 두절.내장.꼬리제거 후 세척, 사양에 맞게 구이용 토막 절단 | I41: ○
B42: 249 | C42: 고등어순살(대) | D42: 국내산 | E42: ±30g~50g | F42: kg | G42: 10800 | H42: 중뼈를 제거한 순살 고등어포를 세척후 사양에 맞게 토막 절단(잔가시있음) | I42: ○ | J42: ○
B43: 250 | C43: 고등어순살(대)(냉장) | D43: 국내산 | E43: ±30g~50g | F43: kg | G43: 12600 | H43: 중뼈를 제거한 순살 고등어포를 세척후 사양에 맞게 토막 절단(잔가시있음) | I43: ○ | J43: ○
C44: 고등어순살(온포) | D44: 국내산 | E44: 70±10g | F44: kg | G44: 품절 | H44: 중뼈를 제거한 순살 고등어포를 세척후 사양에 맞게 토막 절단(잔가시있음) | I44: ○
C45: 고등어순살(온포)(냉장) | D45: 국내산 | E45: 70±10g | F45: kg | G45: 품절 | H45: 중뼈를 제거한 순살 고등어포를 세척후 사양에 맞게 토막 절단(잔가시있음) | I45: ○
B46: 1405 | C46: 고등어순살(온포)(90±10g) | D46: 국내산 | E46: 90±10g | F46: kg | G46: 품절 | H46: 중뼈를 제거한 순살 고등어포를 세척후 사양에 맞게 토막 절단(잔가시있음) | I46: ○
C47: 고등어순살(온포)(냉장)(90±10g) | D47: 국내산 | E47: 90±10g | F47: kg | G47: 품절 | H47: 중뼈를 제거한 순살 고등어포를 세척후 사양에 맞게 토막 절단(잔가시있음) | I47: ○
B48: 245 | C48: 고등어저염순살 | D48: 국내산 | E48: ±30g~50g | F48: kg | G48: 10500 | H48: 중뼈를 제거한 순살 고등어포를 세척후 저염(2%)수에 염지(잔가시있음) | I48: ○
B49: 828 | C49: 고등어저염순살(냉장) | D49: 국내산 | E49: ±30g~50g | F49: kg | G49: 12300 | H49: 중뼈를 제거한 순살 고등어포를 세척후 저염(2%)수에 염지(잔가시있음) | I49: ○
B50: 246 | C50: 고등어저염순살(대) | D50: 국내산 | E50: ±30g~50g | F50: kg | G50: 10950 | H50: 중뼈를 제거한 순살 고등어포를 세척후 저염(2%)수에 염지(잔가시있음) | I50: ○ | J50: ○
B51: 247 | C51: 고등어저염순살(대)(냉장) | D51: 국내산 | E51: ±30g~50g | F51: kg | G51: 12750 | H51: 중뼈를 제거한 순살 고등어포를 세척후 저염(2%)수에 염지(잔가시있음) | I51: ○ | J51: ○
C52: 고등어저염순살(온포) | D52: 국내산 | E52: 70±10g | F52: kg | G52: 품절 | H52: 중뼈를 제거한 순살 고등어포를 세척후 저염(2%)수에 염지(잔가시있음) | I52: ○
C53: 고등어저염순살(온포)(냉장) | D53: 국내산 | E53: 70±10g | F53: kg | G53: 품절 | H53: 중뼈를 제거한 순살 고등어포를 세척후 저염(2%)수에 염지(잔가시있음) | I53: ○
C54: 고등어저염순살(온포)(90±10g) | D54: 국내산 | E54: 90±10g | F54: kg | G54: 품절 | H54: 중뼈를 제거한 순살 고등어포를 세척후 저염(2%)수에 염지(잔가시있음) | I54: ○
C55: 고등어저염순살(온포)(90±10g)(냉장) | D55: 국내산 | E55: 90±10g | F55: kg | G55: 품절 | H55: 중뼈를 제거한 순살 고등어포를 세척후 저염(2%)수에 염지(잔가시있음) | I55: ○
B56: 479 | C56: 함초담은고등어순살 | D56: 국내산 | E56: ±30g or ±50g | F56: kg | G56: 12450 | H56: 고등어99.5%, 함초가루0.3%, 천일염0.2%
B57: 278 | C57: 레몬담은고등어순살 | D57: 국내산 | E57: ±30g or ±50g | F57: kg | G57: 12450 | H57: 고등어99.5%, 레몬농축액0.3%, 천일염0.2%
B58: 276 | C58: 라임담은고등어순살 | D58: 국내산 | E58: ±30g or ±50g | F58: kg | G58: 12450 | H58: 고등어99.5%, 라임향0.3%, 천일염0.2%
B59: 258 | C59: 녹차담은고등어순살 | D59: 국내산 | E59: ±30g or ±50g | F59: kg | G59: 12450 | H59: 고등어99.5%, 녹차가루0.3%, 천일염0.2%
B60: 317 | C60: 뽕잎담은고등어순살 | D60: 국내산 | E60: ±30g or ±50g | F60: kg | G60: 12450 | H60: 고등어99.5%, 뽕잎가루0.3%, 천일염0.2%
C61: 노르웨이고등어조림 | D61: 노르웨이 | E61: ±30g~±80g | F61: kg | G61: 품절 | H61: 두절.내장.꼬리제거 후 세척, 사양에 맞게 조림용 토막 절단
C62: 노르웨이고등어순살 | D62: 노르웨이 | E62: ±30g~±80g | F62: kg | G62: 품절 | H62: 고등어99.5%, 라임향0.3%, 천일염0.2%
B63: 356 | C63: 어린이용 고등어순살(잔가시제거) | D63: 한국산 | E63: ±30g~40g | F63: kg | G63: 19500 | H63: 중뼈를 제거한 순살 고등어포를 세척후 사양에 맞게 토막 절단(잔가시 99%제거)
A64: 꽁 치 | B64: 254 | C64: 꽁치토막 | D64: 원양산/대만산 | E64: 45±5g | F64: kg | G64: 21000 | H64: 두절.내장.꼬리제거 후 세척, 사양에 맞게 토막 절단 | I64: ○
B65: 255 | C65: 꽁치토막(냉장) | D65: 원양산/대만산 | E65: 45±5g | F65: kg | G65: 22500 | H65: 두절.내장.꼬리제거 후 세척, 사양에 맞게 토막 절단 | I65: ○
B66: 252 | C66: 꽁치토막(대) | D66: 원양산/대만산 | E66: 50-100g | F66: kg | G66: 품절 | H66: 두절.내장.꼬리제거 후 세척, 사양에 맞게 토막 절단 | I66: ○
B67: 253 | C67: 꽁치토막(대)(냉장) | D67: 원양산/대만산 | E67: 40-100g | F67: kg | G67: 품절 | H67: 두절.내장.꼬리제거 후 세척, 사양에 맞게 토막 절단 | I67: ○
A68: 참 대 구 | B68: 432 | C68: 참대구토막(국내산) | D68: 국산 | E68: ±40g~100g | F68: kg | G68: 12000 | H68: 두절.내장.지너러미.꼬리제거 후 세척, 사양에 맞게 토막 절단 | I68: ○ | J68: ○
B69: 433 | C69: 참대구토막(국내산)(냉장) | D69: 국산 | E69: ±40g~100g | F69: kg | G69: 13500 | H69: 두절.내장.지너러미.꼬리제거 후 세척, 사양에 맞게 토막 절단 | I69: ○ | J69: ○
B70: 434 | C70: 참대구토막(수입) | D70: 미국/러시아 | E70: ±40g~100g | F70: kg | G70: 품절 | H70: 두절.내장.지너러미.꼬리제거 후 세척, 사양에 맞게 토막 절단 | I70: ○
B71: 435 | C71: 참대구토막(수입)(냉장) | D71: 미국/러시아 | E71: ±40g~100g | F71: kg | G71: 품절 | H71: 두절.내장.지너러미.꼬리제거 후 세척, 사양에 맞게 토막 절단 | I71: ○
B72: 427 | C72: 참대구순살(탈피) | D72: 미국/러시아 | E72: 20~30g,30~40g,40~50g | F72: kg | G72: 품절 | H72: 대구포(껍질없음)를 사양에 맞게 토막 절단 | I72: ○
B73: 429 | C73: 참대구순살강정(탈피) | D73: 미국/러시아 | E73: 3*3*3 절단 | F73: kg | G73: 품절 | H73: 대구포(껍질없음)를 사양에 맞게 토막 절단
B74: 426 | C74: 참대구순살(유피) | D74: 미국/러시아 | E74: 20~30g,30~40g,40~50g | F74: kg | G74: 품절 | H74: 대구포(껍질있음)을 사양에 맞게 토막 절단
B75: 428 | C75: 참대구순살강정(유피) | D75: 미국/러시아 | E75: 3cm*3cm(±15~20g/개) | F75: kg | G75: 품절 | H75: 대구포(껍질있음)를 3 * 3로 깍둑설기 | I75: ○
B76: 267 | C76: 대구알 | D76: 미국/러시아 | E76: 해물탕용 | F76: kg | G76: 15750 | H76: 대구알중 해물탕용. 선도최상급
B77: 266 | C77: 대구곤 | D77: 미국/러시아 | E77: 해물탕용 | F77: kg | G77: 17250 | H77: 대구내장중 해물탕용. 선도최상급
A78: 민 대 구 | B78: 286 | C78: 민대구토막 | D78: 원양산 | E78: ±40g~100g | F78: kg | G78: 9300 | H78: 두절.내장.지너러미.꼬리제거 후 세척, 사양에 맞게 토막 절단 | I78: ○
B79: 287 | C79: 민대구토막(냉장) | D79: 원양산 | E79: ±40g~100g | F79: kg | G79: 10800 | H79: 두절.내장.지너러미.꼬리제거 후 세척, 사양에 맞게 토막 절단 | I79: ○
B80: 280 | C80: 민대구순살(유피) | D80: 원양산 | E80: 20g~80g | F80: kg | G80: 14700 | H80: 민대구순살(껍질있음)를 사양에 맞게 토막 절단 | I80: ○
B81: 281 | C81: 민대구순살(탈피) | D81: 원양산 | E81: 20g~80g | F81: kg | G81: 16500 | H81: 민대구순살(껍질없음)를 사양에 맞게 토막 절단 | I81: ○
A82: 동 태 | B82: 272 | C82: 동태토막 | D82: 러시아 | E82: ±40g~100g | F82: kg | G82: 6450 | H82: 두절.내장.지너러미.꼬리제거 후 세척, 사양에 맞게 토막 절단 | I82: ○
B83: 273 | C83: 동태토막(냉장) | D83: 러시아 | E83: ±40g~100g | F83: kg | G83: 7950 | H83: 두절.내장.지너러미.꼬리제거 후 세척, 사양에 맞게 토막 절단 | I83: ○
B84: 270 | C84: 동태포슬라이스(수입완제품) | D84: 러시아 | E84: 30~50g | F84: kg | G84: 7500 | H84: 중뼈 . 껍질을 제거한 순살 동태포를 사양에 맞게 전뜨기 *선별불가*
B85: 269 | C85: 동태포슬라이스 | D85: 러시아 | E85: 20g~50g | F85: kg | G85: 9450 | H85: 중뼈 . 껍질을 제거한 순살 동태포를 사양에 맞게 전뜨기
B86: 275 | C86: 동태포(탕수) | D86: 러시아 | E86: 2cm*5cm(±15~20g/개) | F86: kg | G86: 9450 | H86: 중뼈 . 껍질을 제거한 순살 동태포를 사양에 맞게 탕수용으로 절단
B87: 274 | C87: 동태포(강정) | D87: 러시아 | E87: 2.5Cm*2.5Cm(8~10g) | F87: kg | G87: 9450 | H87: 중뼈 . 껍질을 제거한 순살 동태포를 사양에 맞게 강정용으로 절단
B88: 359 | C88: 어린이용 동태포슬라이스(잔가시제거) | D88: 미국/러시아 | E88: 20g~50g | F88: kg | G88: 품절 | H88: 중뼈를 제거한 순살 명태포를 세척후 사양에 맞게 토막 절단(잔가시 99%제거)
B89: 357 | C89: 어린이용 동태포(강정) | D89: 미국/러시아 | E89: 2cm*5cm(±15~20g/개) | F89: kg | G89: 품절 | H89: 중뼈를 제거한 순살 명태포를 세척후 2.5 * 2.5로 깍둑설기(잔가시 99%제거)
B90: 358 | C90: 어린이용 동태포(탕수) | D90: 미국/러시아 | E90: 2.5Cm*2.5Cm(8~10g) | F90: kg | G90: 품절 | H90: 중뼈를 제거한 순살 명태포를 세척후2*5로 깍둑설기(잔가시 99%제거)
B91: 268 | C91: 동태곤(명태곤) | D91: 러시아 | E91: 해물탕용 | F91: kg | G91: 15000 | H91: 명태내장중 해물탕용.
B92: 271 | C92: 동태알(명태알) | D92: 러시아 | E92: 해물탕용 | F92: kg | G92: 20250 | H92: 명란중 알탕용.
A93: 선동 명태살 | B93: 338 | C93: 선동 명태살(강정/국용) | D93: 러시아 | E93: 3*3*3cm | F93: kg | G93: 12000 | H93: 선동 압축 명태살 깍둑썰기
B94: 339 | C94: 선동 명태살-20g(전/커틀릿용) | D94: 러시아 | E94: 4.8*6*0.7cm | F94: kg | G94: 13200 | H94: 선동 압축 명태살 깍둑썰기
B95: 340 | C95: 선동 명태살-40g(커틀릿용) | D95: 러시아 | E95: 6*7*1cm | F95: kg | G95: 13200 | H95: 선동 압축 명태살 깍둑썰기
A96: 코 다 리 | B96: 469 | C96: 코다리토막 | D96: 미국/러시아 | E96: 30g~80g | F96: kg | G96: 6750 | H96: 반건조 상태의 코다리를 사양에 맞게 토막 절단 | I96: ○
B97: 468 | C97: 코다리순살 | D97: 미국/러시아 | E97: 30g,40g,50g,60g | F97: kg | G97: 10500 | H97: 중뼈를 제거한 순살 코다리로 조리 사양에 맞게 토막 절단
B98: 466 | C98: 코다리순살(강정) | D98: 미국/러시아 | E98: 2.5cm*2.5cm(±15~20g/개) | F98: kg | G98: 12000 | H98: 중뼈를 제거한 순살 코다리를 3 * 3로 깍둑설기
B99: 467 | C99: 코다리순살(탕수) | D99: 미국/러시아 | E99: 2.5cm*5cm(±15~20g/개) | F99: kg | G99: 12000 | H99: 중뼈를 제거한 순살 코다리를 2 * 5로 깍둑설기
B100: 364 | C100: 어린이용 코다리순살(잔가시제거) | D100: 미국/러시아 | E100: 30g,40g,50g,60g | F100: kg | G100: 12750 | H100: 중뼈를 제거한 순살 코다리순살을 세척후 사양에 맞게 토막 절단(잔가시 99%제거)
...

Sheet 5796_호남푸드_2
A1: 5796_호남푸드_6월★SJ씨푸드★학교가하미라+3.xlsx
A2: https://school062.com/bbs/board.php?bo_table=product_02&wr_id=5796
A3: 구 분 | B3: 코드 | C3: 제 품 명 | D3: 원 산 지 | E3: 제 품 규 격 | F3: 단위 | G3: 학교가 | H3: 특 징 | I3: HACCP 적용 | J3: 비 고
A4: 오징어 | B4: 391 | C4: 오징어채 | D4: 국내(연근해) | E4: 냉동 | F4: kg | G4: 19950 | H4: 1Cm*5~7Cm | I4: ○
B5: 392 | C5: 오징어채(냉장) | D5: 국내(연근해) | E5: 냉장 | F5: kg | G5: 25950 | H5: 1Cm*5~7Cm (해동품) | I5: ○
B6: 393 | C6: 오징어채/탈피 | D6: 국내(연근해) | E6: 냉동 | F6: kg | G6: 20700 | H6: 1Cm*5~7Cm 껍질無 | I6: ○
B7: 394 | C7: 오징어채/탈피(냉장) | D7: 국내(연근해) | E7: 냉장 | F7: kg | G7: 26700 | H7: 1Cm*5~7Cm 껍질無 (해동품) | I7: ○
B8: 395 | C8: 오징어할복 | D8: 국내(연근해) | E8: 냉동 | F8: kg | G8: 21900 | H8: 할복 귀,다리,포함 | I8: ○
B9: 396 | C9: 오징어할복(냉장) | D9: 국내(연근해) | E9: 냉장 | F9: kg | G9: 26400 | H9: 할복 귀,다리,포함 (해동품) | I9: ○
B10: 397 | C10: 오징어할복/탈피 | D10: 국내(연근해) | E10: 냉동 | F10: kg | G10: 24900 | H10: 할복 귀,다리,포함 껍질無 | I10: ○
B11: 398 | C11: 오징어할복/탈피(냉장) | D11: 국내(연근해) | E11: 냉장 | F11: kg | G11: 29400 | H11: 할복 귀,다리,포함 껍질無 (해동품) | I11: ○
B12: 383 | C12: 오징어몸통할복 | D12: 국내(연근해) | E12: 냉동 | F12: kg | G12: 25500 | H12: 몸통할복 귀포함 | I12: ○
B13: 384 | C13: 오징어몸통할복(냉장) | D13: 국내(연근해) | E13: 냉장 | F13: kg | G13: 30000 | H13: 몸통할복 귀포함 (해동품) | I13: ○
B14: 385 | C14: 오징어몸통할복/탈피 | D14: 국내(연근해) | E14: 냉동 | F14: kg | G14: 26250 | H14: 몸통할복 귀포함 껍질無 | I14: ○
B15: 386 | C15: 오징어몸통할복/탈피(냉장) | D15: 국내(연근해) | E15: 냉장 | F15: kg | G15: 30750 | H15: 몸통할복 귀포함 껍질無 (해동품) | I15: ○
B16: 379 | C16: 오징어몸통채 | D16: 국내(연근해) | E16: 냉동 | F16: kg | G16: 22950 | H16: 몸통만 1Cm*5~7Cm 귀포함 | I16: ○
... B25: 372 | C25: 오징어다지기(냉장) | D25: 국내(연근해) | E25: 냉장 | F25: kg | G25: 29250 | H25: 볶음및 완자용 다지기 (해동품) | I25: ○
B26: 369 | C26: 오징어가는채 | D26: 국내(연근해) | E26: 냉동 | F26: kg | G26: 품절 | H26: 부침용및 볶음용 가는채 0.5*5cm | I26: ○
B27: 370 | C27: 오징어가는채(냉장) | D27: 국내(연근해) | E27: 냉동 | F27: kg | G27: 품절 | H27: 부침용및 볶음용 가는채 0.5*5cm | I27: ○
C28: 오징어솔방울사각/탈피 | D28: 국내(연근해) | E28: 냉동 | F28: kg | G28: 품절 | H28: 몸통만칼집후 3Cm*5cm 절단 껍질無 블럭동결 | I28: ○
C29: 오징어솔방울사각/탈피(냉장) | D29: 국내(연근해) | E29: 냉장 | F29: kg | G29: 품절 | H29: 몸통만칼집후 3Cm*5cm 절단 껍질無 (해동품) | I29: ○
B30: 387 | C30: 오징어솔방울채 | D30: 국내(연근해) | E30: 냉동 | F30: kg | G30: 26400 | H30: 몸통만칼집후 1Cm*5~7Cm 절단 | I30: ○
B31: 388 | C31: 오징어솔방울채(냉장) | D31: 국내(연근해) | E31: 냉장 | F31: kg | G31: 30900 | H31: 몸통만칼집후 1Cm*5~7Cm 절단 (해동품) | I31: ○
B32: 389 | C32: 오징어솔방울채/탈피 | D32: 국내(연근해) | E32: 냉동 | F32: kg | G32: 27000 | H32: 몸통만칼집후 1Cm*5~7Cm 절단 껍질無 | I32: ○
B33: 390 | C33: 오징어솔방울채/탈피(냉장) | D33: 국내(연근해) | E33: 냉장 | F33: kg | G33: 31500 | H33: 몸통만칼집후 1Cm*5~7Cm 절단 껍질無 (해동품) | I33: ○
A34: 갑 오 징 어 | B34: 540 | C34: 갑오징어(미탈피채) | D34: 국내산 | E34: 냉장 | F34: kg | G34: 30000 | H34: (귀O,다리O) 탈피 하지않고 그대로 채 썸
B35: 546 | C35: 갑오징어(탈피채) | D35: 국내산 | E35: 냉장 | F35: kg | G35: 일시품절 | H35: (귀X, 다리O) 탈피하여 채 썸
B36: 538 | C36: 갑오징어(미탈피몸통채) | D36: 국내산 | E36: 냉장 | F36: kg | G36: 39750 | H36: (귀O, 다리X) 탈피 하지않고 몸통만 채 썸
B37: 542 | C37: 갑오징어(탈피몸통채) | D37: 국내산 | E37: 냉장 | F37: kg | G37: 일시품절 | H37: (귀X, 다리X) 탈피하여 몸통만 채 썸
B38: 541 | C38: 갑오징어(미탈피할복) | D38: 국내산 | E38: 냉장 | F38: kg | G38: 30000 | H38: (귀O, 다리O) 탈피하지않고 할복만 함
B39: 547 | C39: 갑오징어(탈피할복) | D39: 국내산 | E39: 냉장 | F39: kg | G39: 일시품절 | H39: (귀X, 다리O) 탈피하여 할복함
B40: 539 | C40: 갑오징어(미탈피몸통할복) | D40: 국내산 | E40: 냉장 | F40: kg | G40: 39600 | H40: (귀O, 다리X) 탈피하지않고 몸통만 할복함
B41: 543 | C41: 갑오징어(탈피몸통할복) | D41: 국내산 | E41: 냉장 | F41: kg | G41: 일시품절 | H41: (귀X, 다리X) 탈피하여 몸통만 할복함
B42: 544 | C42: 갑오징어(탈피솔방울) | D42: 국내산 | E42: 냉장 | F42: kg | G42: 일시품절 | H42: 보통 3*4크기
B43: 545 | C43: 갑오징어(탈피솔방울채) | D43: 국내산 | E43: 냉장 | F43: kg | G43: 일시품절 | H43: 보통 1*5크기
B44: 537 | C44: 갑오징어(다리) | D44: 국내산 | E44: 냉장 | F44: kg | G44: 9000 | H44: 갑오징어 다리만 포장함
B45: 595 | C45: 베이비갑오징어(냉동) | D45: 베트남 | E45: 냉동 | F45: kg | G45: 21750 | H45: 갑오징어 냉동 블록, 수입완제품
A46: 주 꾸 미 | B46: 618 | C46: 절단쭈꾸미(냉장) | D46: 국내산 | E46: 냉장 | F46: kg | G46: 67500 | H46: 내장제거, 5cm내외절단, 채 | I46: ○
B47: 617 | C47: 절단쭈꾸미(냉동) | D47: 국내산 | E47: 냉동 | F47: kg | G47: 66000 | H47: 내장제거, 5cm내외절단, 채, 블럭동결 | I47: ○ | J47: 500g / 1kg
B48: 619 | C48: 쭈꾸미온마리(국산)(냉장) | D48: 국내산 | E48: 냉장 | F48: kg | G48: 66000 | H48: kg/10~13미, 길이15cm내외, 온마리, 해동품, 내장제거X, *냉동제품 3일전 미리 발주요망
B49: 620 | C49: 쭈꾸미온마리(국산) | D49: 국내산 | E49: 냉동 | F49: kg | G49: 66000 | H49: kg/10~13미, 길이15cm내외, 온마리, 해동품, 내장제거X, *냉동제품 3일전 미리 발주요망
B50: 420 | C50: 절단쭈꾸미/수입(냉장) | D50: 수입(베트남) | E50: 냉장 | F50: kg | G50: 20250 | H50: 내장제거, 5cm내외절단, 채, 수입완제품 해동
B51: 419 | C51: 절단쭈꾸미/수입 | D51: 수입(베트남) | E51: 냉동 | F51: kg | G51: 16500 | H51: 내장제거, 5cm내외절단, 채, 수입완제품
B52: 418 | C52: 절단주꾸미/국내가공품(냉동) | D52: 수입(베트남) | E52: 냉장 | F52: kg | G52: 22500 | H52: 내장제거, 5cm내외절단, 채, 수입완제품
B53: 424 | C53: 쭈꾸미온마리(30미/kg) | D53: 수입(베트남) | E53: 냉동 | F53: kg | G53: 일시품절 | H53: 1kg/30미, 내장제거 온마리
C54: 쭈꾸미온마리(50미/kg) | D54: 수입(베트남) | E54: 냉동 | F54: kg | G54: 품절 | H54: 1kg/50미, 내장제거 온마리
C55: 쭈꾸미온마리(75미/kg) | D55: 수입(베트남) | E55: 냉동 | F55: kg | G55: 품절 | H55: 1kg/75미, 내장제거 온마리
B56: 425 | C56: 쭈꾸미온마리(40미/kg) | D56: 수입(베트남) | E56: 냉동 | F56: kg | G56: 17250 | H56: 1kg/40미, 내장제거 온마리 (미/25g)
B57: 423 | C57: 쭈꾸미온마리 1/2절단 | D57: 수입(베트남) | E57: 냉동 | F57: kg | G57: 품절 | H57: 1kg/40미, 1/2 블럭절단 (kg/80쪽 내외)
A58: 낙 지 | B58: 202 | C58: 절단낙지(냉장) | D58: 국내산 | E58: 냉장 | F58: kg | G58: 37500 | H58: 내장제거, 5cm내외절단, 채
C59: 절단낙지(냉동) | D59: 국내산 | E59: 냉동 | F59: kg | G59: 일시품절 | H59: 내장제거, 5cm내외절단, 채, 블럭동결 | J59: 500g / 1kg
B60: 201 | C60: 절단낙지(냉동)HACCP | D60: 국내산 | E60: 냉동 | F60: kg | G60: 36000 | H60: 내장제거, 5cm내외절단, 채, 블럭동결 | I60: ○ | J60: 500g / 1kg
C61: 낙지온마리/국산(냉장) | D61: 국내산 | E61: 냉장 | F61: kg | G61: 일시품절 | H61: kg/4~6미, 길이30cm내외, 온마리, 해동품, 내장제거X, *냉동제품 3일전 미리 발주요망
C62: 낙지온마리/국산(냉동) | D62: 국내산 | E62: 냉동 | F62: kg | G62: 일시품절 | H62: kg/4~6미, 길이30cm내외, 온마리, 해동품, 내장제거X, *냉동제품 3일전 미리 발주요망
B63: 566 | C63: 냉동낙지(소)/온마리(중국) | D63: 수입(중국) | E63: 냉동 | F63: 850g/팩 | G63: 일시품절 | H63: 마리당 100~150g. 낙지 온마리 블럭동결
B64: 567 | C64: 냉동낙지(중)온마리(중국) | D64: 수입(중국) | E64: 냉동 | F64: 850g/팩 | G64: 일시품절 | H64: 마리당 150~200g. 낙지 온마리 블럭동결
B65: 565 | C65: 냉동낙지(대)온마리(중국) | D65: 수입(중국) | E65: 냉동 | F65: 850g/팩 | G65: 일시품절 | H65: 마리당 200~300g. 낙지 온마리 블럭동결
B66: 415 | C66: 절단낙지/수입(냉장) | D66: 수입(베트남외) | E66: 냉장 | F66: kg | G66: 21000 | H66: 내장제거, 5cm내외절단, 채, 수입완제품 해동
B67: 414 | C67: 절단낙지/수입(냉동) | D67: 수입(베트남외) | E67: 냉동 | F67: kg | G67: 18000 | H67: 내장제거, 5cm내외절단, 채, 수입완제품
B68: 417 | C68: 절단낙지/중국(냉장) | D68: 중국 | E68: 냉동 | F68: kg | G68: 21000 | H68: 내장제거, 5cm내외절단, 채, 수입완제품 | I68: 상시품절가능
B69: 416 | C69: 절단낙지/중국(냉동) | D69: 중국 | E69: 냉동 | F69: kg | G69: 18000 | H69: 내장제거, 5cm내외절단, 채, 수입완제품 | I69: 상시품절가능
A70: 문어 | B70: 643 | C70: 문어 | D70: 국내산 | E70: 냉동 | F70: kg | G70: 47250 | H70: 생물문어, 마리당 약 500g. 키로2미. 온마리, 내장O
B71: 587 | C71: 문어절단 | D71: 수입(말레이시아) | E71: 냉동 | F71: kg | G71: 38250 | H71: 자숙문어 3cm내외 절단, 샐러드무침 볶음 용도
A72: 한 치 | B72: 208 | C72: 한치채/유피(냉장) | D72: 국내산 | E72: 냉장 | F72: kg | G72: 일시품절 | H72: 한치 5월~6월 냉장만가능
B73: 210 | C73: 한치할복(유피) | D73: 국내산 | E73: 냉장 | F73: kg | G73: 일시품절 | H73: 한치 5월~6월 냉장만가능
B74: 209 | C74: 한치채/탈피(냉장) | D74: 국내산 | E74: 냉장 | F74: kg | G74: 일시품절 | H74: 한치 5월~6월 냉장만가능
B75: 211 | C75: 한치할복(탈피) | D75: 국내산 | E75: 냉장 | F75: kg | G75: 일시품절 | H75: 한치 5월~6월 냉장만가능
A76: * 모든제품 3일전 발주 ,특히 냉장제품은 5일전 발주해주세요
A77: *학교 홍보시 필히 생물과 해동품을 구분하시고, 생물 발주시 재고 확인 후 발주바랍니다.
A78: *규격란에 있는 사이즈를 정확이 인지하시고, 표시규격보다 큰 사이즈로 출고시 단가 상향조정되오니 참고바랍니다.
A79: ※ 어류 및 연체류 최소 발주단위 1KG 이상

Sheet 5796_호남푸드_3
A1: 5796_호남푸드_6월★SJ씨푸드★학교가하미라+3.xlsx
A2: https://school062.com/bbs/board.php?bo_table=product_02&wr_id=5796
A3: 구 분 | B3: 코 드 | C3: 제 품 명 | D3: 원산지 | E3: 제 품 규 격 | F3: 단위 | G3: 학교가 | H3: 특 징 | I3: HACCP 적용 | J3: 비 고
A4: 꽃 게 | B4: 557 | C4: 꽃게(4절)-발끝제거 | D4: 국내산 | E4: 냉동 | F4: 팩 | G4: 18300 | H4: 1토막:25~30g, 약 24토막, 실중량900g | I4: ○
B5: 556 | C5: 꽃게(2절)-발끝제거 | D5: 국내산 | E5: 냉동 | F5: 팩 | G5: 17550 | H5: 1토막:30~40g, 약 20토막, 실중량900g | I5: ○
B6: 558 | C6: 꽃게(중국/냉동)L사이즈 | D6: 중국 | E6: 냉동 | F6: KG | G6: 13500 | H6: 냉동절단꽃게 수입. L사이즈. 36조각내외 / ±25g | J6: kg
B7: 559 | C7: 꽃게(중국/냉동)M사이즈 | D7: 중국 | E7: 냉동 | F7: KG | G7: 10500 | H7: (팩/450g)냉동절단꽃게 수입. L사이즈. 36조각내외 / ±25g | J7: (팩/450g)
B8: 560 | C8: 꽃게(중국/냉동)S사이즈 | D8: 중국 | E8: 냉동 | F8: KG | G8: 9000 | H8: (팩/450g)냉동절단꽃게 수입. S사이즈. 60조각내외 / ±15g | J8: (팩/450g)
B9: 807 | C9: 꽃게 온마리 | D9: 국내산 | E9: 냉동 | F9: KG | G9: 18000 | H9: 마리당 160~180g 정도. 등껍질제거X, 끝발제거X
A10: 황게 | B10: 644 | C10: 황게(2절) | D10: 국내산 | E10: 냉동 | F10: 팩 | G10: 일시품절 | H10: 1토막:15~20g | I10: ○ | J10: 팩
A11: 새 우 | B11: 553 | C11: 껍질새우/대하 | D11: 국내산 | E11: 냉장 | F11: KG | G11: 품절 | H11: KG/25미~30미. 국산 대하, 해동품
B12: 554 | C12: 껍질새우/대하(냉동) | D12: 국내산 | E12: 냉장 | F12: KG | G12: 품절 | H12: KG/25미~30미. 국산 대하
B13: 193 | C13: 껍질새우 | D13: 국내산 | E13: 냉장 | F13: kg | G13: 품절 | H13: 13~15cm, 50~60미, 양식산, 흰다리새우
B14: 194 | C14: 껍질새우(냉동) | D14: 국내산 | E14: 냉동 | F14: kg | G14: 품절 | H14: 13~15cm, 50~60미, 양식산, 흰다리새우
B15: 646 | C15: 흰다리새우(40미) | D15: 수입(말레이시아) | E15: 냉동 | F15: kg | G15: 30750 | H15: 500g/팩 포장(수입완제품)(머리,꼬리,껍질 있음) | J15: 20미/500g
B16: 195 | C16: 흰다리새우(60미) | D16: 수입(말레이시아) | E16: 냉동 | F16: kg | G16: 27750 | H16: 500g/팩 포장(수입완제품)(머리,꼬리,껍질 있음) | J16: 30미/500g
B17: 837 | C17: 흰다리새우(80미) | D17: 수입(말레이시아) | E17: 냉동 | F17: kg | G17: 26250 | H17: 500g/팩 포장(수입완제품)(머리,꼬리,껍질 있음) | J17: 40미/500g
B18: 645 | C18: 흰다리새우(100미) | D18: 수입(말레이시아) | E18: 냉동 | F18: kg | G18: 24000 | H18: 500g/팩 포장(수입완제품)(머리,꼬리,껍질 있음) | J18: 50미/500g
B19: 794 | C19: 블랙타이거새우(8미)500g | D19: 수입(말레이시아) | E19: 냉동 | F19: 500/팩 | G19: 24750 | H19: IQF개별동결, 홍다리얼룩새우, 길이 약 20cm
B20: 849 | C20: 블랙타이거새우(10미)500g | D20: 수입(말레이시아) | E20: 냉동 | F20: 500/팩 | G20: 23250 | H20: IQF개별동결, 홍다리얼룩새우, 길이 약 17~18cm
B21: 848 | C21: 블랙타이거새우(12미)500g | D21: 수입(말레이시아) | E21: 냉동 | F21: 500/팩 | G21: 21000 | H21: IQF개별동결, 홍다리얼룩새우, 길이 약 17cm
B22: 534 | C22: 가재새우 | D22: 국내산(제주) | E22: 냉동 | F22: kg | G22: 12750 | H22: 40~50미, 딱새우
B23: 589 | C23: 민물새우 | D23: 수입(인도) | E23: 냉동 | F23: 400g/1봉 | G23: 9900 | H23: 3~4cm | J23: 400g단위
B24: 793 | C24: 노바시새우(30미/300g) | D24: 수입(베트남) | E24: 냉동 | F24: 300g/팩 | G24: 10500 | H24: C자로 말리지 않은 일자새우. 머리X껍질X꼬리O, 약 11cm | J24: 300g/팩
A25: 새 우 살 - 껍 질 x | B25: 212 | C25: 홍새우살 | D25: 국내산 | E25: 냉장 | F25: kg | G25: 54000 | H25: 200~300미 내외 국산 새우 두절, 꼬리,껍질제거
B26: 213 | C26: 홍새우살(냉동) | D26: 국내산 | E26: 냉동 | F26: kg | G26: 52500 | H26: 200~300미 내외, 블럭동결홍새우 두절, 꼬리,껍질제거 | I26: ○ | J26: 500g / 1kg
B27: 199 | C27: 생새우살 | D27: 국내산 | E27: 냉장 | F27: kg | G27: 37500 | H27: 150미 내외 흰다리새우 두절, 꼬리,껍질제거
B28: 667 | C28: 생새우살(냉장)600g이상(600g~900g) | D28: 국내산 | E28: 봉 | F28: kg | G28: 39750 | H28: 150미 내외 흰다리새우 두절, 꼬리,껍질제거
B29: 666 | C29: 생새우살(냉장)500g이하(100g~500g) | D29: 국내산 | E29: 봉 | F29: kg | G29: 41250 | H29: 150미 내외 흰다리새우 두절, 꼬리,껍질제거
B30: 200 | C30: 생새우살(냉동) | D30: 국내산 | E30: 냉동 | F30: kg | G30: 37500 | H30: 150미 내외 흰다리새우 두절, 꼬리,껍질제거
B31: 185 | C31: 홍새우살(수입냉동)70/100 | D31: 수입(중국) | E31: 냉동 | F31: kg | G31: 일시품절 | H31: 70/100사이즈, IQF개별동결홍새우 두절, 꼬리,껍질제거
B32: 183 | C32: 홍새우살(수입냉동)100/200 | D32: 수입(중국) | E32: 냉동 | F32: kg | G32: 16200 | H32: 100/200사이즈, IQF개별동결홍새우 두절, 꼬리,껍질제거
B33: 496 | C33: 홍새우살(수입냉장)100/200 | D33: 수입(중국) | E33: 냉장 | F33: kg | G33: 19200 | H33: 100/200사이즈홍새우 두절, 꼬리,껍질제거
B34: 184 | C34: 홍새우살(수입냉동)200/300 | D34: 수입(중국) | E34: 냉동 | F34: kg | G34: 15750 | H34: 200/300사이즈, IQF개별동결홍새우 두절, 꼬리,껍질제거
B35: 198 | C35: 백새우살(냉장) | D35: 국내산 | E35: 냉장 | F35: kg | G35: 37500 | H35: 200미 내외흰다리새우 껍질제거 후 세척
B36: 663 | C36: 백새우살(냉장)600g이상(600g~900g) | D36: 국내산 | E36: 봉 | F36: kg | G36: 39750 | H36: 200미 내외흰다리새우 껍질제거 후 세척
B37: 662 | C37: 백새우살(냉장)500g이하(100g~500g) | D37: 국내산 | E37: 봉 | F37: kg | G37: 41250 | H37: 200미 내외흰다리새우 껍질제거 후 세척
B38: 197 | C38: 백새우살(냉동) | D38: 국내산 | E38: 냉동 | F38: kg | G38: 37500 | H38: 200미 내외, 블럭동결흰다리새우 껍질제거 후 세척 | I38: ○ | J38: 500g / 1kg
C39: 백새우살(수입냉장) | D39: 수입(중국,베트남외) | E39: 냉장 | F39: kg | G39: 품절 | H39: 90/120사이즈흰다리새우 껍질제거 후 세척
B40: 139 | C40: 백새우살(수입냉동)31/50 | D40: 수입(베트남,인도외) | E40: 냉동 | F40: kg | G40: 22500 | H40: 31/50사이즈, IQF개별동결흰다리새우 껍질제거 후 세척 | J40: kg - 100미 내외
B41: 140 | C41: 백새우살(수입냉동)51/70 | D41: 수입(베트남,인도외) | E41: 냉동 | F41: kg | G41: 21750 | H41: 51/70사이즈, IQF개별동결흰다리새우 껍질제거 후 세척 | J41: kg - 140미 내외
B42: 141 | C42: 백새우살(수입냉동)71/90 | D42: 수입(베트남,인도외) | E42: 냉동 | F42: kg | G42: 21000 | H42: 71/90사이즈, IQF개별동결흰다리새우 껍질제거 후 세척 | J42: kg - 180미 내외
B43: 142 | C43: 백새우살(수입냉동)90/120 | D43: 수입(베트남,인도외) | E43: 냉동 | F43: kg | G43: 19800 | H43: 90/120사이즈흰다리새우 껍질제거 후 세척 | J43: kg - 240미 내외
C44: 왕백새우살(수입냉장)大 | D44: 수입(베트남,인도외) | E44: 냉동 | F44: kg | G44: 일시품절 | H44: 31/50사이즈, IQF개별동결흰다리새우 껍질제거 후 세척
B45: 535 | C45: 가재새우살 | D45: 국내산 | E45: 냉장 | F45: kg | G45: 일시품절 | H45: 150~200미 내외, 레드랍스타새우살가재새우 껍질제거 후 세척
B46: 536 | C46: 가재새우살(냉동) | D46: 국내산 | E46: 냉동 | F46: kg | G46: 일시품절 | H46: 150~200미 내외, 레드랍스타새우살, IQF개별동결가재새우 껍질제거 후 세척
B47: 833 | C47: 생칵테일새우(50미) | D47: 냉동 | E47: 수입(베트남) | F47: kg | G47: 27000
B48: 834 | C48: 생칵테일새우(60미) | D48: 냉동 | E48: 수입(베트남) | F48: kg | G48: 26250
B49: 835 | C49: 생칵테일새우(70미) | D49: 냉동 | E49: 수입(베트남) | F49: kg | G49: 23400
B50: 175 | C50: 칵테일새우(31/50) | D50: 수입(베트남) | E50: 냉동 | F50: kg | G50: 26250 | H50: 3150사이즈, IQF개별동결자숙 후 껍질제거, 꼬리유 | J50: 부가세포함 kg - 100미 내외
B51: 176 | C51: 칵테일새우(71/90) | D51: 수입(베트남) | E51: 냉동 | F51: kg | G51: 23550 | H51: 7190사이즈, IQF개별동결자숙 후 껍질제거, 꼬리유 | J51: 부가세포함 kg - 180미 내외
A52: 랍스터 | B52: 588 | C52: 미니 바다가재 | D52: 수입 | E52: 냉동 | F52: 마리 | G52: 문의 | H52: 1마리 380g~420g | J52: 마리
A53: ※ 패류 갑각류 최소 발주단위 1KG 이상

Sheet 5796_호남푸드_4
A1: 5796_호남푸드_6월★SJ씨푸드★학교가하미라+3.xlsx
A2: https://school062.com/bbs/board.php?bo_table=product_02&wr_id=5796
A3: 구 분 | B3: 코 드 | C3: 제 품 명 | D3: 원산지 | E3: 제 품 규 격 | F3: 단위 | G3: 학교가 | H3: 특 징 | I3: HACCP 적용 | J3: 비 고
A4: 바 지 락 | B4: 591 | C4: 바지락살(생물) | D4: 국내산(삼천포) | E4: 냉장 | F4: kg | G4: 50250 | H4: 생물, 선별하여 껍질제거 후 세척-★HACCP인증
B5: 661 | C5: 바지락살(생물)600g이상(600g~900g) | D5: 국내산(삼천포) | E5: 냉장 | F5: 600g 이상 소수점발주 | G5: 51750 | H5: 생물, 선별하여 껍질제거 후 세척-★HACCP인증
B6: 660 | C6: 바지락살(생물)500g이하(100g~500g) | D6: 국내산(삼천포) | E6: 냉장 | F6: 500g 이하 소수점발주 | G6: 54000 | H6: 생물, 선별하여 껍질제거 후 세척-★HACCP인증
B7: 590 | C7: 바지락살(냉동) | D7: 국내산(삼천포) | E7: 냉동 | F7: kg | G7: 50300 | H7: 생물, 선별하여 껍질제거 후 세척, 블럭동결-★HACCP인증 | I7: ○
B8: 592 | C8: 바지락살(자숙) | D8: 수입(중국) | E8: 냉동 | F8: kg | G8: 9900 | H8: 자숙바지락살 IQF동결중상품, 껍질크기 4~5cm
B9: 633 | C9: 피바지락(생물) | D9: 국내산 | E9: 냉장 | F9: kg | G9: 12750 | H9: 껍질조개, 생물, 해감
B10: 632 | C10: 피바지락(냉동) | D10: 국내산 | E10: 냉동 | F10: kg | G10: 12800 | H10: 껍질조개, 생물, 해감된것을 동결 | I10: ○
A11: 대 합 | B11: 571 | C11: 대합살(생물) | D11: 국내산(연근해) | E11: 냉장 | F11: kg | G11: 66000 | H11: 촉수가 싱싱하고 살아있는 것, 탈각
B12: 659 | C12: 대합살(생물)600g이상(600g~900g) | D12: 국내산(연근해) | E12: 냉장 | F12: 600g 이상 소수점발주 | G12: 67500 | H12: 촉수가 싱싱하고 살아있는 것, 탈각
B13: 658 | C13: 대합살(생물)500g이하(100g~500g) | D13: 국내산(연근해) | E13: 냉장 | F13: 500g 이하 소수점발주 | G13: 69450 | H13: 촉수가 싱싱하고 살아있는 것, 탈각
B14: 570 | C14: 대합살(냉동) | D14: 국내산(연근해) | E14: 냉동 | F14: kg | G14: 66100 | H14: 생물 선별하여 껍질제거 한것을 동결(500g , 1kg) | I14: ○
B15: 630 | C15: 피대합(생물) | D15: 국내산(연근해) | E15: 냉장 | F15: kg | G15: 24750 | H15: 껍질대합, 생물, 해감
A16: 홍 합 | B16: 641 | C16: 홍합살(생물) | D16: 국내산(연근해) | E16: 냉장 | F16: kg | G16: 30750 | H16: 생물, 선별하여 껍질제거 후 세척
B17: 669 | C17: 홍합살(생물)600g이상(600g~900g) | D17: 국내산(연근해) | E17: 냉장 | F17: 600g 이상 소수점발주 | G17: 32250 | H17: 생물, 선별하여 껍질제거 후 세척
B18: 668 | C18: 홍합살(생물)500g이하(100g~500g) | D18: 국내산(연근해) | E18: 냉장 | F18: 500g 이하 소수점발주 | G18: 34200 | H18: 생물, 선별하여 껍질제거 후 세척
B19: 640 | C19: 홍합살(냉동) | D19: 국내산(연근해) | E19: 냉동 | F19: kg | G19: 30800 | H19: 생물 선별하여 껍질제거 한것을 동결. | I19: ○ | J19: 500g / 1kg
B20: 642 | C20: 홍합살(자숙) | D20: 수입(중국) | E20: 냉동 | F20: kg | G20: 9000 | H20: 자숙홍합살 IQF동결
B21: 639 | C21: 피홍합(생물) | D21: 국내산 | E21: 냉장 | F21: kg | G21: 4500 | H21: 해감 후 다듬어진 것, 수염제거
B22: 638 | C22: 피홍합(냉동) | D22: 국내산 | E22: 냉동 | F22: kg | G22: 일시품절 | H22: 해감 후 다듬어진 것, 수염제거 후 동결 | I22: ○
B23: 551 | C23: 그린홍합(냉동) | D23: 수입(뉴질랜드) | E23: 냉동 | F23: 800g/팩 | G23: 23250 | H23: 한쪽껍질 탈각, M사이즈 | J23: 800g단위
A24: 전 복 | B24: 657 | C24: 피전복(9-10미)특대(생물) | D24: 국내산(완도) | E24: 냉장 | F24: kg | G24: 67500 | H24: 생물, 껍질O, 선별하여 세척, 양식산 | J24: 마릿수 사양변경
B25: 472 | C25: 피전복(11-13미)대(생물) | D25: 국내산(완도) | E25: 냉장 | F25: kg | G25: 61500 | H25: 생물, 껍질O, 선별하여 세척, 양식산 | J25: 마릿수 사양변경
B26: 473 | C26: 피전복(14-16미)대(생물) | D26: 국내산(완도) | E26: 냉장 | F26: kg | G26: 52500 | H26: 생물, 껍질O, 선별하여 세척, 양식산 | J26: 마릿수 사양변경
B27: 474 | C27: 피전복(17-19미)중(생물) | D27: 국내산(완도) | E27: 냉장 | F27: kg | G27: 51000 | H27: 생물, 껍질O, 선별하여 세척, 양식산 | J27: 마릿수 사양변경
B28: 475 | C28: 피전복(19-22미)중(생물) | D28: 국내산(완도) | E28: 냉장 | F28: kg | G28: 48000 | H28: 생물, 껍질O, 선별하여 세척, 양식산 | J28: 마릿수 사양변경
B29: 476 | C29: 피전복(23-26미)소(생물) | D29: 국내산(완도) | E29: 냉장 | F29: kg | G29: 45000 | H29: 생물, 껍질O, 선별하여 세척, 양식산 | J29: 마릿수 사양변경
B30: 477 | C30: 피전복(28-32미)소(생물) | D30: 국내산(완도) | E30: 냉장 | F30: kg | G30: 42000 | H30: 생물, 껍질O, 선별하여 세척, 양식산 | J30: 마릿수 사양변경
B31: 478 | C31: 피전복(32미 이상)꼬마전복 | D31: 국내산(완도) | E31: 냉장 | F31: kg | G31: 일시품절 | H31: 생물, 껍질O, 선별하여 세척, 양식산 | J31: 마릿수 사양변경
B32: 614 | C32: 전복살(8미 탈각)특대(생물) | D32: 국내산(완도) | E32: 냉장 | F32: kg | G32: 일시품절 | H32: 생물, 껍질X, 선별하여 세척, 양식산
B33: 408 | C33: 전복살(10-12미 탈각)특(생물) | D33: 국내산(완도) | E33: 냉장 | F33: kg | G33: 105000 | H33: 생물, 껍질X, 선별하여 세척, 양식산
B34: 409 | C34: 전복살(13-15미 탈각)대(생물) | D34: 국내산(완도) | E34: 냉장 | F34: kg | G34: 99000 | H34: 생물, 껍질X, 선별하여 세척, 양식산
B35: 410 | C35: 전복살(16-20미 탈각)중(생물) | D35: 국내산(완도) | E35: 냉장 | F35: kg | G35: 91500 | H35: 생물, 껍질X, 선별하여 세척, 양식산
B36: 411 | C36: 전복살(19-21미 탈각)중(생물) | D36: 국내산(완도) | E36: 냉장 | F36: kg | G36: 단종 | H36: 생물, 껍질X, 선별하여 세척, 양식산
B37: 412 | C37: 전복살(21-25미 탈각)소(생물) | D37: 국내산(완도) | E37: 냉장 | F37: kg | G37: 84000 | H37: 생물, 껍질X, 선별하여 세척, 양식산
C38: 전복살(냉동) | D38: 국내산(완도) | E38: 냉동 | F38: kg | G38: 문의 | H38: 생물, 껍질X, 선별하여 세척, 양식산 | I38: ○
B39: 615 | C39: 전복살(수입냉동) | D39: 수입(필리핀) | E39: 냉동 | F39: kg | G39: 90000 | H39: kg/33~35마리, IQF동결
B40: 261 | C40: 다진전복살(생물) | D40: 국내산 | E40: 냉장 | F40: kg | G40: 120000 | H40: 전복 탈각하여 고르게 다진것, 껍질X, 내장 따로 포장: 전복죽용
B41: 260 | C41: 다진전복살(내장제거/생물) | D41: 국내산 | E41: 냉장 | F41: kg | G41: 135000 | H41: 전복 탈각하여 고르게 다진것, 껍질X, 내장X: 전복죽용
C42: 전복내장소스(냉동) | D42: 수입(중국) | E42: 냉동 | F42: 500g/봉 | G42: 일시품절 | H42: 전복 내장만 동결. 500g단위 파우치 포장 | J42: 500g단위
B43: 547 | C43: 전복살슬라이스(자숙)2.5mm | D43: 국내산 | E43: 냉동 | F43: kg | G43: 145500 | H43: 1kg 활전복 18~20미 탈각후 이빨 내장제거 자숙 세절 | I43: ○ | J43: 500g단위
B44: 651 | C44: 전복살슬라이스(자숙)5mm | D44: 국내산 | E44: 냉동 | F44: kg | G44: 145500 | H44: 1kg 활전복 18~20미 탈각후 이빨 내장제거 자숙 세절 | J44: 500g단위
A45: 재 첩 | B45: 613 | C45: 재첩살(수입냉동) | D45: 수입(중국) | E45: 냉동 | F45: 500g/봉 | G45: 10800 | H45: 재첩살만 동결, 껍질X, 수율70% | J45: 1kg단위
B46: 407 | C46: 재첩살(국내산/하동) | D46: 국내산(하동) | E46: 냉동 | F46: 1kg/봉 | G46: 58500 | H46: 재첩살만 동결, 껍질X, 수율80% | J46: 1kg단위
B47: 635 | C47: 피재첩(생물) | D47: 국내산(하동) | E47: 냉장 | F47: kg | G47: 16500 | H47: 11월중순~2월 동절기 작업안됨, 껍질O | I47: ○ | J47: ★3월 중순 이후 가능 발주전 재고꼭 확인
B48: 636 | C48: 피재첩(수입/생물) | D48: 수입(중국) | E48: 냉장 | F48: kg | G48: 일시품절 | H48: 수입시기따라 선도 떨어질수 있음. 껍질O
A49: 꼬 막 | B49: 597 | C49: 새꼬막살(냉장) | D49: 국내산(여수) | E49: 냉장 | F49: kg | G49: 30750 | H49: kg: 300~400알약간 자숙 후 탈각, 껍질X | I49: ○ | J49: 1kg단위
B50: 152 | C50: 새꼬막살(냉동) | D50: 국내산(여수) | E50: 냉동 | F50: 1kg/봉 | G50: 24750 | H50: kg(1봉): 300~400알 / kg진공포장약간 자숙 후 탈각, 껍질X, 수율100% 동결 | I50: ○ | J50: 1kg단위
B51: 207 | C51: 피꼬막살(냉장) | D51: 국내산(여수) | E51: 냉장 | F51: kg | G51: 일시품절 | H51: kg: 80~100알새꼬막보다 씨알이 큰 꼬막살, 자숙 후 탈각, 껍질X | I51: ○ | J51: 1kg단위
B52: 206 | C52: 피꼬막살(냉동) | D52: 국내산(여수) | E52: 냉동 | F52: 1kg/봉 | G52: 일시품절 | H52: kg(1봉): 80~100알 / kg진공포장새꼬막보다 씨알이 큰 꼬막살, 자숙 후 탈각, 껍질X | I52: ○ | J52: 1kg단위
B53: 596 | C53: 새꼬막(생물) | D53: 국내산(여수) | E53: 냉장 | F53: kg | G53: 9900 | H53: kg/80~100미일반적인 무침꼬막, 껍질O
B54: 629 | C54: 피꼬막(피조개) | D54: 국내산(여수) | E54: 냉장 | F54: kg | G54: 5700 | H54: kg/12~15미, 동절기 계절상품새꼬막보다 큰 껍질꼬막, 껍질O
A55: 모시조개 | B55: 631 | C55: 피모시조개(생물)-흑색 | D55: 국내산(연근해) | E55: 냉장 | F55: kg | G55: 23250 | H55: 30~40미생물, 선별하여 해캄 후 세척, 껍질O
B56: 신규 | C56: 피모시조개(생물)-백색 | D56: 중국산 | E56: 냉장 | F56: kg | G56: 21750 | H56: 30~40미생물, 선별하여 해캄 후 세척, 껍질O
A57: 동죽조개 | B57: 572 | C57: 동죽조개(생물) | D57: 국내산(연근해) | E57: 냉장 | F57: kg | G57: 21750 | H57: 40~50미, 생물, 선별하여 해캄 후 세척, 껍질O, 3~5cm
A58: 백합 | B58: 634 | C58: 피백합(수입/생물) | D58: 수입(중국) | E58: 냉장 | F58: kg | G58: 20250 | H58: 20~30미생물, 선별하여 해캄 후 세척, 껍질O
A59: 가리비 | B59: 532 | C59: 가리비(생물) | D59: 국내산 | E59: 냉장 | F59: kg | G59: 16500 | H59: 선별후 세척, 껍질O /15~20미 봄,여름: 비단가리비/ 겨울: 홍가리비
B60: 602 | C60: 알가리비살(수입냉동) | D60: 중국산 | E60: 냉동 | F60: kg | G60: 23250 | H60: 자숙가리비살
A61: 키 조 개 | B61: 624 | C61: 키조개(생물) | D61: 국내산 | E61: 냉장 | F61: kg | G61: 11250 | H61: 선별후 세척, 껍질O | J61: 마리
B62: 626 | C62: 키조개관자살(생물) | D62: 국내산 | E62: 냉장 | F62: kg | G62: 일시품절 | H62: 30~40미 선별후 세척, 탈각, 껍질X, 해동품
B63: 625 | C63: 키조개관자살(냉동) | D63: 국내산 | E63: 냉동 | F63: kg | G63: 일시품절 | H63: 30~40미 선별후 세척, 탈각, 껍질X, 진공포장
B64: 627 | C64: 키조개관자살(수입냉동) | D64: 수입(중국) | E64: 냉동 | F64: kg | G64: 30750 | H64: 선별후 세척, 탈각, IQF개별동결, 껍질X
A65: 미 더 덕 | B65: 203 | C65: 참미더덕 | D65: 국내산(고현) | E65: 냉장 | F65: kg | G65: 41250 | H65: 3월~9월까지 생물, 10월~2월까지 동절기 해동품 (기후 상황에따라 변동발생)
B66: 607 | C66: 오만디 슬라이스 | D66: 국내산(고현) | E66: 냉장 | F66: kg | G66: #VALUE! | H66: 11월~5월까지 동절기 해동품, 6월~10월까지 생물 통오만둥이 슬라이스 | I66: ○
B67: 205 | C67: 통오만디(냉장) | D67: 국내산(고현) | E67: 냉장 | F67: kg | G67: 30750 | H67: 11월~5월까지 동절기 해동품, 6월~10월까지 생물 | I67: ○
B68: 367 | C68: 통오만디(냉동) | D68: 국내산(고현) | E68: 냉동 | F68: kg | G68: 30750 | H68: 11월~5월까지 동절기 해동품, 6월~10월까지 생물 | I68: ○
A69: 멍 게 | B69: 575 | C69: 멍게(생물) | D69: 국내산(통영) | E69: 냉장 | F69: kg | G69: 일시품절 | H69: 생물, 껍질O
B70: 576 | C70: 멍게살(냉동) | D70: 국내산(통영) | E70: 냉동 | F70: 500g/봉 | G70: 일시품절 | H70: 1봉500g 블럭동결 (멍게300g, 수분200g) | J70: 500g단위
A71: 소 라 | B71: 621 | C71: 참소라 | D71: 국내산 | E71: 냉장 | F71: kg | G71: 36000 | H71: 생물, 껍질O, 4~6미, 당일작업, 시세변동심함
B72: 622 | C72: 참소라살 | D72: 국내산 | E72: 냉장 | F72: kg | G72: 165000 | H72: 생물 참소라 껍질탈각. 딱지 제거X. 꼬리내장 끝만 살짝제거
B73: 204 | C73: 참소라살(수입냉동) | D73: 수입(불가리아) | E73: 냉동 | F73: kg | G73: 45000 | H73: 살짝 데친 후 탈각, 개별동결IQF
B74: 623 | C74: 참소라살슬라이스 | D74: 수입(맥시코) | E74: 냉동 | F74: 200g/봉 | G74: 일시품절 | H74: 1봉:300g씩 진공포장, 실중량200g
C75: 피뿔고동-참소라(수입냉동) | D75: 수입(터키) | E75: 냉동 | F75: kg | G75: 일시품절 | H75: 껍질O, 자숙 피소라 피뿔고동
B76: 610 | C76: 위소라살(수입냉동) | D76: 수입(세네갈) | E76: 냉동 | F76: kg | G76: 일시품절 | H76: 껍질X, 자숙 위소라 살
B77: 611 | C77: 위소라살슬라이스 | D77: 수입(세네갈) | E77: 냉동 | F77: 250g/봉 | G77: 일시품절 | H77: 1봉 250g 진공포장
A78: 고 동 | B78: 568 | C78: 논고동살(냉장) | D78: 국내산(북면) | E78: 냉장 | F78: kg | G78: 36000 | H78: 우렁살, 살짝 데친 후 탈각, 자숙
B79: 803 | C79: 논고동살(냉동) | D79: 국내산(북면) | E79: 냉동 | F79: kg | G79: 15750 | H79: 우렁살, 살짝 데친 후 탈각, 자숙, (제품 실중량 700g) | J79: 1kg단위
B80: 569 | C80: 논고동살(수입냉동) | D80: 수입(베트남) | E80: 냉동 | F80: 500g/봉 | G80: 일시품절 | H80: 우렁살, 살짝 데친 후 탈각, 자숙 | J80: 500g단위
A81: 다슬기 | B81: 788 | C81: 올갱이살(국내산) | D81: 국내산 | E81: 냉동 | F81: kg/봉 | G81: 72000 | H81: 다슬기살, 살짝 데친 후 탈각, 수율70% | J81: 1kg단위
B82: 609 | C82: 올갱이살-700g(수입냉동) | D82: 수입(중국) | E82: 냉동 | F82: 700g/팩 | G82: 23700 | H82: 다슬기살, 살짝 데친 후 탈각, 수율70% | J82: 1kg단위
A83: 굴 | B83: 598 | C83: 생굴 | D83: 국내산(통영) | E83: 냉장 | F83: kg | G83: 일시품절 | H83: 10월~2월 생물, 3월~9월 냉동대체, 시세급변
B84: 665 | C84: 생굴(생물)600g이상(600g~900g) | D84: 국내산(연근해) | F84: 600g 이상 소수점발주 | G84: 일시품절 | H84: 10월~2월 생물, 3월~9월 냉동대체, 시세급변
B85: 664 | C85: 생굴(생물)500g이하(100g~500g) | D85: 국내산(연근해) | F85: 500g 이하 소수점발주 | G85: 일시품절 | H85: 10월~2월 생물, 3월~9월 냉동대체, 시세급변
B86: 599 | C86: 생굴(냉동) | D86: 국내산(통영) | E86: 냉동 | F86: kg | G86: 20250 | H86: 탈각후 개별동결 IQF | I86: ○
B87: 601 | C87: 석화 | D87: 국내산(통영) | E87: 냉장 | F87: kg | G87: 계절상품 | H87: 계절상품, 10월~2월생물
A88: 해 조 류 | B88: 605 | C88: 염미역줄기 | D88: 국내산(완도) | E88: 냉장 | F88: kg | G88: 5400 | H88: 소금가루 있음, 미역줄기를 길게 채 썬 것 미역줄기 80 : 소금 20
B89: 585 | C89: 무염미역줄기 | D89: 국내산(완도) | E89: 냉장 | F89: kg | G89: 6900 | H89: 미역줄기를 길게 채 썬 것 수율100%
B90: 603 | C90: 염다시마 | D90: 국내산(완도) | E90: 냉장 | F90: kg | G90: 4050 | H90: 쌈용 다시마 80 : 소금 20
B91: 583 | C91: 무염다시마 | D91: 국내산(완도) | E91: 냉장 | F91: kg | G91: 5700 | H91: 쌈용 수율100%
B92: 604 | C92: 염다시마채 | D92: 국내산(완도) | E92: 냉장 | F92: kg | G92: 4500 | H92: 소금가루 있음, 소금 친 다시마를 채 썬 것 다시마채 80 : 소금 20
B93: 584 | C93: 무염다시마채 | D93: 국내산(완도) | E93: 냉장 | F93: kg | G93: 6000 | H93: 다시마를 채 썬 것 수율100%
B94: 555 | C94: 꼬시래기 | D94: 국내산(완도) | E94: 냉장 | F94: kg | G94: 5250 | H94: 염장품, 무침볶음용 꼬시래기
B95: 600 | C95: 생미역 | D95: 국내산 | E95: 냉장 | F95: kg | G95: 일시품절 | H95: 동절기 상품, 10월중순~2월 생물
B96: 806 | C96: 무염꼬시래기 | D96: 국내산 | E96: 냉장 | F96: kg | G96: 6750 | H96: 동절기 상품, 1월~2월 출하
B97: 582 | C97: 모자반 | D97: 국내산 | E97: 냉장 | F97: kg | G97: 일시품절 | H97: 동절기 상품, 10월중순~2월 생물
B98: 577 | C98: 면파래(파래100%) | D98: 국내산 | E98: 냉장 | F98: kg | G98: 일시품절 | H98: 동절기 상품, 10월중순~2월 생물, 파래100%
B99: 552 | C99: 김파래(김30%파래70%) | D99: 국내산 | E99: 냉장 | F99: kg | G99: 일시품절 | H99: 동절기 상품, 11월중순~2월 생물, 김30%파래70%
B100: 628 | C100: 톳 | D100: 국내산 | E100: 냉장 | F100: kg | G100: 일시품절 | H100: 동절기 상품, 10월중순~2월 생물
...

Sheet 5796_호남푸드_5
A1: 5796_호남푸드_6월★SJ씨푸드★학교가하미라+3.xlsx
A2: https://school062.com/bbs/board.php?bo_table=product_02&wr_id=5796
A3: 구 분 | B3: 코 드 | C3: 제 품 명 | D3: 원산지 | E3: 제 품 규 격 | F3: 단위 | G3: 학교가 | H3: 용도 | I3: 특 징 | J3: 비 고
A4: 멸 치 류 | B4: 126 | C4: 다시멸치(상품) | D4: 국내(연근해) | E4: 다시용(5~7cm) | F4: kg | G4: 18900 | H4: 다시용 | I4: 1kg 위생내포장지에 탈기 씰링포장 부직포 미제공
B5: 128 | C5: 다시멸치(특상) | D5: 국내(연근해) | E5: 다시용(5~7cm) | F5: kg | G5: 23250 | H5: 다시용 | I5: 1kg 위생내포장지에 탈기 씰링포장 부직포 미제공
B6: 167 | C6: 중멸치(고바) | D6: 국내(연근해) | E6: 볶음용(3~4cm) | F6: kg | G6: 18000 | H6: 볶음용 | I6: 선별가공후 1kg 위생내포장지에 탈기 씰링포장
B7: 154 | C7: 소멸치(상품) | D7: 국내(연근해) | E7: 볶음용(2~3cm) | F7: kg | G7: 21750 | H7: 볶음용 | I7: 선별가공후 1kg 위생내포장지에 탈기 씰링포장
B8: 169 | C8: 지리가이리(상품) | D8: 국내(연근해) | E8: 볶음용(1.5-2.5cm) | F8: kg | G8: 25500 | H8: 볶음용 | I8: 선별가공후 1kg 위생내포장지에 탈기 씰링포장
B9: 153 | C9: 세멸치 | D9: 국내(연근해) | E9: 볶음용(1~2cm) | F9: kg | G9: 28350 | H9: 볶음용 | I9: 선별가공후 1kg 위생내포장지에 탈기 씰링포장
B10: 870 | C10: 자연담 저염멸치 | D10: 국내(연근해) | E10: 볶음용(1~2cm) | F10: kg | G10: 29250 | H10: 볶음용 | I10: 선별가공후 1kg 위생내포장지에 탈기 씰링포장
B11: 159 | C11: 웰빙혼합멸치3종 | D11: 혼합제품 | E11: 볶음용 | F11: kg | G11: 34500 | H11: 볶음용 | I11: 건멸치(국내산)40%,아몬드s(미국)30% ,두절건새우(중국)30%
B12: 160 | C12: 웰빙혼합멸치4종 | D12: 혼합제품 | E12: 볶음용 | F12: kg | G12: 27750 | H12: 볶음용 | I12: 건멸치(국내산)40%아몬드S20%,호두20%,해바라기씨20%
B13: 161 | C13: 웰빙혼합멸치5종 | D13: 혼합제품 | E13: 볶음용 | F13: kg | G13: 29250 | H13: 볶음용 | I13: 건멸치40%,아몬드s20%,건새우10%,해바라기씨20%,캐슈넛10%
B14: 182 | C14: 혼합다시6종 | D14: 혼합제품 | E14: 다시용 | F14: kg | G14: 21450 | H14: 다시용 | I14: 멸치70%,띠포리10%,건새우5%,건표고5%,다시마5%,명태머리5%
B15: 181 | C15: 혼합다시5종(국내산) | D15: 국내산원료 | E15: 다시용 | F15: kg | G15: 21450 | H15: 다시용 | I15: 멸치75%,띠포리10%,건새우5%,건표고5%,다시마5%
B16: 133 | C16: 띠포리 | D16: 국내(연근해) | E16: 다시용(5~10cm) | F16: kg | G16: 19200 | H16: 다시용 | I16: 1kg 위생내포장지에 탈기 씰링포장 부직포 미제공
A17: 조 미 어 포 류 | B17: 162 | C17: 일미채 | D17: 국내(연근해) | E17: 백색 | F17: kg | G17: 119250 | I17: 조미 오징어로 가늘게 채씀.
B18: 163 | C18: 일미채(수입) | D18: 국내가공(페루) | E18: 백색 | F18: kg | G18: 29250 | I18: 조미 오징어로 가늘게 채씀.
B19: 170 | C19: 진미채 | D19: 국내(연근해) | E19: 백색 | F19: kg | G19: 119250 | I19: 조미 오징어로 굵게 채씀.
B20: 171 | C20: 진미채(수입) | D20: 국내가공(페루) | E20: 백색 | F20: kg | G20: 29250 | I20: 조미 오징어로 굵게 채씀.
B21: 186 | C21: 홍진미채 | D21: 국내(연근해) | E21: 홍색 | F21: kg | G21: 119250 | I21: 껍질이 있는 오징어를 조미하여 굴게 채씀.
B22: 187 | C22: 홍진미채(수입) | D22: 국내가공(페루) | E22: 홍색 | F22: kg | G22: 29250 | I22: 껍질이 있는 오징어를 조미하여 굴게 채씀.
B23: 158 | C23: 오징어실채 | D23: 국내가공(페루) | E23: 볶음용 | F23: kg | G23: 35850 | I23: 오징어 가늘게 채씀.
B24: 130 | C24: 동전쥐포 | D24: 베트남 | E24: 작은크기 | F24: kg | G24: 27750 | I24: 작은크기의 쥐치포.
B25: 172 | C25: 참쥐포구이채 | D25: 베트남 | E25: 찢은구운쥐포채 | F25: kg | G25: 31500 | I25: 구운 참쥐포를 채를 씀.
B26: 174 | C26: 참쥐포채 | D26: 베트남 | E26: 0.3 * 8cm | F26: kg | G26: 28500 | I26: 8cm 길이 참쥐포를 채씀 두께는 1cm 또는 0.3cm
B27: 173 | C27: 참쥐포사각 | D27: 베트남 | E27: 2 * 2cm | F27: kg | G27: 28500 | I27: 2*2cm로 참쥐포를 사각 절단함.
B28: 155 | C28: 아귀포채 | D28: 중국 | F28: kg | G28: 44250 | I28: 구운아귀포채를 찢음
B29: 168 | C29: 쥐어채 | D29: 베트남 | E29: 0.3*7cm | F29: kg | G29: 일시품절 | I29: 연육을 말려서 채를 씀.
B30: 134 | C30: 명엽채 | D30: 베트남 | E30: 0.5 * 15cm | F30: kg | G30: 11700 | I30: 연육을 말려서 채를 씀.
A31: 기 타 건 포 류 | B31: 188 | C31: 황태채 | D31: 러시아(중국가공) | E31: 짙은황색 | F31: kg | G31: 43500 | I31: 살이 도툼하고 건조상태 양호한 제품
B32: 851 | C32: 황태채 500g | D32: 러시아(중국가공) | E32: 짙은황색 | F32: 봉 | G32: 22650 | I32: 살이 도툼하고 건조상태 양호한 제품
B33: 850 | C33: 황태채 200g | D33: 러시아(중국가공) | E33: 짙은황색 | F33: 봉 | G33: 10950 | I33: 살이 도툼하고 건조상태 양호한 제품
B34: 148 | C34: 북어채 | D34: 러시아(중국가공) | E34: 밝은황색 | F34: kg | G34: 43350 | I34: 살이 도툼하고 건조상태 양호한 제품
B35: 853 | C35: 북어채 500g | D35: 러시아(중국가공) | E35: 밝은황색 | F35: 봉 | G35: 22500 | I35: 살이 도툼하고 건조상태 양호한 제품
B36: 852 | C36: 북어채 200g | D36: 러시아(중국가공) | E36: 밝은황색 | F36: 봉 | G36: 10800 | I36: 살이 도툼하고 건조상태 양호한 제품
B37: 136 | C37: 명태머리 | D37: 러시아(국내가공) | E37: 다시용 | F37: kg | G37: 22200 | H37: 다시용 | I37: 건조 명태머리 국물 다시용
B38: 135 | C38: 명태껍질 | D38: 러시아 | E38: 튀김/무침 | F38: kg | G38: 19500 | I38: 튀김및 무침용
B39: 144 | C39: 뱅어포(특상) | D39: 국내(연근해)산 | E39: 무침 | F39: 10장/속 | G39: 24000 | I39: 20*28cm 10장/속 | J39: 계절상품으로 재고문의후 발주
B40: 143 | C40: 뱅어포(kg)(특상) | D40: 국내(연근해)산 | E40: 무침 | F40: kg | G40: 135000 | I40: 20*28cm | J40: 계절상품으로 재고문의후 발주
B41: 145 | C41: 뱅어포사각(특상) | D41: 국내(연근해)산 | E41: 무침 | F41: KG | G41: 144000 | I41: 4*4cm 전후 절단 | J41: 계절상품으로 재고문의후 발주
B42: 106 | C42: 건꼴뚜기 | D42: 국내(연근해)산 | E42: 볶음용(2~4cm) | F42: kg | G42: 38250 | I42: 수분함량25%이하
B43: 114 | C43: 건홍합 | D43: 국내(연근해)산 | E43: 볶음용(2~3cm) | F43: kg | G43: 일시품절 | I43: 수분함량25%이하
B44: 191 | C44: 훈연다랑어-육수용200g | D44: 필리핀/인도네시아 | E44: 다시용 | F44: 200g/봉 | G44: 11850 | H44: 다시용 | I44: 가다랑어 훈연 슬라이스
B45: 192 | C45: 훈연다랑어-육수용500g | D45: 필리핀/인도네시아 | E45: 다시용 | F45: 500g/봉 | G45: 23700 | H45: 다시용 | I45: 가다랑어 훈연 슬라이스
B46: 190 | C46: 훈연다랑어-고명용500g | D46: 필리핀/인도네시아 | E46: 다시용 | F46: 500g/봉 | G46: 27000 | H46: 다시용 | I46: 가다랑어 훈연 슬라이스
B47: 189 | C47: 훈연다랑어-고명용200g | D47: 필리핀/인도네시아 | E47: 다시용 | F47: 200g/봉 | G47: 13350 | H47: 다시용 | I47: 가다랑어 훈연 슬라이스
A48: 해 조 류 | B48: 125 | C48: 다시마kg | D48: 국내(완도/기장) | E48: 다시용 | F48: kg | G48: 22500 | H48: 다시용 | I48: kg 위생내포장지에 씰링포장
B49: 124 | C49: 다시마500g | D49: 국내(완도/기장) | E49: 다시용 | F49: 500g/봉 | G49: 12450 | H49: 다시용 | I49: 500g 위생내포장지에 씰링포장
B50: 123 | C50: 다시마200g | D50: 국내(완도/기장) | E50: 다시용 | F50: 200g/봉 | G50: 6450 | H50: 다시용 | I50: 200g 위생내포장지에 씰링포장
B51: 122 | C51: 다시마100g | D51: 국내(완도/기장) | E51: 다시용 | F51: 100/봉 | G51: 4050 | H51: 다시용 | I51: 100g 위생내포장지에 씰링포장
B52: 151 | C52: 뿌리다시마(KG) | D52: 국내(완도/기장) | E52: 다시용 | F52: KG | G52: 27000 | H52: 다시용 | I52: 500g 위생내포장지에 씰링포장
B53: 166 | C53: 절단다시마 | D53: 국내(완도/기장) | E53: 다시용 | F53: KG | G53: 30300 | H53: 다시용 | I53: kg 위생내포장지에 씰링포장
B54: 109 | C54: 건파래 | D54: 국내(연근해) | E54: 무침 | F54: kg | G54: 71550 | I54: 400g 위생내포장지에 씰링포장, 찢은상태(이물제거 공정)
B55: 116 | C55: 김가루 | D55: 국내가공품 | E55: 고명용 | F55: kg | G55: 43500 | I55: 돌김 조미한것 절단
B56: 854 | C56: 김가루 500g | D56: 국내가공품 | E56: 고명용 | F56: 봉 | G56: 28500 | I56: 돌김 조미한것 절단
B57: 855 | C57: 무염김가루 500g | D57: 국내가공품 | E57: 고명용 | F57: 봉 | G57: 일시품절 | I57: 무염김 절단(채)
B58: 856 | C58: 무염김가루 200g | D58: 국내가공품 | E58: 고명용 | F58: 봉 | G58: 일시품절 | I58: 무염김 절단(채)
B59: 117 | C59: 김밥김 | D59: 국내(연근해) | E59: 100매 | F59: 100장/속 | G59: 15750 | I59: 김밥용김
B60: 178 | C60: 파래김 | D60: 국내(연근해) | E60: 100매 | F60: 100장/속 | G60: 12450 | I60: 파래김 가공하지 않은 상태 100장/속
B61: 165 | C61: 재래김 | D61: 국내(연근해) | E61: 100매 | F61: 100장/속 | G61: 21000 | I61: 돌김 가공하지 않은 상태 100장/속
B62: 857 | C62: 자른미역 500g | D62: 국내(연근해) | E62: 원초를 자연건고한 것 | F62: kg | G62: 14700 | I62: 원초를 자연건조한 것
B63: 858 | C63: 자른미역 200g | D63: 국내(연근해) | E63: 원초를 자연건고한 것 | F63: kg | G63: 6900 | I63: 원초를 자연건조한 것
B64: 115 | C64: 구운김밥김 | D64: 국내(연근해) | E64: 100매 | F64: 100장/속 | G64: 18750 | I64: 구운 김밥용김
B65: 118 | C65: 김파래자반 | D65: 국내(연근해) | E65: 볶음,주먹밥 | F65: 500g/봉 | G65: 16500 | I65: 조미 김파래 김자반
B66: 108 | C66: 건미역(500g)(상품) | D66: 국내(완도/기장) | E66: 원초를 자연건고한 것 | F66: 500g/봉 | G66: 14550 | I66: 원초를 자연건고한 것
B67: 107 | C67: 건미역(200g)상품 | D67: 국내(완도/기장) | E67: 원초를 자연건고한 것 | F67: 200g/봉 | G67: 6750 | I67: 원초를 자연건고한 것
A68: 새 우 류 | B68: 146 | C68: 보리새우 | D68: 국내(연근해) | E68: 다시용 | F68: kg | G68: 32250 | H68: 다시용 | I68: 다시용. 흑새우를 건조함.
B69: 147 | C69: 보리새우(중국산) | D69: 수입(중국) | E69: 다시용 | F69: kg | G69: 품절 | H69: 다시용 | I69: 다시용. 흑새우를 건조함.
B70: 131 | C70: 두절건새우(국내산) | D70: 국내(연근해) | E70: 3*5 | F70: kg | G70: 83250 | I70: 건새우 두절한것 선별수작업
B71: 132 | C71: 두절건새우(중국산) | D71: 수입(중국) | E71: 2 * 2cm | F71: kg | G71: 28800 | I71: 건새우 두절한것 선별수작업
B72: 149 | C72: 분홍건새우(국내산) | D72: 국내(연근해) | E72: 다시용 | F72: kg | G72: 44700 | H72: 다시용 | I72: 건새우 선별수작업
B73: 150 | C73: 분홍건새우(중국산) | D73: 수입(중국) | E73: 다시용 | F73: kg | G73: 32250 | H73: 다시용 | I73: 건새우 선별수작업
B74: 138 | C74: 밥새우 | D74: 국내(연근해) | E74: 볶음,주먹밥 | F74: kg | G74: 일시품절 | I74: 국내산 밥새우(세멸치 일부 혼입)
A75: 건 버 섯 류 | B75: 111 | C75: 건표고버섯(국내산) | D75: 국내산 | E75: 동고 | F75: kg | G75: 59250 | I75: 갓이 피지 않은 향교
B76: 112 | C76: 건표고버섯 | D76: 수입(중국)산 | E76: 동고 | F76: kg | G76: 품절 | I76: 갓이 피지 않은 향교
B77: 113 | C77: 건표고슬라이스 | D77: 수입(중국)산 | E77: 0.2cm | F77: kg | G77: 품절 | I77: 자연 건조한 표고버섯을 슬라이스함.
B78: 156 | C78: 아몬드(통) | D78: 수입(미국)산 | E78: 무가미 | F78: kg | G78: 18750 | I78: 아몬드 100%
B79: 157 | C79: 아몬드슬라이스 | D79: 수입(미국)산 | E79: 무가미 | F79: kg | G79: 20250 | I79: 아몬드 100%
B80: 180 | C80: 호두(컷팅) | D80: 수입(미국)산 | E80: 무가미 | F80: kg | G80: 18750 | I80: 1/4 탈각된 호두알 100%
B81: 110 | C81: 건포도 | D81: 수입(미국)산 | E81: 위생포장 | F81: kg | G81: 품절 | I81: 건포도99.5%,식물성기름0.5%.
B82: 179 | C82: 해바라기씨 | D82: 수입(미국)산 | E82: 무가미 | F82: kg | G82: 7950 | I82: 해바라기씨 100%
B83: 177 | C83: 케슈넛 | D83: 수입(인도)산 | E83: 무가미 | F83: kg | G83: 24450 | I83: 케슈넛 100%

Sheet 5796_호남푸드_7
A1: 5796_호남푸드_6월★SJ씨푸드★학교가하미라+3.xlsx
A2: https://school062.com/bbs/board.php?bo_table=product_02&wr_id=5796
B3: 튀김류및 기타가공품 단가표
A4: 구 분 | B4: 코드명 | C4: 제 품 명 | D4: 원산지 | E4: 단위 | F4: 특 징 | G4: 학교가 | H4: 과세/면세 | I4: 비고
A5: 오 븐 용 | B5: 460 | C5: 카레아몬드 통살방어스테이크 | D5: 국산 | E5: 50g/개 | F5: 【규격】50g/개,70g/개 【특징】냉동생선포를 적당한 비율의 카레분말에 혼합하여 아몬드분태를 토핑한 제품 【조리방법】①오븐전용 : 180~185℃온도→20~25분간 굽는다 【성분함량】 가자미순살 : 가자미살97%, 카레분말1% 아몬드분태0.5%빵가루1.5% 가자미방어 : 방어살97%, 카레분말1% 아몬드분태0.5%빵가루1.5% 삼치순살 : 삼치살97%, 카레분말1% 아몬드분태0.5%빵가루1.5% 고등어순살 : 고등어살97%, 카레분말1% 아몬드분태0.5%빵가루1.5% | G5: 1155
B6: 462 | D6: 국산 | E6: 70g/개 | G6: 1650
B7: 463 | C7: 카레아몬드 통살삼치스테이크 | D7: 국산 | E7: 50g/개 | G7: 1815
B8: 465 | D8: 국산 | E8: 70g/개 | G8: 2640
B9: 457 | C9: 카레아몬드 통살고등어스테이크 | D9: 국산 | E9: 50g/개 | G9: 1320
B10: 459 | D10: 국산 | E10: 70g/개 | G10: 1815
B11: 454 | C11: 카레아몬드 통살가자미스테이크 | D11: 수입산 | E11: 50g/개 | G11: 일시품절
B12: 456 | D12: 수입산 | E12: 70g/개 | G12: 일시품절
B13: 344 | C13: 숯불바베큐맛 통살방어스테이크 | D13: 국산 | E13: 50g/개 | F13: 【규격】50g/개,70g/개 【특징】냉동생선포를 특제소스에 침지 →담백한 바베큐소스를 토핑하여 오븐이나, 그릴에 굽기 쉽도록 독자적인 기술력과 제조공법으로 제조 【성분함량】 순살방어 : 방어살 95%, 숯불바베큐소스 4.0%,재제염 1.0% 순살삼치 : 삼치살 95%, 숯불바베큐소스 4.0%,재제염 1.0% 순살고등어 : 고등어살 95%, 숯불바베큐소스 4.0%,재제염 1.0% | G13: 1155
B14: 346 | D14: 국산 | E14: 70g/개 | G14: 1650
B15: 347 | C15: 숯불바베큐맛 통살삼치스테이크 | D15: 국산 | E15: 50g/개 | G15: 1815
B16: 349 | D16: 국산 | E16: 70g/개 | G16: 2640
B17: 341 | C17: 숯불바베큐맛 통살고등어스테이크 | D17: 국산 | E17: 50g/개 | G17: 1320
B18: 343 | D18: 국산 | E18: 70g/개 | G18: 1815
B19: 487 | C19: 허니데리야끼 삼치순살스테이크 | D19: 국산 | E19: 50g/개 | F19: 【규격】초등기준(±50g)/고등,성인기준(±70g) 【성분함량】삼치 94.97%, 데리야끼소스 4.53%, 피쉬순살염지제 0.5% | G19: 1815
B20: 489 | D20: 국산 | E20: 70g/개 | G20: 2640
B21: 481 | C21: 허니데리야끼 고등어순살스테이크 | D21: 국산 | E21: 50g/개 | F21: 【규격】초등기준(±50g)/고등,성인기준(±70g) 【성분함량】고등어94.97%, 데리야끼소스4.53%, 피쉬순살염지제0.5% | G21: 1320
B22: 483 | D22: 국산 | E22: 70g/개 | G22: 1815
B23: 484 | C23: 허니데리야끼 방어순살스테이크 | D23: 국산 | E23: 50g/개 | F23: 【규격】초등기준(±50g)/고등,성인기준(±70g) 【성분함량】방어94.97%, 데리야끼소스4.53%, 피쉬순살염지제0.5% | G23: 1155
B24: 486 | D24: 국산 | E24: 70g/개 | G24: 1650
B25: 830 | C25: 발사믹고등어순살 | D25: 국산 | E25: 40g/개 | F25: 【규격】초등기준(±40g)/고등,성인기준(±70g) 【성분함량】고등어97.8%, 천일염0.2%, 발사믹소스2% | G25: 990
B26: 831 | C26: 발사믹고등어순살 | D26: 국산 | E26: 70g/개 | F26: 【규격】온마리(±70) 【성분함량】고등어97.8%, 천일염0.2%, 발사믹소스2% | G26: 1650
B27: 832 | C27: 발사믹고등어순살 | D27: 국산 | E27: 90g/개 | F27: 【규격】온마리(±90) 【성분함량】고등어97.8%, 천일염0.2%, 발사믹소스2% | G27: 2145
B28: 838 | C28: 허브향 칠레연어스테이크(silver Salmon) | D28: 칠레 | E28: 60g/개 | F28: 최고급의 칠레산 은연어사용 【규격】±60g,±80g 【특징】연어살 98.0%, 버터혼합분말65 1.5%, 백설허브맛솔트순한맛, 파슬리후레이크 | G28: 2970
B29: 839 | C29: 허브향 칠레연어스테이크(silver Salmon) | D29: 칠레 | E29: 80g/개 | G29: 3960
B30: 840 | C30: 허니버터 칠레연어스테이크(silver Salmon) | D30: 칠레 | E30: 60g/개 | F30: 최고급의 칠레산 은연어사용 【규격】±60g,±80g 【특징】연어살 98.0%, 허니버터소스2% | G30: 2970
B31: 841 | C31: 허니버터 칠레연어스테이크(silver Salmon) | D31: 칠레 | E31: 80g/개 | G31: 3960
B32: 842 | C32: 허니갈릭 칠레연어스테이크(silver Salmon) | D32: 칠레 | E32: 60g/개 | F32: 최고급의 칠레산 은연어사용 【규격】±60g,±80g 【특징】연어살 98.5%, 허니갈릭시즈닝1.3%, 천일염0.2% | G32: 2970
B33: 843 | C33: 허니갈릭 칠레연어스테이크(silver Salmon) | D33: 칠레 | E33: 80g/개 | G33: 3960
B34: 844 | C34: 치즈갈릭 칠레연어스테이크(silver Salmon) | D34: 칠레 | E34: 60g/개 | F34: 최고급의 칠레산 은연어사용 【규격】±60g,±80g 【특징】연어살 98.5%, 천일염0.2% 혼합치즈1%,갈릭시즈닝0.5.% | G34: 2970
B35: 845 | C35: 치즈갈릭 칠레연어스테이크(silver Salmon) | D35: 칠레 | E35: 80g/개 | G35: 3960
A36: 구 분 | B36: 코드명 | C36: 제 품 명 | D36: 원산지 | E36: 단위 | F36: 특 징 | G36: 학교가 | H36: 과세/면세 | I36: 비고
A37: 새 우 튀 김 류 | B37: 800 | C37: 깐쇼새우 | D37: 수입산 | E37: 900g/봉 | F37: 새우(베트남),67.50%,밀가루(밀:미국산),13.10%,식물성유지(팜유),튀김가루(밀가루,전분,옥수수가루(밀가루,전분,옥수수가루,쌀가루,정제소금,포도당,후추가루,베이킹파우더,유화제,마늘향파우더,양파향파우더,비타민B-2,L-글루타민산나트륨,정제염,정제수,베이킹파우더 | G37: 24750 | H37: (부가세포함가격) *과세품목*
B38: 798 | C38: 감자말이 새우 | D38: 베트남산 | E38: kg | F38: 개당 20g (1kg=50개) 감자50%, 새우25%, 어육페이스트 25%(메기살 88.1%, 밀가루(밀)2%, 생선분(메기)2%,감자전분2%, 양파1.7%, 마늘1.7%, 설탕0.7%, 정제소금0.7%, L-글루타민산나트륨 (향미증진제)0.3%, 후추0.5%, 그린신(향미증진제)0.2%, 제삼인산나트륨0.1%) | G38: 37950
B39: 816 | C39: 빵가루 새우(튀김용)특대 | D39: 베트남산 | E39: 500g/10미 | F39: 50gx6마리 (마리당 18cm내외) 새우40%,백색빵가루27.3%(밀가루,정제수,대두유,설탕,소금,효모,프로피온산칼슘(합성보존료) 배터믹스15%(밀가루,타피오카전분,소금,식물성유지(팜유),구아검,밀단백질,L-글루타민산나트륨 (향미증진제),합성팽창제,유화제,향신료추출물(후추,옥수수)),오렌지색빵가루11.7%(밀가루,쇼트닝 (팜유),설탕,효모,소금,안나토색소,이스트푸드),프리더스트6%(타피오카전분,패각칼슘(가리비), 유화제,식물성유지(들깨유) | G39: 11250
B40: 817 | C40: 빵가루 새우(튀김용)대 | D40: 베트남산 | E40: 300g/10미 | F40: 30gx10마리 (마리당 12cm내외) 흰다리새우 30%,화이트팬코(밀가루,쇼트닝(팜유),설탕,효모,정제소금,이스트푸드]예로우팬코[밀가루,쇼트닝(팜유),설탕,효모,정제소금,안나토색소,이스트푸드],정제수,배터믹스[밀가루구아검,잔탄검,탈지대두분말,정제소금,분말지방(팜유ㅡ포도당시럽,카제인,폴리인산나트륨,이산화규소(고결방지제,)],변성전분(인산이전분),옥수수전분(유전자변형옥수수포함가능성있음), 밀가루,정제소금,새우,밀,대두유포함 | G40: 5700
B41: 818 | C41: 빵가루 새우(튀김용)중 | D41: 베트남산 | E41: 600g/30미 | F41: 30미 (마리당 10cm내외) 새우40%,화이트팬코{밀가루,쇼트닝(팜유),설탕,효모,정제소금.이스트푸드[염화암모늄,황산칼슘, 탄산칼슘,L-시스틴,비타민C,알파-아밀라아제,프로테아제,밀가루,맥아분말,옥수수전분,효모분말]}, 오렌지팬커[밀가루,쇼트닝(팜유),설탕,효모,정제소금,안나토색소,이스트푸드,정제수,배터믹스, 합성팽창제(탄산수소나트륨),L-글루타민산나트륨(향미증진제),프리더스트[변성전분(초산전분, 대두유,D-토코페롤(혼합형),계란분말,정제소금,옥수수전분] | G41: 16200
B42: 819 | C42: 빵가루 새우(튀김용)소 | D42: 수입산 | E42: 720g/60미 | F42: 60미 (마리당 8cm내외) 새우40%, 빵가루41%(밀가루, 쇼트닝, 설탕, 효모, 정제염, 반죽계량제 (밀가루, 효모추출물,옥수수수전분)), 베터믹스10% (밀가루, 설탕, 쌀가루, 팜유분말, 정제염, 계란분말, 대두단백,쇼트닝, L-글루타민산나트륨(향미증진제), 탄산수소나트륨, 글리세린지방산에스테르,타피오카전분, 옥수수전분, 안정제(구아검, 신탄검), 정제수, 프리더스트(계란분말, 정제염,타피오카전분, 옥수수전분) | G42: 일시품절
A43: 까 스 류 | B43: 820 | C43: 생선까스 | D43: 중국산 | E43: (45~46ea)/봉 | F43: 2.5kg(50g/45~46개입) 대구살40%,빵가루(밀가루,쇼트닝,설탕,효모,정제소금),정제수,밀가루,밀전분,정제소금,잔탄검,L-글루탐산나트륨(향미증진제) | G43: 24750
B44: 821 | C44: 해물까스 | D44: 중국산 | E44: 20EA/봉 | F44: 1.2kg(60g/20개입) 오징어29.62%, 정제수, 밀가루, 밀전분, 양파, 문어3%, 정제소금, 쇼트닝,옥수수전분, 합성팽창제, L-글루타민산나트륨, 설탕, 구아검, 파래,흑후추 | G44: 14250
B45: 822 | C45: 새우까스 | D45: 수입산 | E45: 20EA/봉 | F45: 1.2kg(60g/20개입) 연육(태국산), 건빵가루{곡류가공품[밀가루(밀가루(밀:미국산)],소맥분,쇼트닝,옥수수전분, 재제염}, 양파, 당근, 배터믹스-에이치[옥수수전분, 밀가루, 옥수수가루, 에그알부민파우더(계란),식염], 건빵가루(배합용),옥수수전분,새우 4.73%(수입산) ,새우10%(국내산), 백설탕, 정제염,산도조절제 | G45: 16500
A46: 부 침 류 | B46: 823 | C46: 미니오꼬노미야끼 | D46: 중국산 | E46: kg/봉 | F46: 개당 20g (1kg=50개) 양배추 52.36%, 계란17.32%, 밀가루(밀)9.89%, 정제수, 오징어4.46%, 파2.68% | G46: 품절
B47: 824 | C47: 오꼬노미야끼 | D47: 중국산 | E47: 4EA/봉 | F47: 1봉(4EA)/개당350g 양배추41.17%, 난황(계란)11.56%,밀가루(밀)11.1%,난백(계란)10.04%,오징어5.02%,새우,문어,대두유 | G47: 품절
B48: 799 | C48: 타코야끼 | D48: 중국산 | E48: kg/봉 | F48: 약50개입 정제수43%,밀가루15%,문어13%,양배추9%,양파8%,계란8%,옥수수전분 | G48: 10200
B49: 825 | C49: 새우 피쉬볼 | D49: 중국산 | E49: kg | F49: 약70개입 냉동어육(실꼬리돔)48%,새우살19%, 대두유4.6%, 당근6%,밀전분(밀)4.55%, 정제소금,설탕 | G49: 품절
B50: 826 | C50: 샌드위치 피쉬볼 | D50: 중국산 | E50: kg | F50: 약60~65개 냉동어육 (실꼬리돔)47%,정제수, 당근7%, 두유5%, 감자전분5%, 옥수수3.5%,양파,정제소금,설탕,계란, | G50: 일시품절
B51: 827 | C51: 두부모양 피쉬볼 | D51: 중국산 | E51: kg | F51: 약70~75개 냉동어육(실고리돔)55%,정제수, 대두유(대두)9.4%, 두유(대두)8%, 감자전분4%,정제소금2%, 설탕,계란 | G51: 일시품절

Sheet 5813_다솔이네_1
A1: 5813_다솔이네_2024년+6월+녹채원+단가표수산.건어물.xlsx
A2: https://school062.com/bbs/board.php?bo_table=product_02&wr_id=5813
G3: ▲ | H3: ▼
A4: 다솔유통 062-603-4800 팩스 062-603-4801 제품문의및 홍보사원 010-3852-0618
A5: 제품명 | B5: 인증 | C5: 원산지 | D5: 단위 | E5: 6월 학교가 | G5: 냉동등락 | H5: 냉장등락 | I5: 제 품 특 징
E6: 냉동 | F6: 냉장
A7: 가자미토막 | B7: HACCP | C7: 러시아 /미국 | D7: KG | E7: 8200 | F7: 9600 | I7: * ±40g~80g * 비가식부위 제거(머리,꼬리,내장 등)
A8: 가자미토막(30g~50g) | C8: 국내산 | D8: KG | E8: 12800 | F8: 14200 | I8: * ±30g~50g * 비가식부위 제거(머리,꼬리,내장 등)
A9: 가자미토막(60g~80g) | C9: 국내산 | D9: KG | E9: 12800 | F9: 14200 | I9: * ±60g~80g * 비가식부위 제거(머리,꼬리,내장 등)
A10: 가자미유피포 | C10: 러시아 /미국 | D10: KG | E10: 14000 | F10: 0 | I10: * ±40g,~80g * 강정, 튀김용 / 머리,꼬리, 내장, 등뼈 제거후 절단
A11: 가자미탈피포 | C11: 러시아 /미국 | D11: KG | E11: 13900 | F11: 0 | G11: ▼ | I11: * ±40g * 탈피, 머리,꼬리, 내장, 등뼈 제거후 절단
A12: 갈치토막-남아공 | B12: HACCP | C12: 남아공/ 소말리아 | D12: KG | E12: 10800 | F12: 12200 | I12: * ±40g~100g * 비가식부위제거(머리,꼬리,내장 등) 후 절단
A13: 갈치토막(소) | B13: HACCP | C13: 국내산 | D13: KG | E13: 29000 | F13: 0 | I13: * ±40g / 연근해 선망 갈치 * 비가식부위제거(머리,꼬리,내장 등) 후 절단
A14: 갈치포 | C14: 국내산 | D14: KG | E14: 품절 | F14: 0 | G14: 품절 | I14: * ±20g~30g * 전처리된 갈치포를 절단
A15: 갈치포(수입산) | C15: 수입산 | D15: KG | E15: 20300 | F15: 0 | I15: * ±40g,~60g * 전처리된 갈치포를 절단
A16: 고등어토막 30~50g | B16: HACCP | C16: 국내산 | D16: KG | E16: 6800 | F16: 8200 | I16: * ±30g~50g * 비가식부위제거(머리,꼬리,내장 등) 후 절단
A17: 고등어토막 60~80g | B17: HACCP | C17: 국내산 | D17: KG | E17: 6800 | F17: 8200 | I17: * ±60g~80g * 비가식부위제거(머리,꼬리,내장 등) 후 절단
A18: 고등어구이 30~50g | B18: HACCP | C18: 국내산 | D18: KG | E18: 7200 | F18: 8600 | I18: * ±30g~50g * 비가식부위제거(머리,꼬리,내장 등) 후 절단
A19: 고등어구이 60~80g | B19: HACCP | C19: 국내산 | D19: KG | E19: 7200 | F19: 8600 | I19: * ±60g~80g * 비가식부위제거(머리,꼬리,내장 등) 후 절단
A20: 고등어구이(대) 60~80g | E20: 8600 | F20: 10000
A21: 간고등어구이(저염) 30~50g | B21: HACCP | C21: 국내산 | D21: KG | E21: 8000 | F21: 9400 | I21: * ±30g~50g * 고등어 99.06%,제재염0.94%
A22: 간고등어구이(저염) 60~80g | B22: HACCP | C22: 국내산 | D22: KG | E22: 8000 | F22: 9400 | I22: * ±60g~80g * 고등어 99.06%,제재염0.94%
A23: 고등어포 30~50g | B23: HACCP | C23: 국내산 | D23: KG | E23: 10300 | F23: 11700 | I23: * ±30g~50g * 순살 고등어
A24: 고등어포 60~80g | B24: HACCP | C24: 국내산 | D24: KG | E24: 10300 | F24: 11700 | I24: * ±60g~80g * 순살 고등어
A25: 간고등어포(저염) 30~50g | B25: HACCP | C25: 국내산 | D25: KG | E25: 10800 | F25: 12200 | I25: * ±30g~50g * 고등어98.77%, 제제염1.23% 순살고등어
A26: 간고등어포(저염) 60~80g | B26: HACCP | C26: 국내산 | D26: KG | E26: 10800 | F26: 12200 | I26: * ±60g~80g * 고등어98.77%, 제제염1.23% 순살고등어
A27: 녹차간고등어포 30~50g | B27: HACCP | C27: 국내산 | D27: KG | E27: 품절 | F27: 품절 | G27: 일시중단 | H27: 일시중단 | I27: * ±30g~50g * 고등어99.65%, 제제염0.3%,녹차가루0.05%
A28: 녹차간고등어포 60~80g | B28: HACCP | C28: 국내산 | D28: KG | E28: 품절 | F28: 품절 | G28: 일시중단 | H28: 일시중단 | I28: * ±60g~80g * 고등어99.65%, 제제염0.3%,녹차가루0.05%
A29: 꽁치토막 30~50g | B29: HACCP | C29: 국내산 | D29: KG | E29: 품절 | F29: 품절 | G29: 일시중단 | H29: 일시중단 | I29: * ±30g~50g * 비가식부위제거(머리,꼬리,내장 등) 후 절단
A30: 참대구토막-국내산 | B30: HACCP | C30: 국내산 | D30: KG | E30: 9400 | F30: 10800 | I30: * ±40g~80g * 비가식부위제거(머리,꼬리,내장 등) 후 절단
A31: 참대구토막-러시아산 | B31: HACCP | C31: 러시아 /미국 | D31: KG | E31: 12600 | F31: 14000 | I31: * ±40g~80g * 비가식부위제거(머리,꼬리,내장 등) 후 절단
A32: 민대구토막 | C32: 원양산 | D32: KG | E32: 8200 | F32: 9600 | I32: * ±40g~80g * 비가식부위제거(머리,꼬리,내장 등) 후 절단
A33: 참대구유피포 | C33: 미국산 | D33: KG | E33: 17100 | F33: 0 | I33: * ±40g,~80g * 강정, 튀김용 / 머리,꼬리, 내장, 등뼈 제거후 절단
A34: 참대구탈피포 | C34: 미국산 | D34: KG | E34: 21800 | F34: 0 | I34: * ±40g * 탈피, 머리,꼬리, 내장, 등뼈 제거후 절단
A35: 대구곤 | C35: 노르웨이 | D35: KG | E35: 11200 | F35: 0 | I35: *냉동블록상태
A36: 대구알 | C36: 러시아 /미국 | D36: KG | E36: 12900 | F36: 0 | I36: *냉동블록상태
A37: 동태토막 30~50g | B37: HACCP | C37: 러시아/ 미국 | D37: KG | E37: 7000 | F37: 8400 | G37: ▲ | H37: ▲ | I37: * ±30g~50g * 비가식부위제거(머리,꼬리,내장 등) 후 절단
A38: 동태토막 60~80g | B38: HACCP | C38: 러시아/ 미국 | D38: KG | E38: 7000 | F38: 8400 | G38: ▲ | H38: ▲ | I38: * ±60g~80g * 비가식부위제거(머리,꼬리,내장 등) 후 절단
A39: 동태전 30~40g | C39: 러시아/ 미국 | D39: KG | E39: 9600 | F39: 0 | I39: * ±30 ~ 40g * 슬라이스/전용/껍질제거
A40: 동태전 40~50g | C40: 러시아/ 미국 | D40: KG | E40: 9600 | F40: 0 | I40: * ±40 ~ 50g * 슬라이스/전용/껍질제거
A41: 동태포-강정용 | C41: 러시아/ 미국 | D41: KG | E41: 9200 | F41: 0 | I41: * ±3*3cm / ±15g~20g * 동태포 절단/껍질제거
A42: 동태포-탕수용 | C42: 러시아/ 미국 | D42: KG | E42: 9200 | F42: 0 | I42: * ±2*6cm / ±25g~30g * 동태포절단 절단/껍질제거
A43: 동태곤 | C43: 러시아/ 미국 | D43: KG | E43: 12600 | F43: 0 | I43: *탕용/냉동블럭상태
A44: 동태알(명란) | C44: 러시아/ 미국 | D44: KG | E44: 14600 | F44: 0 | G44: ▲ | I44: *탕용/냉동블럭상태
A45: 네모동태살 | C45: 러시아/ 미국 | D45: KG | E45: 9400 | F45: 0 | I45: * ±8 ~ 9g / 강정용(순살)
A46: 법성포영광굴비(대) | C46: 국내산 | D46: 두릅 | E46: 품절 | F46: 품절 | G46: 품절 | H46: 품절 | I46: * 65~70g / 20마리 * 머리, 내장, 지느러미, 비늘 有(5% 염처리, 자연건조)
A47: 조기순살포(30g~40g) | C47: 중국산 | D47: KG | E47: 16500 | F47: 0 | I47: * ±30g~40g * 순살포(제재염숙성) 조기99.7% 제재염0.3%
A48: 조기순살양포(40g~50g) | C48: 중국산 | D48: KG | E48: 16500 | F48: 0 | I48: * ±40g~50g * 순살포(제재염숙성) 조기99.7% 제재염0.3%
A49: 참조기통마리 | C49: 국내산 | D49: KG | E49: 16200 | F49: 0 | I49: * ±45~55g 내외 * 내장 제거 안됨.
A50: 참조기통마리(대) | C50: 국내산 | D50: KG | E50: 일시중단 | F50: 0 | G50: 일시중단 | I50: * ±55~65g 내외 * 내장 제거 안됨.
A51: 참조기두절 | C51: 국내산 | D51: KG | E51: 일시중단 | F51: 0 | G51: 일시중단 | I51: * ±65~75g 내외 * 내장 제거 안됨.
A52: 참조기순살 | C52: 국내산 | D52: KG | E52: 일시중단 | F52: 0 | G52: 일시중단 | I52: *±30~40g *두절, 전처리 후 중골제거(양포)*비가식부위 제거
A53: 백조기통마리(90g~110g) | C53: 국내산 | D53: KG | E53: 9600 | F53: 0 | I53: *±90g~±110g(온마리) *조기99.2%,정제염0.8% ,비늘제거, 온마리로 작업
A54: 백조기두절(50g~70g) | C54: 국내산 | D54: KG | E54: 11800 | F54: 0 | I54: *±50g~±70g(두절) *조기99.2%,정제염0.8% ,비늘제거
A55: 백조기두절(70g~90g) | C55: 국내산 | D55: KG | E55: 11800 | F55: 0 | I55: *±70g~±90g(두절) *조기99.2%,정제염0.8% ,비늘제거
A56: 백조기순살 | C56: 국내산 | D56: KG | E56: 19600 | F56: 0 | I56: *±30 ~ 40g *두절, 전처리 후 중골제거(양포)*비가식부위 제거
A57: 병어두절(40g~60g) | C57: 국내산 | D57: KG | E57: 11800 | F57: 0 | I57: *±40g ~ ±60g *두절, 내장, 지느러미, 꼬리 제거 후 절단
A58: 병어두절(60g~80g) | C58: 국내산 | D58: KG | E58: 13300 | F58: 0 | I58: *±60g ~ ±80g *두절, 내장, 지느러미, 꼬리 제거 후 절단
A59: 병어두절(80g~100g) | C59: 국내산 | D59: KG | E59: 일시중단 | F59: 0 | G59: 일시중단 | I59: *±80g ~ ±100g *두절, 내장, 지느러미, 꼬리 제거 후 절단
A60: 적어두절 | C60: 포르투갈 | D60: KG | E60: 10300 | F60: 0 | I60: * ±40g~80g 내외 * 두절, 비늘, 지느러미, 내장 제거 안됨.
A61: 붕장어포,국산 | C61: 국내산 | D61: KG | E61: 25100 | F61: 0 | I61: * ±20g(4~5cm) * 머리,꼬리,등뼈 제거 후 절단
A62: 붕장어포,수입 | C62: 중국산 | D62: KG | E62: 14900 | F62: 0 | I62: * ±20g(4~5cm) * 머리,꼬리,등뼈 제거 후 절단
A63: 삼치토막 30~50g | B63: HACCP | C63: 국내산 | D63: KG | E63: 9700 | F63: 11100 | G63: ▲ | H63: ▲ | I63: * ±30g~50g * 비가식부위제거(머리,꼬리,내장 등) 후 절단
A64: 삼치토막 60~80g | B64: HACCP | C64: 국내산 | D64: KG | E64: 9700 | F64: 11100 | G64: ▲ | H64: ▲ | I64: * ±60g~80g * 비가식부위제거(머리,꼬리,내장 등) 후 절단
A65: 삼치구이 30~50g | B65: HACCP | C65: 국내산 | D65: KG | E65: 10400 | F65: 11800 | G65: ▲ | H65: ▲ | I65: * ±30g~50g * 비가식부위제거(머리,꼬리,내장 등) 후 절단
A66: 삼치구이 60~80g | B66: HACCP | C66: 국내산 | D66: KG | E66: 10400 | F66: 11800 | G66: ▲ | H66: ▲ | I66: * ±60g~80g * 비가식부위제거(머리,꼬리,내장 등) 후 절단
A67: 간삼치구이(저염) 30~50g | B67: HACCP | C67: 국내산 | D67: KG | E67: 10800 | F67: 12200 | G67: ▲ | H67: ▲ | I67: * ±30g~50g * 삼치98.94% 재제염1.06%
A68: 간삼치구이(저염) 60~80g | B68: HACCP | C68: 국내산 | D68: KG | E68: 10800 | F68: 12200 | G68: ▲ | H68: ▲ | I68: * ±60g~80g * 삼치98.94% 재제염1.06%
A69: 삼치포 30~50g | B69: HACCP | C69: 국내산 | D69: KG | E69: 14600 | F69: 16000 | G69: ▼ | H69: ▼ | I69: * ±30g~50g * 순살 삼치
A70: 삼치포 60~80g | B70: HACCP | C70: 국내산 | D70: KG | E70: 14600 | F70: 16000 | G70: ▼ | H70: ▼ | I70: * ±60g~80g * 순살 삼치
A71: 간삼치포(저염) 30~50g | B71: HACCP | C71: 국내산 | D71: KG | E71: 16600 | F71: 18000 | I71: * ±30g~50g * 순살만 삼치98.77% 제재염1.23%
A72: 간삼치포(저염) 60~80g | B72: HACCP | C72: 국내산 | D72: KG | E72: 16600 | F72: 18000 | I72: * ±60g~80g * 순살만 삼치98.77% 제재염1.23%
A73: 녹차간삼치포 30~50g | B73: HACCP | C73: 국내산 | D73: KG | E73: 품절 | F73: 품절 | G73: 일시품절 | H73: 일시품절 | I73: * ±30g~50g * 순살만 삼치98.72% 제재염1.23% 녹차가루0.05%
A74: 녹차간삼치포 60~80g | B74: HACCP | C74: 국내산 | D74: KG | E74: 품절 | F74: 품절 | G74: 일시품절 | H74: 일시품절 | I74: * ±60g~80g * 순살만 삼치98.72% 제재염1.23% 녹차가루0.05%
A75: 임연수어토막 40~60g | B75: HACCP | C75: 러시아 /미국 | D75: KG | E75: 10800 | F75: 12200 | G75: ▲ | H75: ▲ | I75: * ±40g~60g * 비가식부위제거(머리,꼬리,내장 등) 후 절단
A76: 임연수어토막 70~100g | B76: HACCP | C76: 러시아 /미국 | D76: KG | E76: 10800 | F76: 12200 | G76: ▲ | H76: ▲ | I76: * ±70g~100g. * 비가식부위제거(머리,꼬리,내장 등) 후 절단
A77: 임연수어구이 40~60g | B77: HACCP | C77: 러시아 /미국 | D77: KG | E77: 11500 | F77: 12900 | G77: ▲ | H77: ▲ | I77: * ±40g~60g * 비가식부위제거(머리,꼬리,내장 등) 후 절단
A78: 임연수어구이 70~100g | B78: HACCP | C78: 러시아 /미국 | D78: KG | E78: 11500 | F78: 12900 | G78: ▲ | H78: ▲ | I78: * ±70g~100g. * 비가식부위제거(머리,꼬리,내장 등) 후 절단
A79: 임연수어포 40~60g | B79: HACCP | C79: 러시아 /미국 | D79: KG | E79: 17500 | F79: 18900 | I79: * ±40g~60g * 순살 임연수
A80: 임연수어포 70~100g | B80: HACCP | C80: 러시아 /미국 | D80: KG | E80: 품절 | F80: 품절 | G80: 품절 | H80: 품절 | I80: * ±70g~100g. * 순살 임연수
A81: 녹차간임연수어포 40~60g | B81: HACCP | C81: 러시아 /미국 | D81: KG | E81: 품절 | F81: 품절 | G81: 일시품절 | H81: 일시품절 | I81: * ±40g~60g * 순살만 임연수어98.72% 제재염1.23% 녹차가루0.05%
A82: 녹차간임연수어포 70~100g | B82: HACCP | C82: 러시아 /미국 | D82: KG | E82: 품절 | F82: 품절 | G82: 일시품절 | H82: 일시품절 | I82: * ±70g~100g. * 순살만 임연수어98.72% 제재염1.23% 녹차가루0.05%
A83: 아귀토막,중국산 | B83: HACCP | C83: 중국산 | D83: KG | E83: 12200 | F83: 0 | G83: ▲ | I83: * ±40g~80g. * 비가식부위제거(머리,꼬리,내장 등) 후 절단
A84: 아귀토막,국내산(소) | B84: HACCP | C84: 국내산 | D84: KG | E84: 10300 | F84: 0 | G84: ▲ | I84: * ±40g~80g. * 비가식부위제거(머리,꼬리,내장 등) 후 절단
A85: 부드러운한입아귀봉 | C85: 국내산 | D85: KG | E85: 14300 | F85: 0 | G85: ▲ | I85: * ±30~35g * 아귀의 몸통/꼬리만 껍질을 벗겨 절단한 제품
A86: 아귀순살(탈피) | C86: 국내산 | D86: KG | E86: 20700 | F86: 0 | G86: ▲ | I86: * ±20~30g * 껍질과 뼈를 제거한 아귀순살
A87: 아귀순살 | C87: 중국산 | D87: KG | E87: 15900 | F87: 0 | G87: ▲ | I87: * ±20~30g * 껍질과 뼈를 제거한 아귀순살
A88: 코다리토막(반건조) | B88: HACCP | C88: 러시아/ 미국 | D88: KG | E88: 7000 | F88: 0 | G88: ▲ | I88: * ±40g~80g. * 비가식부위제거(머리,꼬리,내장 등) 후 절단/건조(20%)
A89: 순살코다리-강정용 | C89: 러시아/ 미국 | D89: KG | E89: 9400 | F89: 0 | I89: * ±3*3cm / ±20g/개 * 강정용
A90: 순살코다리-탕수용 | C90: 러시아/ 미국 | D90: KG | E90: 9400 | F90: 0 | I90: *±2×6cm *직사각모양절단, 탕수용
A91: 코다리순살포 | B91: HACCP | C91: 러시아 /미국 | D91: KG | E91: 9300 | F91: 0 | I91: * ±40g~80g. * 순살코다리 / 비가식부위(머리,꼬리,내장,등뼈 제거)
A92: 꽃게절단(수입)-대 | C92: 중국산 | D92: 팩 | E92: 6000 | F92: 0 | I92: * 등껍질 제거후 1/2 절단,45g내외/450g팩
A93: 꽃게절단(수입)-중 | C93: 중국산 | D93: 팩 | E93: 5300 | F93: 0 | I93: * 등껍질 제거후 1/2 절단,35g내외/450g팩
A94: 꽃게절단(수입)-소 | C94: 중국산 | D94: 팩 | E94: 4800 | F94: 0 | G94: ▲ | I94: * 등껍질 제거후 1/2 절단,30g내외/450g팩
A95: 꽃게절단(국산)-2절(끝발제거) | B95: HACCP | C95: 국내산 | D95: KG | E95: 17700 | F95: 0 | I95: * 1kg/팩 * 등껍질 제거후 1/2 절단,끝발제거
A96: 꽃게절단(국산)-4절(끝발제거) | B96: HACCP | C96: 국내산 | D96: KG | E96: 18800 | F96: 0 | I96: * 1kg/팩 * 등껍질 제거후 1/4 절단,끝발제거
A97: 홍새우살 | C97: 중국산 | D97: KG | E97: 16000 | F97: 19900
A98: 흰다리생새우살(210미) | C98: 베트남 | D98: KG | E98: 20600 | F98: 0 | I98: * ±5g내외,±210미 * 껍질제거,IQF동결
A99: 흰다리생새우살(140미) | C99: 베트남 | D99: KG | E99: 20600 | F99: 0 | I99: * ±7g내외,±140미 * 껍질제거,IQF동결
A100: 칵테일새우(자숙) | C100: 베트남 | D100: KG | E100: 28300 | F100: 0 | G100: ▲ | I100: * ±150미(10~11g) * 껍질/머리/내장제거,꼬리있음
...

Sheet 5813_다솔이네_2
A1: 5813_다솔이네_2024년+6월+녹채원+단가표수산.건어물.xlsx
A2: https://school062.com/bbs/board.php?bo_table=product_02&wr_id=5813
A3: 다솔유통 062-603-4800 팩스 062-603-4801 제품문의및 홍보사원 010-3852-0618
A4: ■햇살좋은바다(건어물)
A5: 구분 | B5: 제품명 | C5: 원산지 | D5: 단위 | E5: 6월 학교가 | F5: 등락 | G5: 제품특징
A6: 다 시 마 | B6: 건다시마(100G) | C6: 완도산 | D6: 봉 | E6: 3900 | G6: *100G *원초다시마를자연건조한것
B7: 건다시마(100G,8봉) | C7: 완도산 | D7: BOX | E7: 26700 | G7: *100G*8봉/박스 *원초다시마를자연건조한것
B8: 건다시마(100G,30봉) | C8: 완도산 | D8: BOX | E8: 94200 | G8: *100G*30봉/박스 *원초다시마를자연건조한것
B9: 건다시마(200G) | C9: 완도산 | D9: 봉 | E9: 6400 | G9: *200G *원초다시마를자연건조한것
B10: 건다시마(200G,8봉) | C10: 완도산 | D10: BOX | E10: 44900 | G10: *200G*8봉/박스 *원초다시마를자연건조한것
B11: 건다시마(200G,20봉) | C11: 완도산 | D11: BOX | E11: 108300 | G11: *200G*20봉/박스 *원초다시마를자연건조한것
B12: 건다시마(500G) | C12: 완도산 | D12: 봉 | E12: 12900 | G12: *500G *원초다시마를자연건조한것
B13: 건다시마(500G,4봉) | C13: 완도산 | D13: BOX | E13: 49000 | G13: *500G*4봉/박스 *원초다시마를자연건조한것
B14: 건다시마(500G,10봉) | C14: 완도산 | D14: BOX | E14: 120900 | G14: *500G*10봉/박스 *원초다시마를자연건조한것
B15: 건다시마(1KG) | C15: 완도산 | D15: KG | E15: 24600 | F15: ▲ | G15: *1Kg/봉 *원초다시마를자연건조한것
B16: 건다시마(1KG,7봉) | C16: 완도산 | D16: KG | E16: 166400 | F16: ▲ | G16: *1Kg*7봉/박스 *원초다시마를자연건조한것
B17: 기장 다시마(100g) (NEW) | C17: 기장산 | D17: 봉 | E17: 3700 | G17: *100G *원초다시마를자연건조한것
B18: 기장 다시마(100g,30봉) (NEW) | C18: 기장산 | D18: BOX | E18: 87900 | G18: *100G*30봉/박스 *원초다시마를자연건조한것
B19: 기장 다시마(200g) (NEW) | C19: 기장산 | D19: BOX | E19: 6300 | G19: *200G *원초다시마를자연건조한것
B20: 기장 다시마(200g,20봉) (NEW) | C20: 기장산 | D20: 봉 | E20: 106800 | G20: *200G*20봉/박스 *원초다시마를자연건조한것
B21: 기장 다시마(500g) (NEW) | C21: 기장산 | D21: BOX | E21: 13300 | G21: *500G *원초다시마를자연건조한것
B22: 기장 다시마(500g,10봉) (NEW) | C22: 기장산 | D22: BOX | E22: 124000 | G22: *500G*10봉/박스 *원초다시마를자연건조한것
B23: 기장 다시마(1kg) (NEW) | C23: 기장산 | D23: 봉 | E23: 24600 | G23: *1Kg/봉 *원초다시마를자연건조한것
B24: 기장 다시마(1kg,7봉) (NEW) | C24: 기장산 | D24: BOX | E24: 164900 | G24: *1Kg*7봉/박스 *원초다시마를자연건조한것
B25: 뿌리 다시마 (100g) (NEW) | C25: 완도산 | D25: 봉 | E25: 3800 | G25: *100G *원초다시마를자연건조한것
B26: 뿌리 다시마 (100g,30봉) (NEW) | C26: 완도산 | D26: BOX | E26: 82400 | G26: *100G*30봉/박스 *원초다시마를자연건조한것
B27: 뿌리 다시마 (200g) (NEW) | C27: 완도산 | D27: BOX | E27: 6000 | G27: *200G *원초다시마를자연건조한것
B28: 뿌리 다시마 (200g,20봉) (NEW) | C28: 완도산 | D28: 봉 | E28: 106800 | G28: *200G*20봉/박스 *원초다시마를자연건조한것
... B31: 뿌리 다시마 (1kg) (NEW) | C31: 완도산 | D31: KG | E31: 21800 | G31: *1Kg/봉 *원초다시마를자연건조한것
B32: 뿌리 다시마 (1kg,7봉) (NEW) | C32: 완도산 | D32: KG | E32: 142900 | F32: ▼ | G32: *1Kg*7봉/박스 *원초다시마를자연건조한것
A33: 미역 | B33: 건미역(100G) | C33: 완도산 | D33: 봉 | E33: 4000 | G33: *100G *원초미역을자연건조한것
B34: 건미역(100G,8봉) | C34: 완도산 | D34: BOX | E34: 28300 | G34: *100G*8봉/박스 *원초미역을자연건조한것
B35: 건미역(100G,20봉) | C35: 완도산 | D35: BOX | E35: 64400 | G35: *100G*20봉/박스 *원초미역을자연건조한것
B36: 건미역(200G) | C36: 완도산 | D36: 봉 | E36: 6300 | G36: *200G *원초미역을자연건조한것
B37: 건미역(200G,6봉) | C37: 완도산 | D37: BOX | E37: 34500 | G37: *200G*6봉/박스 *원초미역을자연건조한것
B38: 건미역(200G,10봉) | C38: 완도산 | D38: BOX | E38: 55700 | G38: *200G*10봉/박스 *원초미역을자연건조한것
B39: 건미역(500G) | C39: 완도산 | D39: 봉 | E39: 13800 | G39: *500G *원초미역을자연건조한것
B40: 건미역(1KG) | C40: 완도산 | D40: KG | E40: 26500 | G40: *500g*2봉/박스 *원초미역을자연건조한것
B41: 건미역(500G,6봉) | C41: 완도산 | D41: 봉 | E41: 78500 | G41: *500g*6봉/박스 *원초미역을자연건조한것
B42: 컷트미역(100G) | C42: 완도산 | D42: 봉 | E42: 5400 | G42: *100g/봉 *원초미역을자연건조하여자름
B43: 컷트미역(200G) | C43: 완도산 | D43: 봉 | E43: 8300 | G43: *200g/봉 *원초미역을자연건조하여자름
A44: 김 | B44: 구이용김 | C44: 국내산 | D44: 속 | E44: 14800 | G44: *100장/속(구이용)
B45: 구운김밥김 | C45: 국내산 | D45: 속 | E45: 18800 | G45: *100장/속(김밥용)
B46: 돌김 | C46: 국내산 | D46: 속 | E46: 13800 | G46: *100장/속(구이용)
B47: 무염김가루 | C47: 국내산 | D47: KG | E47: 62500 | G47: *500g*2봉/Box(김100%)
B48: 조미김가루 | C48: 국내산 | D48: KG | E48: 44000 | F48: ▼ | G48: *김60%(국내산),대두유(외국산),맛소금(국내산),들기름
A49: 파래 | B49: 건파래-선별 | C49: 국내산 | D49: KG | E49: 69900 | G49: *건파래를찢어이물질선별후포장
B50: 볶음파래김자반 | C50: 국내산 | D50: KG | E50: 30600 | G50: *돌김자반(62%),옥배유(수입산),올리브유(수입산), 참기름(수입산),볶음깨(수입산)외
A51: 건 새 우 | B51: 두절건새우-국산 | C51: 국내산 | D51: KG | E51: 68900 | G51: *두절새우/볶음용
B52: 두절건새우-수입 | C52: 중국산 | D52: KG | E52: 32700 | G52: *두절새우/볶음용
B53: 분홍수염새우-국산 | C53: 국내산 | D53: KG | E53: 56400 | G53: *분홍수염새우/국물용
B54: 분홍수염새우-수입 | C54: 중국산 | D54: KG | E54: 29700 | G54: *분홍수염새우/국물용
B55: 보리새우 | C55: 국내산 | D55: KG | E55: 32500 | G55: *흑새우/국물용
A56: 멸 치 류 | B56: 다시멸치(특) | C56: 국내산 | D56: KG | E56: 21700 | G56: *소량 발주시 단가 변동이 있음을 알려드립니다. * 원물 확보에 따라 단가 변동 있을 수 있음
B57: 다시멸치(특,10KG) | C57: 국내산 | D57: BOX | E57: 213500 | G57: *1KG*10봉/박스 *부직포다시망2장 * 원물 확보에 따라 단가 변동 있을 수 있음
B58: 다시멸치(상) | C58: 국내산 | D58: KG | E58: 19600 | F58: ▲ | G58: *소량 발주시 단가 변동이 있음을 알려드립니다. * 원물 확보에 따라 단가 변동 있을 수 있음
B59: 다시멸치(상,10KG) | C59: 국내산 | D59: BOX | E59: 191500 | F59: ▲ | G59: *1KG*10봉/박스 *부직포다시망2장 * 원물 확보에 따라 단가 변동 있을 수 있음
B60: 다시멸치(상,10KG)- 다시망미포함 | C60: 국내산 | D60: BOX | E60: 186800 | F60: ▲ | G60: *1KG*10봉/박스 *다시망미포함 * 원물 확보에 따라 단가 변동 있을 수 있음
B61: 가이리 | C61: 국내산 | D61: KG | E61: 24300 | G61: 소멸치, 크기 1.5~2.5cm
B62: 지리멸치 | C62: 국내산 | D62: KG | E62: 27500 | G62: 세멸치, 크기 0.5~1.5cm
B63: 저염지리멸치 | C63: 국내산 | D63: KG | E63: 33000 | G63: 세멸치, 크기 0.5~1.5cm/염도3%이내
B64: 디포리(국내산) | C64: 국내산 | D64: KG | E64: 21000 | G64: * 원물 확보에 따라 단가 변동 있을 수 있음
B65: 디포리(국내산,10KG) | C65: 국내산 | D65: BOX | E65: 204100 | G65: * 원물 확보에 따라 단가 변동 있을 수 있음
B66: 혼합다시5종-국산 | C66: 국내산 | D66: KG | E66: 19600 | G66: *다시멸치(75%),디포리(10%),다시마(5%), 보리새우(5%),건표고(5%)
B67: 혼합다시5종-국산(500g) | C67: 국내산 | D67: KG | E67: 14100 | G67: *다시멸치(75%),디포리(10%),다시마(5%), 보리새우(5%),건표고(5%)
B68: 혼합다시5종-수입 | C68: 수입산 | D68: KG | E68: 17600 | G68: *다시멸치(70%),디포리(10%),표고(중국산,5%), 다시마(10%),분홍새우(중국산5%)
B69: 혼합다시5종-수입(500g) | C69: 수입산 | D69: KG | E69: 13800 | G69: *다시멸치(70%),디포리(10%),표고(중국산,5%), 다시마(10%),분홍새우(중국산5%)
B70: 가쓰오부시 | C70: 필리핀 인도네시아 | D70: 봉 | E70: 12900 | G70: *200g/봉 *국물용,가다랑어100%(슬라이스)
B71: 건강혼합멸치(A) | C71: 국내산 | D71: KG | E71: 26400 | G71: *지리멸(40%),아몬드슬라이스(40%),두절건새우(20%)
A72: 북 어 | B72: 북어채 | C72: 러시아산 | D72: KG | E72: 44700 | G72: *색깔이밝고군내가없음
B73: 황태채 | C73: 러시아산 | D73: KG | E73: 46000 | G73: *색깔이노랗고군내가없음
A74: 조미채 | B74: 구운쥐포채 | C74: 베트남산 | D74: KG | E74: 34500 | G74: *구워서손으로찢은모양 *쥐취어육(87%),설탕(9%),D*솔비톨(2%)외
B75: 참쥐포채(가위컷) | C75: 베트남산 | D75: KG | E75: 31900
B76: 쥐어채 | C76: 베트남산 | D76: KG | E76: 11000 | G76: *0.3*13cm로가는채 *연육(70%),설탕,솔비톨,옥수수전분외
B77: 명엽채 | C77: 베트남산 | D77: KG | E77: 11600 | G77: *넓이2~3mm/길이10~15cm *연육(70%),전분,설탕,솔비톨외
A78: 일 미 | B78: 일미채-국산 | C78: 국내산 | D78: KG | E78: 품절 | G78: *백색의가는조미오징어채 *오징어(80.05%),설탕(6.3%),D*소르비틀외
B79: 일미채-수입완제 | C79: 중국산 | D79: KG | E79: 27200 | G79: *백색의가는조미오징어채 *오징어(80.05%),설탕(6.3%),D*소르비틀외
A80: 진 미 | B80: 진미채-국산 | C80: 국내산 | D80: KG | E80: 품절 | G80: *백색의굵은조미오징어채 *오징어(83.53%),D*소르비틀(7%),설탕외
B81: 진미채-수입 | C81: 페루산 | D81: KG | E81: 30300 | F81: ▲ | G81: *백색의굵은조미오징어채 *오징어(83.53%),D*소르비틀(7%),설탕외
A82: 홍 미 | B82: 홍진미채-국산 | C82: 국내산 | D82: KG | E82: 품절 | G82: *붉은색의굵은조미오징어채 *오징어(83.53%),D*소르비틀(7%),설탕외
B83: 홍진미채-수입 | C83: 페루산 | D83: KG | E83: 33800 | G83: *붉은색의굵은조미오징어채 *오징어(83.48%),D*소르비틀(7%),설탕외
A84: 건명태 | B84: 건명태두 | C84: 러시아산 | D84: KG | E84: 17300 | G84: *건명태대가리,다시용
A85: 새우젓 | B85: 새우젓(프리미엄,6KG) | C85: 국내산 | D85: box | E85: 100800 | G85: *1kg*6병/박스
B86: 새우젓(상,6KG) | C86: 국내산 | D86: box | E86: 96100 | G86: *1kg*6병/박스
A87: 대추 | B87: 건대추(상초) | C87: 국내산 | D87: KG | E87: 25100
B88: 건대추(씨제거) | C88: 국내산 | D88: KG | E88: 46300
A89: 건포도 | B89: 건포도 | C89: 미국산 | D89: KG | E89: 11800
A90: 호두 | B90: 깐호두 | C90: 미국산 | D90: KG | E90: 23900
A91: 아몬드 | B91: 아몬드슬라이스(생) | C91: 미국산 | D91: KG | E91: 18800
B92: 통아몬드(볶음) | C92: 미국산 | D92: KG | E92: 18500
A93: 해조류 | B93: 무염미역줄기 | C93: 국산 | D93: KG | E93: 7400 | G93: * 실링포장 * 미역줄기 : 100% 어린 줄기 부분만을 잘게 찢어서 매우 부드러움
B94: 무염쌈다시마 | C94: 국산 | D94: KG | E94: 6400 | G94: * 실링포장 * 다시마 : 100% 뿌리 쪽 제거 후 쌈용으로 사용.
B95: 염장꼬시래기 | C95: 국산 | D95: KG | E95: 6300 | G95: * 실링포장 * 꼬시래기 : 80%, 소금(수입) : 20%
B96: 염장다시마채 | C96: 국산 | D96: KG | E96: 5600 | G96: * 실링포장 * 다시마 : 80%, 소금(수입) : 20%
B97: 염장미역 | C97: 국산 | D97: KG | E97: 6400 | G97: * 냉국, 미역국용 * 실링포장 * 미역 : 90%, 소금(수입) : 10%
B98: 염장미역줄기 | C98: 국산 | D98: KG | E98: 6000 | G98: * 실링포장 * 미역줄기 : 75%, 소금(수입) : 25% 어린 줄기 부분만을 잘게 찢어서 매우 부드러움
B99: 염장쌈다시마 | C99: 국산 | D99: KG | E99: 5600 | G99: * 실링포장 * 다시마 : 80%, 소금(수입) : 20% 뿌리 쪽 제거 후 쌈용으로 사용.
B100: 모듬해초 | C100: 국산 | D100: KG | E100: 14400 | G100: * 실링포장 * [ 미역줄기(20%), 염장미역(10%), 채다시마(10%), 꼬시래기(25%), 한천(15%), 세모가사리(5%) 불등가사리(5%) ] 90% + 소금(수입) 10%
A101: * 신선한 제품을 공급하기 위해 특정 주요제품은 단가 변동이 있을 수 있습니다. (일일경매에 따른 원물단가변동)

Sheet 5821_호남푸드_1
A1: 5821_호남푸드_슬로우24,6월단가5최종12+3.xlsx
A2: https://school062.com/bbs/board.php?bo_table=product_02&wr_id=5821
A3: The 슬로우 메 이 드
A4: 홍보담당 장선아/ 010-9602-5236 / 호남푸드 576-0993
A5: 구분 | B5: 제품 | C5: 제품명 | D5: 규격 | E5: 봉당입수 | F5: 개당단가 | G5: 봉단가 | H5: 원재료명 및 함량
C6: 블랙 타이거 치즈새우 | D6: 450g | E6: 45g*10 | F6: 2332 | G6: 23320 | H6: 새우(85%),모짜렐라치즈11%(우유,소금,락토코커스락티스.우유응고효소,)프리더스트(변성전분,난백분말,소금,옥수수전분,팜유.글리세린지방산에스테르)
C7: 스페셜 버터갈릭 미트볼+이탈리인프레쉬화이트소스200g | D7: 1kg | E7: 25g*40 | F7: 494 | G7: 19750 | H7: 돼지고기(국내산,뒷다리살78.5%,지방포함)풍미가득버터갈릭소스(마요네즈(식물성유지,(외국산:아르헨티나,미국,중국등)정제수,난황백(계란:국산)정제소금(국산)
C8: 스페셜 버터갈릭 미트볼 | D8: 1kg | E8: 25g*40 | F8: 420 | G8: 16820 | H8: 돼지고기(국내산,뒷다리살78.5%,지방포함)풍미가득버터갈릭소스(마요네즈(식물성유지,(외국산:아르헨티나,미국,중국등)정제수,난황백(계란:국산)정제소금(국산)
C9: 모과청 한돈 갈비 로스트갈릭소스200g | D9: 900g | E9: 75g*12 | F9: 1457 | G9: 17480 | H9: 돼지갈비살(국산)32.61%,돼지고기(국산)30.11%,돼지지방(국산)7.53%,모과청0.4%(모과:60%,국산),배퓌래,파인애플퓌래
C10: 모과청 한돈 갈비 | D10: 900g | E10: 75g*12 | F10: 1300 | G10: 15610 | H10: 돼지갈비살(국산)32.61%,돼지고기(국산)30.11%,돼지지방(국산)7.53%,모과청0.4%(모과:60%,국산),배퓌래,파인애플퓌래
C11: 조선의떡갈비왕+풍미가득 버터갈릭소스240g | D11: 1.2kg | E11: 100g*12 | F11: 단종 | H11: 돼지고기(갈비살:국산)36.3%,돼지고기(정육:국산)27.22% 돈지방(국산)6.05%,쇠고기(정육:국산)3.02%,닭고기(정육:국산)3.02%,마늘 대파,숯불갈비맛액기스
C12: 조선의떡갈비왕 | D12: 1.2kg | E12: 100g*12 | H12: 돼지고기(갈비살:국산)36.3%,돼지고기(정육:국산)27.22% 돈지방(국산)6.05%,쇠고기(정육:국산)3.02%,닭고기(정육:국산)3.02%,마늘 대파,숯불갈비맛액기스
C13: 투움바 함박 스테이크스테이크잘라흘러나오는투움바소스찍어드세요 | D13: 800g | E13: 80g×10 | F13: 단종 | H13: 돼지고기51.66%(뒷다리/국내산),돈지방(국산),투움바소스21.06%,냉동양파,건빵가루,드-미글라스소스
C14: 브리또8호(20cm) | E14: 12장 | F14: 단종
C15: 육즙가득 한돈떡갈비스틱+레몬크림소스400g최소발주5set | D15: 1.4kg | E15: 70g×20 | F15: 단종 | H15: 돼지고기52.51%(국산,갈비살28.64%,뒤다리살)우지방(국산) 흑설탕,양파 사이즈(mm) 145×20×25(높이)
C16: 육즙가득 한돈 떡갈비스틱+단품 | E16: 70g×20
A17: 떡 | C17: 국산배로양념한 닭갈비 | D17: 1kg | G17: 18060 | H17: 닭고기(닭다리살:국산)70%JE양념(물엿,혼합간장(탈지대두(외국산/인도,미국,중국,)천일염(호주산),정제수,고춧가루(중국산)
C18: 금돼지 고추장 불고기 | D18: 1KG | G18: 12890 | H18: 돼지고기(뒷다리살:국산)70%,Je-고추장양념(정제수,고추장(물엿,소맥분(밀:미국,호주산)고추양념(중국산)밀쌀,정제소금)18%
C19: 가슴살 통살 치킨 가라아게+매직양념치킨소스 | D19: 1kg | E19: 24g±3g*38 | F19: 466 | G19: 17720 | H19: 닭고기(가슴살/국내산)66.68%,정제수,곡류가공품1,곡류가공품2,옥수수전분,콩기름.기타가공품
C20: 가슴살 통살 치킨 가라아게 | D20: 1kg | E20: 24g±3g*38 | F20: 422 | G20: 16030
C21: 토마호크 스테이크+드미글라스소스200g/레몬크림소스200g | D21: 1kg | E21: 100g*10 | F21: 1780 | G21: 17800 | H21: 돼지고기62.87%(국산/뒷다리살)소고기8.85%(호주산) 양파(국산),기타가공품,설탕,두류가공품,마늘,정제수,정제소금,폴리인산나트륨,카라메랙소
F22: 1725 | G22: 17250
C23: 토마호크 스테이크 | D23: 1kg | E23: 100g*10 | F23: 1580 | G23: 15800 | H23: 돼지고기62.87%(국산/뒷다리살)소고기8.85%(호주산) 양파(국산),기타가공품,설탕,두류가공품,마늘,정제수,정제소금,폴리인산나트륨,카라메랙소
F24: 1532 | G24: 15320
C25: 고소한꿔바로우+ 사천탕수육소스200g(5set) | D25: 1kg | E25: 16g×62±4 | F25: 250 | G25: 15550 | H25: 돼지고기55.6%,(돈육/국산),정제수,밀가루,탕수육믹스2 두부,식물성유지,빵가루,탕수육시즈닝,베이킹파우더
C26: 고소한꿔바로우+ 북경식탕수육소스200g(5set) | D26: 1kg | E26: 16g×62±4 | F26: 220 | G26: 15100
C27: 맛동산꿔바로우 맛탕소스+만능데리아끼소스100g(20set | D27: 1kg | E27: 16g×62±4 | F27: 240 | G27: 15070 | H27: 돼지고기55.6%,(돈육/국산),정제수,밀가루,탕수육믹스2 두부,식물성유지,빵가루,탕수육시즈닝,베이킹파우더
C28: 맛동산 꿔바로우 단품 | D28: 1kg | E28: 16g×62±4 | F28: 220 | G28: 13570
C29: 청파래 대구까스 오무라이스소스200g | D29: 1.2kg | E29: 60g*20 | F29: 734 | G29: 14670 | H29: 청대구40%,빵가루(밀가루,정제수,포도당,효모,쇼트닝(팜유)정제소금,정제수,밀가루,밀전분,청파래분말0.6%
C30: 청파래 대구까스 | D30: 1.2kg | E30: 60g*20 | F30: 590 | G30: 11790 | H30: 청대구40%,빵가루(밀가루,정제수,포도당,효모,쇼트닝(팜유)정제소금,정제수,밀가루,밀전분,청파래분말0.6%
C31: 통살오징어 다리튀김+레몬크림소스200g | D31: 1kg | E31: 부정형 | G31: 18420 | H31: 오징어68.5%,정제수,팜유,변성전분,타피오카전분,빵가루(밀가루,정제수,팜유,포도당,정제소금,효모,이스트푸드,파프리카추출색소)소금,L글루탐산나트륨(향미증진제)
C32: 통살오징어 다리튀김 | D32: 1kg | E32: 부정형 | G32: 16500 | H32: 오징어68.5%,정제수,팜유,변성전분,타피오카전분,빵가루(밀가루,정제수,팜유,포도당,정제소금,효모,이스트푸드,파프리카추출색소)소금,L글루탐산나트륨(향미증진제)
C33: 야채 핫바+사천식탕수육소스+북경식탕수육소스100g | D33: 800g | E33: 80g*10 | F33: 1099 | G33: 10990 | H33: 오징어31.48%,당근(15.5%)양파(12.5%)소맥전분,설탕,타피오카전분,대두유,완두콩2%,대두단백
C34: 야채 핫바 | D34: 800g | E34: 80g*10 | F34: 924 | G34: 9240 | H34: 오징어31.48%,당근(15.5%)양파(12.5%)소맥전분,설탕,타피오카전분,대두유,완두콩2%,대두단백
C35: 모짜렐라치즈& 쉬림프너겟 만능홍콩소스300g | D35: 1.2kg | E35: 30g*40 | F35: 630 | G35: 25290 | H35: 스터프40%(새우26.2%,연육외,)배터믹스.흰색빵가루,노란색빵가루.모짤렐라치즈10%
C36: 모짜렐라치즈& 쉬림프너겟 | D36: 1.2kg | E36: 30g*40 | F36: 605 | G36: 24200 | H36: 스터프40%(새우26.2%,연육외,)배터믹스.흰색빵가루,노란색빵가루.모짤렐라치즈10%
C37: 빵가루 멘보샤+중화칠리소스200g | D37: 900g | E37: 30g*30 | F37: 816 | G37: 24470 | H37: 빵가루(밀가루,옥수수전분,쇼트닝(팜유)설탕,효모)흰다리새우24%,배터믹스(정제수,밀가루,설탕,옥수수전분,정제소금)팜유,연육(녹줄돔,설타으난백분말,폴리인산나트륨)스즈닝,당근,합성새우향0.4%
C38: 빵가루 멘보샤 | D38: 900g | E38: 30g*30 | F38: 760 | G38: 22710 | H38: 빵가루(밀가루,옥수수전분,쇼트닝(팜유)설탕,효모)흰다리새우24%,배터믹스(정제수,밀가루,설탕,옥수수전분,정제소금)팜유,연육(녹줄돔,설타으난백분말,폴리인산나트륨)스즈닝,당근,합성새우향0.4%
C39: 타코 야끼볼+만능데리야끼소스200g | D39: 1kg | E39: 20g*50 | F39: 186 | G39: 9310 | H39: 정제수,밀가루,양배추,문어9%,파,옥수수전분,계란,설탕,대두유,생강,가다랑어분말,L글루탐산나트륨
C40: 타코 야끼볼 | D40: 1kg | E40: 20g*50 | F40: 158 | G40: 7920 | H40: 정제수,밀가루,양배추,문어9%,파,옥수수전분,계란,설탕,대두유,생강,가다랑어분말,L글루탐산나트륨
C41: 콰트로치즈함박+ 드미글라소스/로스트갈릭150g(최소발주 15봉 이상) | D41: 800g | E41: 80g x 10 | F41: 1705 | G41: 17050 | H41: 돼지고기52.81%(뒷다리살/국내산)돈지방(국산)카망베르소스-m10.63%,자연치즈7.09%,냉동양파,고소한빵가루,이태리4가지치즈크림소스5.32%,소스2.설탕,,한돈너비아니용시즈닝,변성미분
F42: 1652 | G42: 16520
C43: 콰트로치즈함박 | F43: 1507 | G43: 15070
C44: 콰트로치즈함박 +드미글라소스/로스트갈릭200g(최소발주 10봉 | D44: 1.1kg | E44: 110g*10 | F44: 2320 | G44: 23200 | H44: 돼지고기52.81%(뒷다리살/국내산)돈지방(국산)카망베르소스-m10.63%,자연치즈7.09%,냉동양파,고소한빵가루,이태리4가지치즈크림소스5.32%,소스2.설탕,,한돈너비아니용시즈닝,변성미분
C45: 콰트로치즈함박 단품 | F45: 2090 | G45: 20900
C46: 알싸한청량고추떡갈비+프레쉬화이트소스증정300g(최소발주 8 | D46: 1kg | E46: 100g × 10개 | F46: 2115 | G46: 21150 | H46: 돼지고기66.24 %(갈비살64.3%/국산)쇠고기3.16%(호주산), 청량고추6.08%,양조간장
C47: 알싸한청량 고추떡갈비(단품) | F47: 2200 | G47: 22000
F48: 1616 | G48: 16160
C49: 고소한탕수육+ 블랙올리브소스200g(최소발주 20봉 | D49: 1kg | E49: 12g×80 | F49: 165 | G49: 13200 | H49: 돼지고기 47.55%(국산), 탕수육가루24.54%, 탕수육씨즈닝-엔0.90%, 두부[대두(국산)]0.76% 맛동산탕수육 (땅콩분태를 뿌려주세요)
C50: 고소한탕수육+ 맛탕소스10%만능데리야끼소스10%(최소발주 20봉 | D50: 1kg | E50: 12g×80 | F50: 174 | G50: 13980
F51: 159 | G51: 12690
C52: 고소한탕수육+ 소스별도 | D52: 1kg | E52: 12g×80 | F52: 155 | G52: 12430
D53: 1kg | E53: 12g×80 | F53: 140 | G53: 11190
C54: 고소한 탕수육+ 사천탕수육소스200g(최소발주5봉 | D54: 1kg | E54: 12g×80 | F54: 172 | G54: 13800 | H54: 돼지고기 47.55%(국산), 탕수육가루24.54%, 탕수육씨즈닝-엔0.90%, 두부[대두(국산)]0.76%
C55: 고소한 탕수육+ 사천탕수육소스100g+맛탕소스100g(최소발주5봉 | D55: 1kg | E55: 12g×80 | F55: 169 | G55: 13600
C56: 오곡탕수육+ 만능홍콩소스200g(최소발주 5봉 이상) | D56: 1kg | E56: 12g×80 | F56: 197 | G56: 15740 | H56: 돼지고기(국산)54.3%, 밀가루(밀:미국/호주산)14%, 정제수11.9%, 전분가공품(오곡탕수육베터믹스(현미50%,보리20%,대두10%,차조10%,수수 10%)
C57: 오곡탕수육+ 북경식탕수육소스200g (최소발주 5 이상) | D57: 1kg | E57: 12g×80 | F57: 176 | G57: 14120
C58: 오곡탕수육+ 맛탕소스,만능데리야끼100g(최소발주 20봉 이상) | D58: 1kg | E58: 12g × 80개이상 | F58: 210 | G58: 16800 | H58: 돼지고기(국산)54.3%, 밀가루(밀:미국/호주산)14%, 정제수11.9%, 전분가공품(오곡탕수육베터믹스(현미50%,보리20%,대두10%,차조10%,수수 10%)
F59: 194 | G59: 15510
C60: 오곡탕수육+ 소스별도 | F60: 200 | G60: 16000
F61: 158 | G61: 12600
C62: 눈송이 탕수육+만능홍콩소스+맛탕소스 | D62: 1kg | E62: 55*3 | F62: 247 | G62: 13580 | H62: 돼지고기(후지,국산)55.4%,기타가공품,정제수,복합조미식품(탕수육시즈닝)콩기름(대두유곡류가공품(쌀가루,국산)
C63: 눈송이 탕수육 | D63: 1kg | E63: 55*3 | F63: 213 | G63: 11740
C64: 해팜부산 어묵꼬치 | D64: 750g | E64: 30g*25 | F64: 357 | G64: 단종 | H64: 냉동연육70%.밀가루ㅡ옥수수전분,정제소금,대두유,대라,L-글루탐산나트륨
C65: 해팜부산 어묵꼬치 | D65: 1kg | E65: 50*20 | F65: 520 | H65: 냉동연육70%.밀가루ㅡ옥수수전분,정제소금,대두유,대라,L-글루탐산나트륨
C66: 오뎅탕소스 | D66: 1kg | H66: 정제수,양조간장)일본산)소스1(환원물엿,가다랑어추추물(고형분9.9%)혼합가다랑어추출물
C67: 쭈꾸미 크림 리조또+이탈리안프레쉬화이트소스1kg(100인분기준) | D67: 1kg | F67: 1,468 (25인분 | G67: 단종 | H67: 쭈꾸미(베트남)100% 가공유크림38%(벨기에./유크림99.975%카라기난)
C68: 소프트크림오물렛 오무라이스소스200g | D68: 1kg | E68: 50g*20개 | F68: 1059 | G68: 21190 | H68: 전란액100%,우유(국산:원유100%)채종유(호주산100%
C69: 소프트크림 오물렛 | F69: 970 | G69: 19410
C70: 감자빠삭 슈스트링 가스 | D70: 1.2kg | E70: 60g*20 | F70: 1122 | G70: 22440 | H70: 감자(국산)40%,팜유(말레이시아산)18%,소맥분(밀:호주산,미국산)튀김가루(밀:미국산,호주산)
C71: 매콤달콤쫀득 소떡소떡+맛탕소스100g+만능데리야끼소스100g(20인이상) | D71: 1.2kg | E71: 120g×10 | F71: 1643 | G71: 16430 | H71: 물엿1,물엿2,토마토케찹(토마토페이스트(토마토100%/중국산) 물엿,기타과당,발효식초,변성전분,정제수.양파(국산),기타설탕,설탕,마늘(중국산),전분가공품,발효식초,정제소금,향신료조제품1카르복시메틸셀룰로오스나트륨,
C72: 매콤달콤쫀득 소떡소떡+ 매직강정소스300g(최소발주3set | D72: 1.2kg | E72: 120g×10 | F72: 1529 | G72: 15290
C73: 매콤달콤쫀득 소떡소떡+ 단품 | D73: 1.2kg | E73: 120g×10 | F73: 1269 | G73: 12690
C74: 꼬꼬킷 버팔로 와일드 구웁닭 | D74: 1kg | E74: 100g×10±1 | F74: 2335 | G74: 23350 | H74: 닭사이정육73.53%(국내산)밁다루,오븐용간장맛베터믹스(밀가루(미국산)복합조미식품(탈지대두(외국산)설탕,곡물가공품,옥수수전분
C75: 꼬꼬킷 버팔로 와일드 윙 | D75: 1kg | E75: 20g×48±3 | F75: 535 | G75: 단종 | H75: 닭고기(날개,국내산)85.62%,정제수,버팔로우윙시즈닝,(고춧가루,(건고추(중국산)정제소금(국내산).밀가루
C76: 콕콕찍어 치마 호크닭다리+매직강정소스110g | D76: 1kg | E76: 100g x 10±1 | F76: 2262 | H76: 닭다리북채(국내산)75.01%,장제수,레드베터믹스(밀가루,밀(미국,호주산)옥수수전분,(옥수수,외국산)빵가루(소맥분,(밀)미국,호주산,팜유(말레이시아산),화이트베터믹스,복합조미식품
C77: 콕콕찍어 치마 호크닭다리 | F77: 2005 | G77: 20050
C78: 직화 닭갈비 스테이크 로스용 갈비소스400g | D78: 1.5kg | E78: 75gx 20 | F78: 1900 | G78: 단종 | H78: 닭다리살(국내산)81.76%,닭갈비양념 혼합간장(정제수,산분해간장(탈지대두 양파(국내산),설탈,천연향신료(중국산)탄산음료14.72%,닭가슴살 염지제
F79: 1672
C80: 직화 닭갈비 스테이크(단품) | F80: 1692
F81: 1467
A82: 떡 갈 비 | C82: 직화 닭갈비 스테이크 로스용 갈비소스400g | D82: 1.5kg | E82: 75gx 20 | F82: 1900 | G82: 단종 | H82: 닭다리살(국내산)81.76%,닭갈비양념 혼합간장(정제수,산분해간장(탈지대두 양파(국내산),설탈,천연향신료(중국산)탄산음료14.72%,닭가슴살 염지제
F83: 1672
C84: 직화 닭갈비 스테이크(단품) | F84: 1692
F85: 1467
C86: 꼬꼬킷 구웁닭+ 로스용갈비소스150g) | D86: 1kg | E86: 100g × 10개 | F86: 2726 | G86: 27260 | H86: 염장사이정육90.9%(닭97.1%국산)/박력분,오븐용간장맛 베터믹스,밀가루
C87: 꼬꼬킷 구웁닭 (단품) | F87: 2576 | G87: 25760
C88: 꼬꼬킷 구웁닭+ 로스용갈비소스200g (최소발주 10봉 이상) | D88: 1.3kg | E88: 1.3kg*10 | F88: 2464 | G88: 24640 | H88: 염지더큰가슴살(92.61%(닭고기:98.8%(가슴살:국내산)천일염(국내산)박력분,오븐용간장맛배터믹스,설탕
C89: 꼬꼬킷 구웁닭 (단품) | D89: 1.3kg | E89: 1.3kg*10 | F89: 2264 | G89: 22640
C90: 꼬꼬킷 커틀렛+ 락교소스200g (최소발주 10봉이상) | D90: 1kg | E90: 100g×10개 | F90: 1794 | G90: 17940 | H90: 염장가슴살 60 % (닭고기 97.1 %/국산), 고소한맛배터믹스, 고소한빵가루
C91: 꼬꼬킷 커틀렛+ 유린기소스400g (최소발주 10봉이상) | D91: 1kg | E91: 100g×10개 | F91: 1735 | G91: 17350
C92: 꼬꼬킷 커틀렛+ 지파이셋트 허니버터시즈닝+랩지증정 (최소발주 10봉이상) | D92: 1kg | E92: 100g×10개 | F92: 1750 | G92: 17750
F93: 1610 | G93: 16100
C94: 꼬꼬킷 커틀렛 소스별도 | F94: 1495 | G94: 14950
C95: 쌀로만 강정+ 매직강정소스 | D95: 1kg | E95: 24g±3g*38 | F95: 611 | G95: 23230 | H95: 닭고기(정육:국내산)82%,베터믹스12%(옥수수전분:외국산(러시아,헝가리,세르비아)아세틸아디핀산이전분,생미분(백미:국내산)
C96: 쌀로만강정 오븐가능 | D96: 1kg | E96: 24g±3g*38 | F96: 566 | G96: 21500
C97: 카놀라유 미니 치킨카츠+락교소스 | D97: 1kg | E97: 26g*38±2 | F97: 502 | G97: 19060 | H97: 닭가슴살(국산)60.5%,기타가공품1(밀가루9밀;미국산,캐나다산),식물성유지9팜유:말레이시아산)포도당,효모(생이스트),옥수수전분(옥수수:외국산/러시아
C98: 카놀라유 미니 치킨카츠오븐가능) | D98: 1kg | E98: 26g*38±2 | F98: 423 | G98: 16070
C99: 로즈마리 치킨텐더유린기소스20%증정(최소발주 10봉 이상) | D99: 1kg | E99: 50g ×20개 | F99: 876 | G99: 17520 | H99: 염지닭안심71.43%,정제수,빵가루,배터믹스PS,밀가루,팜유,핫페퍼스테이크용시즈닝0.56%(로즈마리3.42%),볶음쌀분말, 대두유,베이킹파우더
C100: 로즈마리 치킨텐더 | F100: 807 | G100: 16140
...

Sheet 5823_태강씨푸드_1
A1: 5823_태강씨푸드_2024년6월+태강씨푸드-추천품목.xls
A2: https://school062.com/bbs/board.php?bo_table=product_02&wr_id=5823
A3: 태강씨푸드
A4: 10월 단가표 (2020년 10월)
A5: 전화 : 062-234-2831
A6: 팩스 : 062-234-2833

Sheet 5823_태강씨푸드_2
A1: 5823_태강씨푸드_2024년6월+태강씨푸드-추천품목.xls
A2: https://school062.com/bbs/board.php?bo_table=product_02&wr_id=5823
A3: * 태강씨푸드 추천품목(6월) *
H4: T(062)234-2831~2 F(062)234-2833
A5: 품명 | B5: 규격 | C5: 용도 | D5: 단위 | E5: 개당중량(g)/개수 | F5: 가격 (원) | G5: 원산지 | H5: 제품특징 | I5: haccp
A6: 피꼬막살 | B6: 냉동 | C6: 무침,볶음,탕,튀김,전감등 | D6: kg | E6: 1kg포장 | F6: 21500 | G6: 보성,벌교 | H6: 껍질 선별 후 세척, 살짝 데친 후 탈각 급냉 | I6: haccp
B7: 냉장 | C7: 무침,볶음,탕,튀김,전감등 | D7: kg | E7: 1kg포장 | F7: 23500 | G7: 보성,벌교 | H7: 껍질 선별 후 세척, 살짝 데친 후 탈각 급냉 | I7: haccp
A8: 새꼬막살 | B8: 냉동 | C8: 무침,볶음,탕,튀김,전감등 | D8: kg | E8: 1kg포장 | F8: 28900 | G8: 보성,벌교 | H8: 껍질 선별 후 세척, 살짝 데친 후 탈각 급냉 | I8: haccp
B9: 냉장 | C9: 무침,볶음,탕,튀김,전감등 | D9: kg | E9: 1kg포장 | F9: 29500 | G9: 보성,벌교 | H9: 껍질 선별 후 세척, 살짝 데친 후 탈각 급냉 | I9: haccp
A10: 해물모듬 | B10: 봉 | C10: 해물탕용 | D10: kg | E10: 칵테일새우(수입)5%오징어채20%키조개살5%오징어솔방울15%절단꽃게10%주꾸미채20%아귀15%대하새우(수입)10% | F10: 35500 | G10: 국내산+수입산 | H10: 냉장으로 작업해서 나감
A11: 특참삼치순살 ※근육질이 살아있어 맛이 탁월함 | B11: 순살 | C11: 구이용,튀김,강정용 (특제품) | D11: kg | E11: 40-50g / kg 22-23 60-70g / kg 14-16 | F11: 21500 | G11: 국내산 (남해안) | H11: 1kg이상 살이 도톰하고 육고기맛이 나면서 생선고유의 특징을 지니고 있음. ★가슴살가시제거★ (12월~3월에 생산조업된 참삼치)2단삼치
A12: 삼치순살 (일반제품) | B12: 순살 | C12: 구이용,튀김,강정용 (일반제품) | D12: kg | E12: 40-50g / kg 22-23 60-70g / kg 14-16 | F12: 20900 | G12: 국내산 (남해안) | H12: 한마리 500~600g으로 작업한 일반제품(12월~3월 생산조업된 삼치) | I12: haccp
A13: 특삼치순살(PBO) (잔가시99%제거) | B13: 순살 | C13: 구이용,튀김,강정용 | D13: kg | E13: 40-50g / kg 22-23 60-70g / kg 14-16 | F13: 25500 | G13: 국내산 (남해안) | H13: 12월~3월에 생산 조업된 삼치로 작업 ★ 뼈,가시99%제거 ★
A14: 특삼치 ※근육질이 살아있어 맛이 탁월함 | B14: 토막 | C14: 조림용 (특삼치) | D14: kg | E14: 40-50g / kg 22-23 | F14: 12900 | G14: 국내산 남해안(2단) | H14: 머리,꼬리 지느러미 제거 후 절단 (12월~3월 생산 조업된 참삼치) ※한마리 700g~1kg작업 | I14: haccp
E15: 60-70g / kg 14-16 ※그램수 요구대로절단가능
A16: 구이특삼치 ※근육질이 살아있어 맛이 탁월함 | B16: 대 | C16: 구이용(뼈있음) | D16: kg | E16: ※그램수 요구대로절단가능 (2/1절단 손작업) | F16: 13900 | G16: 국내산 남해안 | H16: 삼치 마리당 700g당 이상으로 작업 하프작업,소금간 (12월~3월생산 조업된 참삼치) | I16: haccp
A17: 고등어순살 (노르웨이) | B17: 특大(순살) | C17: 구이용 ,튀김용,조림용 | D17: kg | E17: 40~50g, 50~60g 60~70g | F17: 16900 | G17: 노르웨이 | H17: 자망조업됨(트롤아님) 마리당 500~600g 大참고등어로 작업 ★가슴살가시제거★ 맛과 향이 30%이상 좋음 | I17: haccp
A18: 고등어 (노르웨이) | B18: 특大(토막) | C18: 조림용 | D18: kg | E18: 40~50g, 50~60g 60~70g,70~80g | F18: 12900 | G18: 노르웨이 | H18: 자망조업됨(트롤아님) 마리당 500~600g 大참고등어로 작업 국내산 고등어순살보다 맛과 향이 30%이상 좋음 | I18: haccp
A19: 구이고등어 (노르웨이) | B19: 특大(토막) | C19: 구이용(하프작업)뼈있음 | D19: kg | E19: 요구대로 g수에 맞게 절단 (2/1절단 손작업) | F19: 13900 | G19: 노르웨이 (자망조업) | H19: 자망조업됨(트롤아님) 마리당 500~600g 大참고등어로 작업 국내산 고등어순살보다 맛과 향이 30%이상 좋음
A20: 자반고등어 (노르웨이) | B20: 大 | C20: 구이용 | D20: 손 | E20: 1손2마리 700g | F20: 11000 | G20: 노르웨이 | H20: 大참고등어로 작업(내장제거,소금간) 자망조업됨(트롤아님)맛이우수함 | I20: haccp
A21: 참고등어순살 ※맛이 탁월함 | B21: (특)大 | C21: 조림,구이용 | D21: kg | E21: 30-40g , 40-50g 50-60g , 60-70g | F21: 13900 | G21: 국내산 (남해안) | H21: 녹차및키토산 요구대로가능 12월~3월 조업된 원료로참고등어로 작업 포 뜬 후 저염, 절단 마리당 400~600g★가슴살가시제거★ | I21: haccp
A22: 고등어순살 (일반제품) | B22: 중(순살) | C22: 조림,구이용 | D22: kg | E22: 30-40g , 40-50g 50-60g , 60-70g | F22: 12900 | G22: 국내산 (남해안) | H22: 계절에 상관없이 일반고등어로 작업(포 뜬 후 저염, 절단 마리당 300~500g) | I22: haccp
A23: 참고등어순살(PBO) (잔가시99%제거) | B23: (순살) | C23: 조림,구이용 | D23: kg | E23: 30-40g , 40-50g 50-60g , 60-70g | F23: 21480 | G23: 국내산 (남해안) | H23: 12월~3월 조업된 원료로 작업 포 뜬 후 저염★뼈,가시99%제거★ | I23: haccp
A24: 참간고등어 | B24: 大 | C24: 구이용 600~700g(원물) | D24: 손 | E24: 1손 2마리(700g이상) (토막 가능) | F24: 10500 | G24: 국내산 (남해안) | H24: 참고등어로 작업(내장제거,소금간) 주문시 하루 전 바로제조 | I24: haccp
A25: 참구이고등어 | B25: (특)大 | C25: 구이용(하프작업)뼈있음 | E25: 요구대로 g수에 맞게 절단 (2/1절단 손작업) | F25: 10900 | G25: 국내산 (남해안) | H25: 12월~3월 조업된 원료 참고등어로 작업(마리당 400-600g) 머리 꼬리 내장제거,소금간 주문시 하루 전 제조 | I25: haccp
A26: 구이고등어(일반) | B26: 300g~500g | C26: 구이용(하프작업)뼈있음 | D26: kg | E26: 요구대로 g수에 맞게 절단 (2/1절단 손작업) | F26: 9900 | G26: 국내산 (남해안) | H26: 계절에 상관없이 일반고등어로 작업 (포 뜬 후 저염, 절단 마리당 300~500g) | I26: haccp
A27: 참고등어 토막 | B27: (특)大 | C27: 조림용 | D27: kg | E27: 40-50g / kg 22-23 ※그램수 요구대로절단가능 | F27: 8900 | G27: 국내산 (남해안) | H27: 12월~3월 조업된 원료 참고등어로 작업 머리,꼬리 내장제거 | I27: haccp
A28: 고등어 토막(일반) | B28: 300g~500g | C28: 조림용 | D28: kg | E28: 40-50g / kg 22-23 ※그램수 요구대로절단가능 | F28: 7900 | G28: 국내산 (남해안) | H28: 계절에 상관없이 일반고등어로 작업 (포 뜬 후 저염, 절단 마리당 300~500g) | I28: haccp
A29: 꽁치토막 | B29: 대(大) | C29: 조림 | D29: kg | E29: 40-50g / kg 22-23 | F29: 21500 | G29: 원양산 | H29: 머리,꼬리 내장 제거후 절단 | I29: haccp
A30: 제주갈치 (냉동) | B30: 토막 (400~500g 작업) | C30: 구이용 조림용 튀김용 | D30: kg | E30: 그램수 요구대로절단가능 | F30: 39000 | G30: 국내산 제주도 | H30: 제주채낚기10~3월조업된제품 ※ 머리,꼬리,내장제거후 절단 | I30: haccp
A31: 갈치 토막 (냉동,냉장) | B31: 대(大)냉동 | C31: 구이용 조림용 튀김용 | D31: kg | E31: 그램수 요구대로절단가능 | F31: 35500 | G31: 국내산 남해안 (거문도.목포) | H31: 특大채낚기 갈치로 조업된 제품 머리,꼬리,지느러미 제거후 절단 | I31: haccp
B32: 대(大)냉장 | E32: 그램수 요구대로절단가능 | F32: 36500
A33: * 태강씨푸드 추천품목(6월) *
H34: T(062)234-2831~2 F(062)234-2833
A35: 품명 | B35: 규격 | C35: 용도 | D35: 단위 | E35: 개당중량(g)/개수 | F35: 가격 (원) | G35: 원산지 | H35: 제품특징 | I35: haccp
A36: 갈치(수입) 냉동,토막 | B36: 대(大) | C36: 구이,조림,튀김용 | E36: 그램수 요구대로절단가능 | F36: 27500 | G36: 중국산 | H36: 채낚기 ※은색에 윤기가 있고, 살이 부드럽고, 맛과 향이 우수함 제철에 조업된 채낚기 갈치 머리,꼬리,지느러미 제거후 절단
A37: 갈치(수입) 냉동,토막 | B37: 대(大) | C37: 구이,조림,튀김용 | E37: 40-50g/kg 20-22 | F37: 23500 | G37: 세네갈 말레이시아 | H37: 채낚기 ※은색에 윤기가 있고, 살이 부드럽고, 맛과 향이 우수함 제철에 조업된 채낚기 갈치 머리,꼬리,지느러미 제거후 절단
A38: 꽃게(절단) | B38: 3단 | C38: 찌개용, 무침용 튀김용 | D38: kg | E38: 35~40g /4절/24-26토막 | F38: 25900 | G38: 국내산 | H38: 뚜껑 다리끝 내장 제거후 절단 (살 수율 80%)※물렁게아님
E39: 40~50g // 4절 | F39: 25900
A40: 통꽃게 | B40: 2단 | C40: 찌개용 | D40: kg | E40: 마리당200~250g | F40: 17500 | G40: 국내산 | H40: 수캐(서해안)수율89%(11~5월사이) ※물렁게아님
A41: 꽃게(절단) | B41: 중 | C41: 찌개용,무침용, 튀김용 | D41: kg | E41: 30~40g | F41: 16900 | G41: 중국산 | H41: 3단꽃게(살 수율 80%)※물렁게아님 뚜껑 다리끝 내장 제거후 절단
B42: 중 | C42: 찌개용,무침용, 튀김용 | D42: kg | E42: 40~50g | F42: 16900 | H42: 3단꽃게(살 수율 80%)※물렁게아님 뚜껑 다리끝 내장 제거후 절단
A43: 동태 | B43: 토막 | C43: 국용,탕용 | D43: kg | E43: 머리,꼬리 지느러미 제거 후 절단 | F43: 7000 | G43: 러시아 (북해도)알태 | H43: 러시아 북해도 해역에서 조업한 동태로 가공하여 맛과 질이 우수함 | I43: haccp
A44: 황동태 | B44: 토막 | C44: 국용,탕용 | D44: kg | E44: 머리,꼬리 지느러미 제거 후 절단 | F44: 8500 | G44: 러시아 (베링해역) | H44: 러시아 베링해역에서 조업한 황동태로 가공하여 살이 찰지고 맛이 최고 좋음 | I44: haccp
A45: 동태포 | B45: 토막 | C45: 탕수육용,국용 | D45: kg | E45: 넓이 1.5cm 길이 3-4cm 깍뚝모양 | F45: 14500 | G45: 러시아 (국내제조) | H45: 주문시 하루 전 바로제조 | I45: haccp
C46: 슬라이스(전당일손포) | D46: kg | E46: 전용(20-25g) 생선까스용(40-50g) | F46: 15000 | G46: 러시아 (국내제조) | H46: 어슷 손 포 뜨기(하루 전 작업) ※ 물 먹이지 않음,약품처리하지 않음
C47: 슬라이스(전일기계포) | D47: kg | E47: 전용(20-25g) 생선까스용(40-50g) | F47: 14500 | G47: 러시아 (국내제조) | H47: 주문시 하루 전 바로제조
C48: 강정용 | D48: kg | E48: 갈아쓸 용도 및 g수대로 작업 | F48: 14000 | G48: 러시아 (국내제조) | H48: 주문시 하루 전 바로제조
A49: 네모동태살 | B49: 토막 | C49: 국용,강정용 2x2cm | D49: kg | E49: 정사각깍뚝모양 (120~125개) | F49: 15500 | G49: 러시아 (국내제조) | H49: 주문시 하루 전 바로제조 | I49: haccp
B50: 토막 | C50: 전용 | D50: kg | E50: 직사각형(40~80g) 15~18개 | F50: 15500 | G50: 러시아 (국내제조) | H50: 주문시 하루 전 바로제조
A51: 오징어채 (유피) | B51: 냉동 | C51: 볶음,덮밥,해물탕 튀김용,탕수육 | D51: kg | E51: 1*7cm 오징어세절 | F51: 26500 | G51: 국내산 남해안 | H51: 근육질이 살아있을때 가공하여 살이 탱글탱글함. 물에 부풀리지 않고 약품처리 하지 않음 맛이 탁월함 | I51: haccp
B52: 냉장 | D52: kg | F52: 27500
A53: 오징어채 (탈피) | B53: 냉동 | C53: 볶음,덮밥,해물탕 튀김용,탕수육 | D53: kg | E53: 1*7cm 오징어세절 껍질없음 | F53: 27500 | G53: 국내산 남해안 | H53: 근육질이 살아있을때 가공하여 살이 탱글탱글함. 물에 부풀리지 않고 약품처리 하지 않음 맛이 탁월함 | I53: haccp
B54: 냉장 | D54: kg | F54: 28500
A55: 오징어몸통채 (다리x) | B55: 냉동 | C55: 볶음용 국용 | D55: kg | E55: 1*7cm 오징어몸귀세절 | F55: 29500 | G55: 국내산 남해안 | H55: 근육질이 살아있을때 가공하여 살이 탱글탱글함. 물에 부풀리지 않고 약품처리 하지 않음 맛이 탁월함 | I55: haccp
B56: 냉장 | C56: 볶음용 국용 | D56: kg | E56: 1*7cm 오징어몸귀세절 | F56: 30500
A57: 오징어몸통 탈피채 (다리x껍질x) | B57: 냉동 | C57: 볶음용 국용 | D57: kg | E57: 1*7cm 오징어몸귀세절 껍질없음 | F57: 30500 | G57: 국내산 남해안 | H57: 근육질이 살아있을때 가공하여 살이 탱글탱글함. 물에 부풀리지 않고 약품처리 하지 않음 맛이 탁월함 | I57: haccp
B58: 냉장 | C58: 볶음용 국용 | D58: kg | E58: 1*7cm 오징어몸귀세절 껍질없음 | F58: 31500
A59: 손오징어채 | B59: 냉장 | C59: 볶음,덮밥,스파게티 튀김용,탕수육,전용 | D59: kg | E59: 1*7cm 오징어세절 | F59: 33500 | G59: 국내산 남해안 | H59: 근육질이 살아있을때 가공하여 살이 탱글탱글함. 물에 부풀리지 않고 약품처리 하지 않음 살이 도톰하고 큰것으로 오징어채로 하루 전 할복 손작업 | I59: haccp
A60: 오징어링 | B60: 냉동 | C60: 튀김, 볶음, 탕용 | D60: kg | E60: ±0.8 * 7 | F60: 33500 | G60: 국내산 남해안 | H60: 근육질이 살아있을때 가공하여 살이 탱글탱글함. 물에 부풀리지 않고 약품처리 하지 않음 탈피됨 | I60: haccp
B61: 냉장 | C61: 튀김, 볶음, 탕용 | D61: kg | E61: ±0.8 * 7 | F61: 34500 | G61: 국내산 남해안 | H61: 근육질이 살아있을때 가공하여 살이 탱글탱글함. 물에 부풀리지 않고 약품처리 하지 않음 탈피됨 | I61: haccp
A62: 오징어다짐 | B62: 냉동 | C62: 전용, 볶음용,덮밥용 | D62: kg | E62: 오징어세절 1*1/1*2 | F62: 27000 | G62: 국내산 남해안 | H62: 근육질이 살아있을때 가공하여 살이 탱글탱글함. 물에 부풀리지 않고 약품처리 하지 않음 | I62: haccp
B63: 냉장 | C63: 전용, 볶음용,덮밥용 | D63: kg | E63: 오징어세절 1*1/1*2 | F63: 28500 | G63: 국내산 남해안 | H63: 근육질이 살아있을때 가공하여 살이 탱글탱글함. 물에 부풀리지 않고 약품처리 하지 않음 | I63: haccp
A64: 오징어몸통 탈피칼집채 (솔방울) | B64: 냉동 | C64: 회무침,볶음용 | D64: kg | E64: 3*4cm 생칼집 | F64: 33500 | G64: 국내산 남해안 | H64: 근육질이 살아있을때 가공하여 살이 탱글탱글함. 물에 부풀리지 않고 약품처리 하지 않음 원료바로칼집탈피됨 (데쳐지지 않음) | I64: haccp
A65: 오징어솔방울 | B65: 냉동 | C65: 회무침,볶음용 | D65: kg | E65: ±3*4cm | F65: 32500 | G65: 국내산 남해안 | H65: 근육질이 살아있을때 가공하여 살이 탱글탱글함. 물에 부풀리지 않고 약품처리 하지 않음 탈피됨 | I65: haccp
A66: * 태강씨푸드 추천품목(6월) *
H67: T(062)234-2831~2 F(062)234-2833
A68: 품명 | B68: 규격 | C68: 용도 | D68: 단위 | E68: 개당중량(g)/개수 | F68: 가격 (원) | G68: 원산지 | H68: 제품특징 | I68: haccp
A69: 오징어활복 | B69: 냉동 | C69: 볶음용 국용 | D69: kg | E69: 몸,귀,다리 | F69: 29500 | G69: 국내산 남해안 | H69: 근육질이 살아있을때 가공하여 살이 탱글탱글함. 물에 부풀리지 않고 약품처리 하지 않음 | I69: haccp
B70: 냉장 | C70: 볶음용 국용 | D70: kg | E70: 몸,귀,다리 | F70: 30000
A71: 오징어활복 탈피 | B71: 냉동 | C71: 볶음용 국용 | D71: kg | E71: 몸,귀,다리 껍질없음 | F71: 30500 | G71: 국내산 남해안 | H71: 근육질이 살아있을때 가공하여 살이 탱글탱글함. 물에 부풀리지 않고 약품처리 하지 않음 몸,귀,다리포함 | I71: haccp
B72: 냉장 | C72: 볶음용 국용 | D72: kg | E72: 몸,귀,다리 껍질없음 | F72: 31000
A73: 오징어몸통활복 (다리x) | B73: 냉동 | C73: 볶음용 국용 | D73: kg | E73: 몸,귀 | F73: 31500 | G73: 국내산 남해안 | H73: 근육질이 살아있을때 가공하여 살이 탱글탱글함. 물에 부풀리지 않고 약품처리 하지 않음 몸귀포함 다리만제거 | I73: haccp
B74: 냉장 | C74: 볶음용 국용 | D74: kg | E74: 몸,귀 | F74: 32000
A75: 오징어몸통탈피활복(다리x껍질x) | B75: 냉동 | C75: 볶음용 국용 | D75: kg | E75: 몸,귀 | F75: 32000 | G75: 국내산 남해안 | H75: 근육질이 살아있을때 가공하여 살이 탱글탱글함. 물에 부풀리지 않고 약품처리 하지 않음 몸귀포함 다리만제거 | I75: haccp
B76: 냉장 | C76: 볶음용 국용 | D76: kg | E76: 몸,귀 | F76: 32500
A77: 오징어채 (유피) | B77: 냉동 | C77: 볶음,덮밥,해물탕 튀김용,탕수육 | D77: kg | E77: 1*7cm 오징어세절 | F77: 25500 | G77: 원양산 | H77: 근육질이 살아있을때 가공하여 살이 탱글탱글함. 물에 부풀리지 않고 약품처리 하지 않음 맛이 탁월함 | I77: haccp
B78: 냉장 | D78: kg | F78: 26500
A79: 오징어채 (탈피) | B79: 냉동 | C79: 볶음,덮밥,해물탕 튀김용,탕수육 | D79: kg | E79: 1*7cm 오징어세절 껍질없음 | F79: 26500 | G79: 원양산 | H79: 근육질이 살아있을때 가공하여 살이 탱글탱글함. 물에 부풀리지 않고 약품처리 하지 않음 맛이 탁월함 | I79: haccp
B80: 냉장 | D80: kg | F80: 27500
A81: 오징어몸통채 (다리x) | B81: 냉동 | C81: 볶음용 국용 | D81: kg | E81: 1*7cm 오징어몸귀세절 | F81: 28500 | G81: 원양산 | H81: 근육질이 살아있을때 가공하여 살이 탱글탱글함. 물에 부풀리지 않고 약품처리 하지 않음 맛이 탁월함 | I81: haccp
B82: 냉장 | C82: 볶음용 국용 | D82: kg | E82: 1*7cm 오징어몸귀세절 | F82: 29500
A83: 오징어몸통 탈피채 (다리x껍질x) | B83: 냉동 | C83: 볶음용 국용 | D83: kg | E83: 1*7cm 오징어몸귀세절 껍질없음 | F83: 29500 | G83: 원양산 | H83: 근육질이 살아있을때 가공하여 살이 탱글탱글함. 물에 부풀리지 않고 약품처리 하지 않음 맛이 탁월함 | I83: haccp
B84: 냉장 | C84: 볶음용 국용 | D84: kg | E84: 1*7cm 오징어몸귀세절 껍질없음 | F84: 30500
A85: 갑오징어활복 | B85: 냉장 | C85: 볶음,무침,탕용 | D85: kg | E85: 몸,귀,다리/국내산 내장 제거 손질(배있음) | F85: 27900 | G85: 여수,신안 | H85: 근육질이 살아있을때 가공 물에 부풀리지않음 주문시 하루전 가공 | I85: haccp
A86: 갑오징어채 | B86: 냉장 | C86: 볶음,무침,탕용 | D86: kg | E86: 국내산/내장 제거후,세절 | F86: 31700 | G86: 여수,신안 | H86: 근육질이 살아있을때 가공 물에 부풀리지않음 주문시 하루전 가공 | I86: haccp
B87: 냉동 | C87: 볶음,무침,탕용 | D87: kg | E87: 국내산/내장 제거후,세절 | F87: 31000 | G87: 여수,신안 | H87: 근육질이 살아있을때 가공 물에 부풀리지않음 주문시 가공
A88: 갑오징어탈피채 | B88: 냉장 | C88: 볶음,무침,탕용 | D88: kg | E88: 국내산/내장 껍질제거후,세절 | F88: 32700 | G88: 여수,신안 | H88: 근육질이 살아있을때 가공 물에 부풀리지않음 주문시 하루전 가공
B89: 냉동 | C89: 볶음,무침,탕용 | D89: kg | E89: 국내산/내장 껍질제거후,세절 | F89: 32000 | G89: 여수,신안 | H89: 근육질이 살아있을때 가공 물에 부풀리지않음 주문시 가공
A90: 낙지 | B90: 생물 | C90: 볶음용,탕용 | D90: kg | E90: 원물 | F90: 29000 | G90: 중국 (북방) | H90: 북방해역에서 조업한 물건으로 국내산과 비교시 맛과 제품의 질이 전혀 떨어지지않고 우수함 | I90: haccp
A91: 낙지채 | B91: 생물절단 | C91: 볶음용,탕용 | D91: kg | E91: 내장제거후 세절 | F91: 32500
A92: 낙지채 | B92: 냉동 | C92: 볶음용,찜용,탕용 | D92: kg | E92: 내장제거후 세절 | F92: 27000
A93: 낙지채 | B93: 생물 | C93: 볶음용,탕용,연포용 | D93: kg | E93: 내장제거후 세절 | F93: 48000 | G93: 국내산 (청정바다 연근해) | H93: 단가시세반영.(8월 금어기) ※활낙지로 가공 | I93: haccp
A94: 낙지 | B94: 생물 | C94: 볶음용,탕용,연포용 | D94: kg | E94: 원물 | F94: 44000
A95: 낙지채 | B95: 냉동 | C95: 볶음용,탕용 | D95: kg | E95: 내장제거후 세절 | F95: 44500 | H95: 남해안(직접냉동) 주문시 하루전 가공
A96: 낙지채 | B96: 냉장 | C96: 볶음용,탕용 | D96: kg | E96: 내장제거후 세절 | F96: 44900
A97: 낙지 | B97: 냉동 | C97: 볶음용,탕용 | D97: kg | E97: 원물 | F97: 38500
A98: 쭈꾸미채 | B98: 냉장 | C98: 볶음용 해물탕 | D98: kg | E98: 내장 제거후,세절 | F98: 21500 | G98: 중국(북방)/ 베트남(oneskin(활어로가공최고제품)) | H98: 주문시 하루전 가공 (비가식부 제거후 절단)
B99: 냉동 | E99: 내장 제거후,세절 | F99: 20500
A100: 쭈꾸미 | B100: 생물 | C100: 볶음용,해물탕 | D100: kg | E100: 원물 | F100: 45500 | G100: 국내산 | H100: 봄 계절음식
...

Sheet 5828_용봉_1
A1: 5828_용봉_대림씨푸드+6월+단가.xlsx
A2: https://school062.com/bbs/board.php?bo_table=product_02&wr_id=5828
A3: 전화번호 : 062) 266-4556 ,4559
A4: 팩스번호 : 062) 266-4511

Sheet 5828_용봉_2
A1: 5828_용봉_대림씨푸드+6월+단가.xlsx
A2: https://school062.com/bbs/board.php?bo_table=product_02&wr_id=5828
A3: ◈ 연체류
A4: 구분 | B4: 제 품 명 | C4: 원산지 | D4: 제 품 규 격 | E4: 단위 | F4: 냉동 | G4: 냉장 | H4: 변동 | I4: 제품사양 및 용도설명 | J4: 할인제외 | K4: HACCP
A5: 오 징 어 | B5: 오징어유피채 | C5: 국내산 (부산) | D5: ±1cm*±7cm,IQF | E5: kg | F5: 22650 | G5: 25650 | I5: 【사양】기본세절, 유피, 귀·다리포함 【용도】국, 볶음, 무침 | J5: 제외 | K5: H
B6: 오징어탈피채 | C6: 국내산 (부산) | D6: ±1cm*±7cm,IQF | E6: kg | F6: 23400 | G6: 26400 | I6: 【사양】탈피 후 세절, 귀·다리포함 【용도】국, 볶음, 무침 | J6: 제외 | K6: H
B7: 오징어몸통채 | C7: 국내산 (부산) | D7: ±1cm*±7cm,IQF | E7: kg | F7: 25650 | G7: 28650 | I7: 【사양】몸통만 세절, 유피, 귀포함 【용도】국, 볶음, 무침 | J7: 제외 | K7: H
B8: 오징어몸통탈피채 | C8: 국내산 (부산) | D8: ±1cm*±7cm,IQF | E8: kg | F8: 26550 | G8: 29550 | I8: 【사양】탈피 후 몸통만 세절, 귀포함 【용도】무침, 튀김 | J8: 제외 | K8: H
B9: 오징어몸통탈피채귀제거 | C9: 국내산 (부산) | D9: ±1cm*±7cm,IQF | E9: kg | F9: 27750 | G9: 30750 | I9: 【사양】탈피 후 몸통만 세절, 귀제거 【용도】무침, 튀김 | J9: 제외 | K9: H
B10: 오징어할복 | C10: 국내산 (부산) | D10: 할복 온마리 | E10: kg | F10: 24600 | G10: 27600 | I10: 【사양】할복 후 롤 형태,유피, 귀·다리포함 【용도】국, 볶음, 무침, 튀김 | J10: 제외 | K10: H
B11: 오징어탈피할복 | C11: 국내산 (부산) | D11: 탈피할복 온마리 | E11: kg | F11: 25500 | G11: 28500 | I11: 【사양】할복 후 탈피하여 롤 형태, 귀·다리포함 【용도】국, 볶음, 무침, 튀김 | J11: 제외 | K11: H
B12: 오징어몸통할복 | C12: 국내산 (부산) | D12: 몸통만 할복 | E12: kg | F12: 26100 | G12: 29100 | I12: 【사양】할복 후 몸통만 롤 형태, 귀포함 【용도】국, 볶음, 무침 | J12: 제외 | K12: H
B13: 오징어몸통탈피할복 | C13: 국내산 (부산) | D13: 탈피몸통만 할복 | E13: kg | F13: 27000 | G13: 30000 | I13: 【사양】할복 후 탈피한 몸통만 롤 ,귀포함 【용도】국, 볶음, 무침 | J13: 제외 | K13: H
B14: 오징어몸통탈피할복귀제거 | C14: 국내산 (부산) | D14: 탈피몸통만 할복 | E14: kg | F14: 27750 | G14: 30750 | I14: 【사양】할복 후 탈피한 몸통만 롤 ,귀제거 【용도】국, 볶음, 무침 | J14: 제외 | K14: H
B15: 오징어순대 | C15: 국내산 (부산) | D15: 원통형태 | E15: kg | I15: 【사양】할복하지 않은 원통형태, 유피, 귀·다리포함 【용도】순대 | J15: 제외 | K15: H
B16: 오징어다지기유피 | C16: 국내산 (부산) | D16: ±0.7cm*±0.7cm | E16: kg | F16: 25650 | G16: 28650 | I16: 【사양】귀, 몸, 다리 포함하여 다지기, 유피 【용도】전, 덮밥, 완자용 | J16: 제외 | K16: H
B17: 오징어다지기탈피 | C17: 국내산 (부산) | D17: ±0.7cm*±0.7cm | E17: kg | F17: 27000 | G17: 30000 | I17: 【사양】귀, 몸, 다리 포함하여 다지기, 탈피 【용도】전, 덮밥, 완자용 | J17: 제외 | K17: H
B18: ★신제품★ 오징어몸통다지기유피 | C18: 국내산 (부산) | D18: ±0.7cm*±0.7cm | E18: kg | F18: 28800 | G18: 31800 | I18: 【사양】귀, 몸통만 다지기, 유피(다리없음) 【용도】전, 덮밥, 완자용 | J18: 제외 | K18: H
B19: 오징어링유피 | C19: 국내산 (부산) | D19: 폭±1cm | E19: kg | F19: 27450 | G19: 30450 | I19: 【사양】몸통만 링 모양으로 절단, 유피 【용도】튀김 | J19: 제외 | K19: H
B20: 오징어링탈피 | C20: 국내산 (부산) | D20: 폭±1cm | E20: kg | F20: 28350 | G20: 31350 | I20: 【사양】탈피몸통만 링 모양으로 절단, 탈피 【용도】튀김 | J20: 제외 | K20: H
B21: 오징어바(탈피몸통) | C21: 국내산 (부산) | D21: ±2cm*±7cm,IQF | E21: kg | F21: 28350 | G21: 31350 | I21: 【사양】탈피몸통만 바 모양으로 절단, 탈피 【용도】튀김 | J21: 제외 | K21: H
B22: 오징어사각(탈피몸통) | C22: 국내산 (부산) | D22: ±2cm*±3cm,IQF | E22: kg | F22: 28350 | G22: 31350 | I22: 【사양】탈피몸통만 사각 모양으로 절단, 탈피 【용도】국, 볶음, 무침 | J22: 제외 | K22: H
B23: 오징어솔방울(탈피몸통) | C23: 국내산 (부산) | D23: ±3cm*±4cm,IQF | E23: kg | F23: 28650 | G23: 31650 | I23: 【사양】탈피몸통을 X칼집낸 후 절단, 탈피 【용도】국, 볶음, 무침 | J23: 제외 | K23: H
B24: 오징어솔방울채(탈피몸통) | C24: 국내산 (부산) | D24: ±1cm*±5cm,IQF | E24: kg | F24: 28650 | G24: 31650 | I24: 【사양】탈피몸통을 X칼집낸 후 세절, 탈피 【용도】국, 볶음, 무침 | J24: 제외 | K24: H
B25: 오징어선동채 | C25: 국내산 (부산) | D25: ±1cm*±7cm,IQF | E25: kg | F25: 24750 | G25: 27750 | I25: 【사양】선상동결오징어 채작업(최상의 선도) 【용도】국, 볶음, 무침 | J25: 제외 | K25: H
A26: 갑 오 징 어 | B26: 갑오징어유피채 | C26: 국내산 | D26: ±1cm*±5cm | E26: kg | I26: 【사양】기본세절, 유피, 귀·다리 포함 【용도】국, 볶음, 무침 | J26: 제외
B27: ★신제품★ 갑오징어채 | C27: 베트남 /국내가공 | D27: ±1cm*±5cm | E27: kg | G27: 25500 | I27: 【사양】기본세절, 유피, 귀·다리 포함 【용도】국, 볶음, 무침 | J27: 제외
B28: 갑오징어탈피채 | C28: 국내산 | D28: ±1cm*±5cm | E28: kg | I28: 【사양】탈피 후 세절, 귀제거, 다리 포함 【용도】국, 볶음, 무침 | J28: 제외
B29: ★신제품★ 갑오징어탈피채 | C29: 베트남 /국내가공 | D29: ±1cm*±5cm | E29: kg | F29: * | G29: 26250 | I29: 【사양】탈피 후 세절, 귀제거, 다리 포함 【용도】국, 볶음, 무침 | J29: 제외
B30: 갑오징어몸통채 | C30: 국내산 | D30: ±1cm*±5cm | E30: kg | I30: 【사양】몸통만 세절, 유피, 귀포함,다리제거 【용도】국, 볶음, 무침 | J30: 제외
B31: ★신제품★ 갑오징어몸통채 | C31: 베트남 /국내가공 | D31: ±1cm*±5cm | E31: kg | G31: 33750 | I31: 【사양】몸통만 세절, 유피, 귀포함,다리제거 【용도】국, 볶음, 무침 | J31: 제외
B32: 갑오징어몸통탈피채 | C32: 국내산 | D32: ±1cm*±5cm | E32: kg | I32: 【사양】탈피한 몸통만 세절,귀·다리 제거 【용도】국, 볶음, 무침 | J32: 제외
B33: 갑오징어몸통탈피채 | C33: 베트남 /국내가공 | D33: ±1cm*±5cm | E33: kg | F33: * | G33: 34500 | I33: 【사양】탈피한 몸통만 세절,귀·다리 제거 【용도】국, 볶음, 무침 | J33: 제외
B34: 갑오징어할복 | C34: 국내산 | D34: 할복 온마리 | E34: kg | I34: 【사양】할복 후 나래 편 형태, 귀·다리 포함 【용도】국, 볶음, 무침 | J34: 제외
B35: ★신제품★ 갑오징어할복 | C35: 베트남 /국내가공 | D35: 할복 온마리 | E35: kg | G35: 25500 | I35: 【사양】할복 후 나래 편 형태, 귀·다리 포함 【용도】국, 볶음, 무침 | J35: 제외
B36: 갑오징어탈피할복 | C36: 국내산 | D36: 탈피할복 온마리 | E36: kg | I36: 【사양】탈피할복 후 나래 편 형태, 귀 제거, 다리 포함 【용도】국, 볶음, 무침 | J36: 제외
B37: 갑오징어탈피할복 | C37: 베트남 /국내가공 | D37: 탈피할복 온마리 | E37: kg | F37: * | G37: 26250 | I37: 【사양】탈피할복 후 나래 편 형태, 귀 제거, 다리 포함 【용도】국, 볶음, 무침 | J37: 제외
B38: 갑오징어몸통할복 | C38: 국내산 | D38: 몸통만 할복 | E38: kg | I38: 【사양】몸통만 할복, 귀 포함, 다리 제거 【용도】국, 볶음, 무침 | J38: 제외
B39: ★신제품★ 갑오징어몸통할복 | C39: 베트남 /국내가공 | D39: 몸통만 할복 | E39: kg | G39: 33750 | I39: 【사양】몸통만 할복, 귀 포함, 다리 제거 【용도】국, 볶음, 무침 | J39: 제외
B40: 갑오징어몸통탈피할복 | C40: 국내산 | D40: 탈피몸통만 할복 | E40: kg | I40: 【사양】몸통을 탈피할복,귀·다리 제거 【용도】국, 볶음, 무침 | J40: 제외
B41: 갑오징어몸통탈피할복 | C41: 베트남 /국내가공 | D41: 탈피몸통만 할복 | E41: kg | F41: * | G41: 34500 | I41: 【사양】몸통을 탈피할복,귀·다리 제거 【용도】국, 볶음, 무침 | J41: 제외
B42: 갑오징어솔방울(몸통탈피) | C42: 국내산 | D42: ±3cm*±4cm | E42: kg | I42: 【사양】몸통을탈피 한 후 X 칼집낸 후 절단 【용도】국, 볶음, 무침 | J42: 제외
B43: 갑오징어솔방울 | C43: 베트남 /국내가공 | D43: ±3cm*±4cm | E43: kg | F43: * | G43: 39750 | I43: 【사양】몸통을탈피 한 후 X 칼집낸 후 절단 【용도】국, 볶음, 무침 | J43: 제외
B44: 갑오징어솔방울채(몸통탈피) | C44: 국내산 | D44: ±1cm*±5cm | E44: kg | I44: 【사양】몸통을탈피 한 후 X 칼집낸 후 세절 【용도】국, 볶음, 무침 | J44: 제외
B45: 갑오징어솔방울채 | C45: 베트남 /국내가공 | D45: ±1cm*±5cm | E45: kg | F45: * | G45: 39750 | I45: 【사양】몸통을탈피 한 후 X 칼집낸 후 세절 【용도】국, 볶음, 무침 | J45: 제외
B46: 베이비갑오징어 | C46: 중국산 | D46: 40~50미/kg | E46: kg | F46: 21750 | G46: * | I46: 【사양】비가식부위 제거한 온마리 【용도】국, 볶음, 무침 | J46: 제외
A47: 낙 지 | B47: 낙지채(국내산) | C47: 국내산 | D47: ±5cm | E47: kg | F47: 36000 | G47: 39000 | H47: ▲500 | I47: 【사양】비가식부위를 제거·세척한 후 세절 【용도】전골, 볶음 | J47: 제외 | K47: H
B48: 낙지채(중국) - 수입완제품 | C48: 중국산 | D48: ±5cm | E48: kg | F48: 18750 | G48: * | I48: 【사양】수입완제품으로 IQF 【용도】전골, 볶음, 숙회용 | J48: 제외
B49: 낙지채(베트남) - 수입완제품 | C49: 베트남 | D49: ±5cm | E49: kg | F49: 일시품절 | G49: * | I49: 【사양】수입완제품으로 IQF 【용도】전골, 볶음 | J49: 제외
B50: 낙지채(인도네시아) - 수입완제품 | C50: 인도네시아 | D50: ±5cm | E50: kg | F50: 18150 | G50: * | I50: 【사양】수입완제품으로 소분(블록포장) 【용도】전골, 볶음 | J50: 제외
A51: 쭈 꾸 미 | B51: 쭈꾸미채(국내산) | C51: 국내산 | D51: ±5cm | E51: kg | F51: 40500 | G51: 43500 | I51: 【사양】비가식부위 제거 후 세절 【용도】볶음, 전골 | J51: 제외 | K51: H
B52: 쭈꾸미채(인도네시아) - 국내가공 | C52: 인도네시아 | D52: ±5cm | E52: kg | F52: 20250 | G52: 23250 | H52: ▲500 | I52: 【사양】비가식부위를 제거, 세척한 후 세절 【용도】볶음,국,숙회 | J52: 제외 | K52: H
B53: 쭈꾸미채(베트남산)-수입완제품 | C53: 베트남 | D53: ±5cm | E53: kg | F53: 17700 | G53: * | I53: 【사양】완제품소분, IQF 【용도】볶음,국,숙회 | J53: 제외
B54: 쭈꾸미채(인도네시아) - 수입완제품 | C54: 인도네시아 | D54: ±5cm | E54: kg | F54: 17250 | G54: * | H54: ▲500 | I54: 【사양】수입완제품으로 소분(블럭포장) 【용도】볶음,국,숙회 | J54: 제외
B55: 베이비쭈꾸미 | C55: 베트남 | D55: 10±5g | E55: kg | F55: 21000 | G55: * | I55: 【사양】베이비쭈꾸미 온마리 【용도】볶음,국 | J55: 제외
A56: 문 어 | B56: 활문어 | C56: 국내산 | D56: 2~3미정도 | E56: kg | F56: * | G56: 48000 | I56: 【사양】생물문어, 온마리, 내장제거X 【용도】숙회, 무침
B57: 절단문어 | C57: 말레이 시아 | D57: ±3cm | E57: kg | F57: 36750 | G57: * | I57: 【사양】자숙문어 【용도】샐러드, 무침, 볶음
B58: 냉동자숙문어 | C58: 중국산 | D58: 약 800g~1.5kg/미 | E58: kg | F58: 일시품절 | G58: * | I58: 【사양】자숙문어 1마리씩 개별 비닐 포장
A59: 한 치 | B59: 한치몸통채 | C59: 국내산 | D59: ±0.7cm*±5cm | E59: kg | I59: 【사양】몸통만 세절, 유피 【용도】볶음,국용,무침 | J59: 제외 | K59: H
B60: 한치몸통탈피채 | C60: 국내산 | D60: ±0.7cm*±5cm | E60: kg | I60: 【사양】몸통 탈피 후 세절, 탈피 【용도】볶음,국용,무침 | J60: 제외 | K60: H
A61: ◈ 꽃게류
A62: 구분 | B62: 제 품 명 | C62: 원산지 | D62: 제 품 규 격 | E62: 단위 | F62: 냉동 | G62: 냉장 | H62: 변동 | I62: 제품사양 및 용도설명 | J62: 과세 | K62: HACCP
A63: 꽃 게 | B63: 꽃게절단S | C63: 중국산 | D63: 1팩당450g /±33조각 | E63: 팩 | F63: 4500 | G63: * | I63: 【사양】등껍질 제거후 1/2 절단, 수입완제품 【용도】탕용/튀김용
B64: 꽃게절단 4절 | C64: 국내산 (서해안) | D64: 1토막: 30/40g 1팩 약 25~28토막 | E64: 팩 | F64: 19500 | G64: * | I64: 【사양】끝발제거, 1/4 절단, 실중량 880g이상 【용도】탕용/찜용/튀김용 | J64: 할인제외 | K64: H
B65: 꽃게절단 2절 | C65: 국내산 (서해안) | D65: 1토막: 50/60g 1팩 약 16~20토막 | E65: 팩 | F65: 19200 | G65: * | I65: 【사양】끝발제거, 1/2 절단, 실중량 880g이상 【용도】탕용/찜용/튀김용 | J65: 할인제외 | K65: H
B66: 꽃게 온마리 | C66: 국내산 (서해안) | D66: 마리당 160~180g | E66: kg | F66: 20250 | G66: * | I66: 【사양】등껍질과 발끝제거 안되어있음 【용도】탕용/찜용/튀김용
B67: 꽃게 온마리 | C67: 파키스탄 | D67: 마리당 100~150g | E67: kg | F67: 12600 | G67: * | I67: 【사양】전체길이 20cm내외, 삼점게 온마리 【용도】탕용/찜용/튀김용
B68: 베이비크랩 | C68: 베트남 | E68: kg | F68: 일시품절 | G68: * | I68: 【사양】빵게, 미니게 1kg 블럭동결 【용도】튀김용
A69: 대 게 | B69: 게다리살(3단) | C69: 국내산 | D69: 700g/팩 | E69: 팩 | F69: 69450 | G69: * | I69: 【사양】붉은대게살 500g, 정제수 200g 게다리모양 그대로의 상품급 | J69: ★
B70: 게다리살(3단/파지) | C70: 국내산 | D70: 700g/팩 | E70: 팩 | F70: 43650 | G70: * | I70: 【사양】게다리살과 파지 몸통살 혼합제품 | J70: ★
B71: 게다리살(파지) | C71: 국내산 | D71: 700g/팩 | E71: 팩 | F71: 35250 | G71: * | I71: 【사양】붉은대게살, 정제수, 정제소금 등 【용도】죽, 샐러드용 | J71: ★
A72: ◈ 새우류
A73: 구분 | B73: 제 품 명 | C73: 원산지 | D73: 제 품 규 격 | E73: 단위 | F73: 냉동 | G73: 냉장 | H73: 변동 | I73: 제품사양 및 용도설명 | J73: 과세 | K73: HACCP
A74: 새 우 살 | B74: 홍새우살 | C74: 국내산 | D74: 200-300미 내외 | E74: kg | F74: 50100 | G74: 51750 | H74: ▲5000 | I74: 【사양】200-300미 내외, 홍새우 두절, 꼬리, 껍질제거/ 냉동은 500g,1kg 블럭동결
C75: 중국산 | D75: 100-200 사이즈 | E75: kg | F75: 23250 | G75: 26250 | I75: 【사양】100-200사이즈, 홍새우 두절, 꼬리,껍질제거, IQF
B76: 생새우살 | C76: 국내산 | D76: 200미 내외 | E76: kg | F76: 36600 | G76: 36600 | I76: 【사양】200미 내외, 흰다리새우 두절, 껍질, 꼬리 제거/ 냉동은 500g,1kg 블럭동결 ※1kg이상부터 발주 가능(1kg 이하 소포장 발주)
B77: 백새우살 | C77: 국내산 | D77: 200미 내외 | E77: kg | F77: 36600 | G77: 36600 | I77: 【사양】흰다리새우 탈각, 냉동은 500g, 1kg 블록 【용도】국용/찜용/볶음밥용 외 ※1kg이상부터 발주 가능(1kg 이하 소포장 발주)
B78: 백새우살 | C78: 중국 /베트남 외 | D78: 90-110 사이즈 | E78: kg | F78: 23250 | G78: 28500 | I78: 【사양】흰다리새우 탈각, 냉동 IQF 개별동결 【용도】국용/찜용/볶음밥용 외
B79: 왕백새우살 | C79: 베트남 | D79: 31/50사이즈 | E79: kg | F79: 27750 | G79: * | I79: 【사양】흰대리새우 껍질 제거 후 세척, IQF
B80: 칵테일새우(수입)-자숙 | C80: 베트남 | D80: 100미/3150 | E80: kg | F80: 31500 | G80: * | I80: 【사양】자숙된 흰다리새우탈각,꼬리있음, IQF ※사양변경 70미 -> 100미 | J80: ★
C81: 베트남 | D81: 180미/7190 | E81: kg | F81: 30000 | G81: * | I81: 【사양】자숙된 흰다리새우탈각,꼬리있음, IQF ※사양변경 140미 -> 180미 | J81: ★
B82: 생칵테일새우 | C82: 베트남 | D82: ±50미/IQF | E82: kg | F82: 27600 | G82: * | I82: 【사양】생새우, 두절, 껍질제거, 꼬리있음, 마리당 20g내외
C83: 베트남 | D83: ±60미/IQF | E83: kg | F83: 26550 | G83: * | I83: 【사양】생새우, 두절, 껍질제거, 꼬리있음, 마리당 18g내외
C84: 베트남 | D84: ±70미/IQF | E84: kg | F84: 24450 | G84: * | I84: 【사양】생새우, 두절, 껍질제거, 꼬리있음, 마리당 15g내외
B85: 노바시새우 | C85: 베트남 | D85: 1팩 300g/ 30미 | E85: 팩 | F85: 10950 | G85: * | I85: 【사양】C자로 말리지않은 일자 새우, 두절, 껍질제거, 꼬리있음, 약 11cm
A86: 흰 다 리 새 우 | B86: 대하(생물) | C86: 국내산 | D86: 25~30미/kg | E86: kg | F86: * | G86: 일시품절 | I86: 【사양】당일 오전 생물로 포장, 9~10월 제철
B87: 껍질새우/ 대하 | C87: 국내산 | D87: 20-30미 | E87: kg | I87: 【사양】국산, 대하
B88: 껍질새우/ 중하 | C88: 국내산 | D88: 50~60미 | E88: kg | I88: 【사양】13-15cm, 양식산, 흰다리새우
B89: 흰다리새우(20미) | C89: 말레이 시아 | D89: 20미/500g(팩) | E89: 팩 | F89: 16500 | G89: * | I89: 【사양】껍질이 얇고 부드러움, 약 15~16cm【용도】찜, 탕
B90: 흰다리새우(30미) | C90: 말레이 시아 | D90: 30미/500g(팩) | E90: 팩 | F90: 14550 | G90: * | I90: 【사양】껍질이 얇고 부드러움, 약 13~14cm【용도】찜, 탕
B91: 흰다리새우(40미) | C91: 말레이 시아 | D91: 40미/500g(팩) | E91: 팩 | F91: 13800 | G91: * | I91: 【사양】껍질이 얇고 부드러움, 약 12~13cm【용도】찜, 탕
B92: 흰다리새우(50미) | C92: 말레이 시아 | D92: 50미/500g(팩) | E92: 팩 | F92: 13350 | G92: * | I92: 【사양】껍질이 얇고 부드러움, 약 11~12cm【용도】찜, 탕
A93: 블 랙 타 이 거 새 우 | B93: 블랙타이거새우(6미) | C93: 말레이 시아 | D93: 6미/500g(팩) | E93: 팩 | F93: 일시품절 | G93: * | I93: 【사양】IQF 개별동결, 홍다리얼룩새우, 길이 약 22cm
B94: 블랙타이거새우(8미) | C94: 말레이 시아 | D94: 8미/500g(팩) | E94: 팩 | F94: 25050 | G94: * | I94: 【사양】IQF 개별동결, 홍다리얼룩새우, 길이 약 20cm 사양변경: 7미 -> 8미
B95: 블랙타이거새우(10미) | C95: 말레이 시아 | D95: 10미/500g(팩) | E95: 팩 | F95: 23550 | G95: * | I95: 【사양】IQF 개별동결, 홍다리얼룩새우, 길이 약 17~18cm
B96: 블랙타이거새우(12미) | C96: 말레이 시아 | D96: 12미/500g(팩) | E96: 팩 | F96: 21750 | G96: * | I96: 【사양】IQF 개별동결, 홍다리얼룩새우, 길이 약 17cm
A97: 랍 스 터 | B97: 미니 바다가재 | C97: 수입산 | D97: 400-500g | E97: 마리 | F97: * | G97: 문의 | I97: 1마리 약400~500g정도, 랍스터 온마리
B98: 랍스터테일 | C98: 수입산 | D98: 110-130g/마리 | E98: 마리 | F98: * | G98: 문의 | I98: 1마리 약110~130g정도, 랍스터 꼬리부분만 있음
A99: 기 타 새 우 류 | B99: 찐새우(60미) | C99: 베트남 | D99: 60미 | E99: kg | F99: 25500 | G99: * | I99: 【사양】IQF 개별동결,자숙, 길이 약 14~15cm
B100: 찐새우(120~150미) | C100: 캐나다 | D100: 120~150미 | E100: kg | F100: 18600 | G100: * | I100: 【사양】IQF 개별동결,자숙, U자형으로 말려있음, 길이 약 10cm
...

Sheet 5828_용봉_3
A1: 5828_용봉_대림씨푸드+6월+단가.xlsx
A2: https://school062.com/bbs/board.php?bo_table=product_02&wr_id=5828
A3: ◈ 어류 제품
A4: 구분 | B4: 제 품 명 | C4: 원산지 | D4: 제 품 규 격 | E4: 단위 | F4: 냉동 | G4: 냉장 | H4: 변동 | I4: 제품사양 및 용도설명 | J4: 할인제외 | K4: HACCP
A5: 가 자 미 | B5: 가자미토막 | C5: 러시아/ 미국산 | D5: ±40g~±80g | E5: kg | F5: 7950 | G5: 9750 | I5: ※ 전처리부터 국내가공, 생산 제품 【사양】두절, 내장, 지느러미, 꼬리 제거 【용도】조림, 구이 | K5: H
C6: 국내산 | D6: ±40g~±80g | E6: kg | F6: 12000 | G6: 13800
B7: 가자미반건 | C7: 국내산 | D7: ±40g~±80g | E7: kg | F7: 13200 | G7: * | I7: 【사양】20~30% 반건(저염) 【용도】조림, 구이
B8: 가자미순살(유피) | C8: 러시아/ 미국산 | D8: ±40g~±100g | E8: kg | F8: 13200 | G8: * | H8: ▲300 | I8: 【사양】껍질있는 포를 전용으로 절단 【용도】튀김, 구이, 전
B9: 가자미순살(탈피) | C9: 러시아/ 미국산 | D9: ±40g~±100g | E9: kg | F9: 14250 | G9: * | H9: ▲500 | I9: 【사양】껍질 없는 포를 전용으로 절단 【용도】튀김, 구이, 전
B10: 가자미순살강정(유피) | C10: 러시아/ 미국산 | D10: 10/15g | E10: kg | F10: 13200 | G10: * | H10: ▲300 | I10: 【사양】껍질 있는 포를 3 * 3 깍뚝썰기 【용도】강정 ※사양 크기변경
B11: 가자미순살강정(탈피) | C11: 러시아/ 미국산 | D11: 10/15g | E11: kg | F11: 14250 | G11: * | H11: ▲500 | I11: 【사양】껍질 없는 포를 3 * 3 깍뚝썰기 【용도】강정 ※사양 크기변경
A12: 갈 치 | B12: 갈치토막(대) | C12: 모로코/ 남아공 | D12: ±40g~±100g | E12: kg | F12: 10650 | G12: 12450 | I12: 【사양】두절, 내장, 지느러미, 꼬리제거 【용도】조림, 구이 | K12: H
B13: 갈치토막(중) | C13: 모로코/ 남아공 | D13: ±30g~±50g | E13: kg | F13: 10200 | G13: 12000 | I13: 【사양】두절, 내장, 지느러미, 꼬리제거 【용도】조림, 구이 | K13: H
B14: 갈치토막(특대) | C14: 국내산 (부산) | D14: ±30g~±70g | E14: kg | I14: 【사양】두절, 내장, 지느러미, 꼬리제거 【용도】조림, 구이
B15: 갈치토막(대) | C15: 국내산 (부산) | D15: ±30g~±60g | E15: kg | F15: 23250 | G15: 25050 | I15: 【사양】두절, 내장, 지느러미, 꼬리제거 【용도】조림, 구이(제품명변경 중->대) | K15: H
B16: 갈치토막(중) | C16: 국내산 (부산) | D16: ±30g~±50g | E16: kg | F16: 15000 | G16: 16800 | I16: 【사양】두절, 내장, 지느러미, 꼬리제거 【용도】조림, 구이(제품명변경 소->중) | K16: H
B17: 갈치몸통만 절단 토막(소) | C17: 국내산 (부산) | D17: ±30g~±50g | E17: kg | I17: 【사양】비가식 부위 제거 후 몸통만 절단 【용도】조림, 구이 | K17: H
B18: 갈치채낚기 | C18: 국내산 (제주) | D18: ±30g~±60g | E18: kg | F18: 28500 | G18: 30300 | I18: 【사양】두절, 내장, 지느러미, 꼬리제거 【용도】조림, 구이 | K18: H
B19: 갈치포 | C19: 수입산 | D19: ±30g~±60g | E19: kg | F19: 19500 | G19: * | I19: 【사양】비가식부위 제거 및 포 작업 후 저염 【용도】튀김, 구이 | K19: H
C20: 국내산 (부산) | D20: ±20g~±40g | E20: kg | F20: 16200 | G20: * | I20: 【사양】비가식부위 제거 및 포 작업 후 저염 【용도】튀김, 구이 | K20: H
A21: 고 등 어 | B21: 고등어토막 | C21: 국내산 (부산) | D21: ±30g~±60g | E21: kg | F21: 5700 | G21: 7500 | I21: 【사양】두절, 내장, 지느러미, 꼬리제거 【용도】조림 | K21: H
B22: 고등어토막(대) | C22: 국내산 (부산) | D22: ±30g~±80g | E22: kg | F22: 6750 | G22: 8550 | I22: 【사양】두절, 내장, 지느러미, 꼬리제거 【용도】조림 | K22: H
B23: 고등어구이 | C23: 국내산 (부산) | D23: ±30g~±60g | E23: kg | F23: 6300 | G23: 8100 | I23: 【사양】뼈 있는 포 규격 절단 【용도】구이 | K23: H
B24: 고등어구이(염) | C24: 국내산 (부산) | D24: ±30g~±60g | E24: kg | F24: 7200 | G24: 9000 | I24: 【사양】뼈 있는 포를 염 처리한 뒤 규격 절단 【용도】구이 | K24: H
B25: 고등어구이(대) | C25: 국내산 (부산) | D25: ±30g~±80g | E25: kg | F25: 7500 | G25: 9300 | I25: 【사양】뼈 있는 포 규격 절단 【용도】구이 | K25: H
B26: 고등어구이(대/염) | C26: 국내산 (부산) | D26: ±30g~±80g | E26: kg | F26: 8250 | G26: 10050 | I26: 【사양】뼈 있는 포 규격 절단 【용도】구이 | K26: H
B27: 고등어순살(저염) | C27: 국내산 (부산) | D27: ±30g~±50g | E27: kg | F27: 9900 | G27: 11700 | I27: 【사양】비가식부위 제거 및 포 작업 후 저염 【용도】튀김, 구이 | K27: H
B28: 고등어순살(저염) | C28: 국내산 (부산) | D28: ±51g~±60g | E28: kg | F28: 10200 | G28: 12000 | I28: 【사양】비가식부위 제거 및 포 작업 후 저염 【용도】튀김, 구이 | K28: H
B29: 고등어순살(대/저염) | C29: 국내산 (부산) | D29: ±30g~±80g | E29: kg | F29: 12450 | G29: 14250 | I29: 【사양】비가식부위 제거 및 포 작업 후 저염 【용도】튀김,구이 | K29: H
B30: ★신제품★ 한번얼린 고등어순살 | C30: 국내산 (부산) | D30: ±30g~±80g | E30: kg | F30: 11700 | G30: 13500 | I30: 【사양】생물 작업한 고등어포(저염) 【용도】튀김,구이 | K30: H
A31: 참 대 구 | B31: 참대구토막 | C31: 국내산 | D31: ±40g~±100g | E31: kg | F31: 9600 | G31: 11400 | I31: 【사양】두절, 내장, 지느러미, 꼬리제거 【용도】탕 | K31: H
C32: 미국 | D32: ±40g~±100g | E32: kg | K32: H
B33: 참대구순살(슬라이스) | C33: 국내산 | D33: ±30g~±60g | E33: kg | F33: 23250 | G33: * | I33: 【사양】껍질있는 포를 전용(슬라이스) 작업 【용도】전
B34: 참대구순살(슬라이스) | C34: 미국/ 러시아 | D34: ±30g~±60g | E34: kg | F34: 22500 | G34: * | I34: 【사양】껍질없는 포를 전용(슬라이스) 작업 【용도】전
B35: 참대구순살강정 | C35: 미국/ 러시아 | D35: 10/15g | E35: kg | F35: 22500 | G35: * | I35: 【사양】껍질없는 포를 3 * 3 깍뚝썰기 【용도】강정 ※사양 크기변경
B36: 대구알 | C36: 미국/ 러시아 | D36: IQF | E36: kg | F36: 11850 | G36: * | I36: 【사양】대구알 블럭화 된 제품 깍뚝썰기 【용도】탕
B37: 대구곤 | C37: 미국/ 러시아 | D37: IQF | E37: kg | F37: 12000 | G37: * | I37: 【사양】대구정낭 블럭화 된 제품 깍뚝썰기 【용도】탕
A38: 민 대 구 | B38: 민대구토막 | C38: 원양산 (대서양) | D38: ±40g~±100g | E38: kg | F38: 8400 | G38: 10200 | I38: 【사양】두절, 내장, 지느러미, 꼬리제거 【용도】탕 | K38: H
B39: ★신제품★민대구순살(유피) | C39: 원양산 (대서양) | D39: ±40g~±100g | E39: kg | F39: 14250 | G39: * | I39: 【사양】껍질 있는 포 절단 【용도】튀김, 구이, 조림
A40: 명 태 | B40: 명태토막 | C40: 러시아 /미국 | D40: ±30g~±100g | E40: kg | F40: 6300 | G40: 8100 | I40: 【사양】두절, 내장, 지느러미, 꼬리제거 【용도】탕 | K40: H
B41: 명태포슬라이스(수입완제품) | C41: 러시아 | D41: 30~40g | E41: kg | F41: 10200 | G41: * | I41: 【사양】껍질없는 포를 전용 작업된 완제품 【용도】전, 튀김
B42: 명태포슬라이스(국내가공) | C42: 러시아 | D42: ±30g~±60g | E42: kg | F42: 11400 | G42: * | I42: 【사양】껍질없는 포를 전용(슬라이스) 작업 【용도】전, 튀김
B43: 명태포탕수 | C43: 러시아 | E43: kg | F43: 12000 | G43: * | I43: 【사양】껍질없는 포를 1*5 스틱으로 절단 【용도】탕수
B44: 선동 명태포네모 | C44: 러시아 | D44: 20g/40g | E44: kg | F44: 11250 | G44: * | I44: 【사양】선상 압축 동결(최상의 선도 유지) 【용도】전
B45: 선동 명태포강정 | C45: 러시아 | D45: 10/15g | E45: kg | F45: 11250 | G45: * | I45: 【사양】선상 압축 동결(최상의 선도 유지) 【용도】국, 강정 ※사양 크기변경
B46: 명태곤 | C46: 러시아 /미국 | D46: IQF | E46: kg | F46: 13800 | G46: * | I46: 【사양】명태정낭 블럭화 된 제품 깍뚝썰기 【용도】탕
B47: 명태알 | C47: 러시아 /미국 | D47: IQF | E47: kg | F47: 13500 | G47: * | I47: 【사양】명태알 블럭화 된 제품 깍뚝썰기 【용도】탕
A48: 코 다 리 | B48: 코다리토막 | C48: 러시아 | D48: ±30g~±100g | E48: kg | F48: 6450 | G48: * | I48: 【사양】코다리 절단 【용도】조림
B49: 코다리순살 | C49: 러시아 | D49: ±40g~±100g | E49: kg | F49: 10650 | G49: * | I49: 【사양】껍질 있는 포 절단 【용도】튀김, 구이, 조림
B50: 코다리순살탕수 | C50: 러시아 | E50: kg | F50: 11100 | G50: * | I50: 【사양】코다리순살포를 1*5스틱 절단 【용도】탕수
B51: 코다리순살강정 | C51: 러시아 | D51: 10/15g | E51: kg | F51: 10800 | G51: * | I51: 【사양】코다리순살포를 3*3 깍뚝썰기 【용도】강정 ※사양 크기변경
A52: 방 어 | B52: 방어순살 | C52: 국내산 (부산) | D52: ±40g~±80g | E52: kg | F52: 10500 | G52: * | I52: 【사양】껍질있는 포를 구이용으로 절단작업 【용도】구이 | K52: H
B53: 방어순살강정 | C53: 국내산 (부산) | D53: 10/15g | E53: kg | F53: 10950 | G53: * | I53: 【사양】껍질있는 포를 3 * 3 깍뚝썰기 【용도】강정 ※사양 크기변경 | K53: H
A54: 삼 치 | B54: 삼치토막 | C54: 국내산 (부산) | D54: ±40g~±100g | E54: kg | F54: 8250 | G54: 10050 | I54: 【사양】두절, 내장, 지느러미, 꼬리제거 【용도】조림 | K54: H
B55: 삼치토막(대) | C55: 국내산 (부산) | D55: ±40g~±100g | E55: kg | F55: 12000 | G55: 13800 | I55: 【사양】두절, 내장, 지느러미, 꼬리제거 【용도】조림 | K55: H
B56: 삼치구이 | C56: 국내산 (부산) | D56: ±40g~±100g | E56: kg | F56: 9000 | G56: 10800 | I56: 【사양】뼈있는 포 제품 【용도】구이 | K56: H
B57: 삼치구이(대) | C57: 국내산 (부산) | D57: ±40g~±100g | E57: kg | F57: 12600 | G57: 14400 | I57: 【사양】뼈있는 포 제품 【용도】구이 | K57: H
B58: 삼치순살(저염) | C58: 국내산 (부산) | D58: ±30g~±50g | E58: kg | F58: 15450 | G58: 17250 | I58: 【사양】비가식부위 제거 및 포 작업 후 저염 【용도】튀김, 구이 | K58: H
C59: 국내산 (부산) | D59: ±51g~±80g | E59: kg | F59: 15450 | G59: 17250 | I59: 【사양】비가식부위 제거 및 포 작업 후 저염 【용도】튀김, 구이 | K59: H
B60: 삼치순살(대/저염) | C60: 국내산 (부산) | D60: ±30g~±100g | E60: kg | F60: 15750 | G60: 17550 | I60: 【사양】비가식부위 제거 및 포 작업 후 저염 【용도】튀김, 구이 | K60: H
B61: ★신제품★ 한번얼린 삼치순살 | C61: 국내산 (부산) | D61: ±30g~±80g | E61: kg | F61: 16950 | G61: 18750 | I61: 【사양】생물 작업한 삼치포(저염) 【용도】튀김,구이
B62: 삼치순살강정 | C62: 국내산 (부산) | D62: 10/15g | E62: kg | F62: 16200 | G62: * | I62: 【사양】껍질있는 포를 3 * 3 깍뚝썰기 【용도】튀김, 구이 ※사양 크기변경 | K62: H
A63: 가시 없는 순살류(PBO) | B63: 가시없는 가자미순살(유피) | C63: 러시아/ 미국산 | D63: ±40g~±100g | E63: kg | F63: 15600 | G63: * | I63: 【사양】껍질 있는 포를 전용으로 절단 【용도】튀김, 구이, 전 * 가시 99.9% 제거
B64: 가시없는 고등어순살(대/저염) | C64: 국내산 (부산) | D64: ±30g~±80g | E64: kg | F64: 16950 | G64: * | I64: 【사양】비가식부위 제거 및 포 작업 후 저염 【용도】튀김,구이 * 가시 99.9% 제거 | K64: H
B65: 가시없는 명태포슬라이스(탈피) | C65: 러시아 | D65: ±30g~±60g | E65: kg | F65: 15000 | G65: * | I65: 【사양】가시를 99% 제거한 포를 슬라이스절단 【용도】전, 튀김
B66: 가시없는 방어순살 | C66: 국내산 (부산) | D66: ±40g~±80g | E66: kg | F66: 15000 | G66: * | I66: 【사양】껍질있는 포를 구이용으로 절단작업 【용도】구이 * 가시 99.9% 제거 | K66: H
B67: 가시없는 삼치순살(저염) | C67: 국내산 (부산) | D67: ±30g~±80g | E67: kg | F67: 18300 | G67: * | I67: 【사양】비가식부위 제거 및 포 작업 후 저염 【용도】튀김,구이 * 가시 99.9% 제거 | K67: H
B68: 가시없는 임연수순살(저염) | C68: 미국산/ 러시아 | D68: ±40g~±100g | E68: kg | F68: 19500 | G68: * | I68: 【사양】비가식부위 제거 및 포 작업 후 저염 【용도】튀김, 구이 * 가시 99.9% 제거 | K68: H
B69: ★신제품★ 가시없는 붕장어순살 | C69: 국내산 (통영) | D69: ±10g~±40g | E69: kg | F69: 29250 | G69: * | I69: 【사양】비가식부위 제거 및 포작업 후 절단 【용도】튀김, 구이, 조림 *가시 90% 제거
A70: 병 어 | B70: 병어온마리/토막 | C70: 국내산 (부산) | D70: ±40g~±50g | E70: kg | I70: 【사양】두절, 내장, 지느러미, 꼬리제거 【용도】조림, 구이 | K70: H
B71: 병어온마리/토막 | C71: 국내산 (부산) | D71: ±60g~±70g | E71: kg | I71: 【사양】두절, 내장, 지느러미, 꼬리제거 【용도】조림, 구이 | K71: H
B72: 병어온마리/토막 | C72: 국내산 (부산) | D72: ±80g~±90g | E72: kg | I72: 【사양】두절, 내장, 지느러미, 꼬리제거 【용도】조림, 구이 | K72: H
A73: 활 우 럭 | B73: 활우럭두포함 | C73: 국내산 | D73: ±40g~±50g | F73: * | G73: 46500 | I73: 【사양】비가식부위 제거 후 절단 【용도】탕
B74: 활우럭두제거 | C74: 국내산 | D74: ±40g~±50g | F74: * | G74: 57750 | I74: 【사양】비가식부위 제거 후 절단 【용도】탕
A75: 활도다리 | B75: 활도다리두포함 | C75: 국내산 | D75: 규격절단 | F75: * | G75: 전화문의 | I75: 【사양】비가식부위 제거 후 절단 【용도】탕 | J75: 제외
A76: 활 바 다 장 어 | B76: 활바다장어두포함(국용) | C76: 국내산 | D76: 온마리 | F76: * | G76: 34500 | I76: 【사양】내장제거만 됨(머리,뼈O) 15미내외 【용도】탕 | J76: 제외
B77: 활바다장어두제거(구이용) | C77: 국내산 | D77: 온마리 | F77: * | G77: 55500 | H77: ▲3000 | I77: 【사양】내장, 머리, 뼈 제거 온마리 【용도】구이 | J77: 제외
B78: 활바다장어두제거(구이용) | C78: 국내산 | D78: ±20g | F78: * | G78: 58500 | H78: ▲3000 | I78: 【사양】내장, 머리, 뼈 제거 후 규격절단 【용도】구이 | J78: 제외
A79: 붕장어 | B79: 붕장어순살 | C79: 국내산 | D79: ±10g~±40g | F79: 19500 | G79: 21300 | I79: 【사양】비가식부위 제거 및 포작업 후 절단 【용도】튀김, 구이, 조림
A80: 장어 | B80: 장어순살 | C80: 중국산 | D80: 5~7cm | G80: 0 | I80: 【사양】비가식부위 제거 및 포작업 후 절단 【용도】튀김, 구이, 조림
A81: 아 귀 | B81: 아귀토막 | C81: 국내산 (부산) | D81: ±40g~±100g | E81: kg | F81: 6900 | G81: 8700 | I81: 【사양】비가식부위 제거 후 절단 【용도】탕, 찜 | K81: H
B82: 한번도 얼리지않은 생아귀 | C82: 국내산 (부산) | D82: 규격문의 | F82: * | G82: 시세적용(전화문의) | I82: 【사양】비가식부위 제거 후 절단 【용도】탕, 찜
B83: 아귀몸통탈피(아귀봉) | C83: 국내산 (부산) | D83: ±30g~±50g | F83: 15750 | G83: * | I83: 【사양】몸통부분만 탈피 후 절단 【용도】탕, 찜 | K83: H
B84: 아귀순살 | C84: 국내산 (부산) | D84: 20g~40g | E84: kg | F84: 21750 | G84: * | I84: 【사양】순살 절단 【용도】탕, 찜 | K84: H
C85: 중국산 | D85: 20g~40g | E85: kg | F85: 일시품절 | G85: * | I85: 【사양】순살 절단 【용도】탕, 찜 | K85: H
B86: 아귀순살강정 | C86: 국내산 (부산) | D86: 10/15g | E86: kg | F86: 21750 | G86: * | I86: 【사양】아귀순살 3 * 3 깍뚝썰기 【용도】탕, 찜, 강정 ※사양 크기 변경 | K86: H
A87: 임 연 수 | B87: 임연수토막 | C87: 미국산/ 러시아 | D87: ±40g~±100g | E87: kg | F87: 11250 | G87: 13050 | I87: 【사양】두절, 내장, 지느러미, 꼬리제거 【용도】조림 | K87: H
B88: 임연수구이 | C88: 미국산/ 러시아 | D88: ±40g~±100g | E88: kg | F88: 12000 | G88: 13800 | I88: 【사양】뼈 있는 포 제품 【용도】구이 | K88: H
B89: 임연수순살(저염) | C89: 미국산/ 러시아 | D89: ±40g~±100g | E89: kg | F89: 15750 | G89: 17550 | I89: 【사양】비가식부위 제거 및 포 작업 후 저염 【용도】튀김, 구이 | K89: H
A90: 연 어 | B90: 연어포-슬라이스 | C90: 러시아/ 미국산/ 캐나다 | D90: ±40g~±80g | E90: kg | I90: 【사양】껍질있는 포를 전용으로 절단 【용도】튀김, 구이, 전 | J90: 제외
B91: 연어순살강정 | D91: 8~10g | E91: kg | I91: 【사양】껍질있는 포를 2.5*2.5 깍뚝썰기 【용도】강정 | J91: 제외
A92: 참 조 기 | B92: 참조기원형(저염/온마리) | C92: 국내산 | D92: 60~70g | E92: kg | F92: 15000 | G92: * | I92: 【사양】비늘, 지느러미, 꼬리 제거 후 저염 【용도】조림, 구이, 탕 | K92: H
C93: 국내산 | D93: 70~80g | E93: kg | F93: 16500 | G93: * | K93: H
B94: 참조기두절(저염) | C94: 국내산 | D94: 40~50g | E94: kg | F94: 21000 | G94: * | I94: 【사양】두절, 내장, 꼬리제거 후 저염 【용도】구이 | K94: H
B95: 참조기순살양포(저염) | C95: 국내산 | D95: 25~35g | E95: kg | F95: 37500 | G95: * | I95: 【사양】중뼈 제거한 순살, 양포, 껍질있음 【용도】튀김, 구이, 조림 | K95: H
C96: 국내산 | D96: 40~50g | E96: kg | F96: 42000 | G96: * | K96: H
B97: 참조기순살(수입완제품) | C97: 중국산 | D97: 30~40g | E97: kg | F97: 14250 | G97: * | I97: 【사양】중뼈 제거한 순살, 껍질있음, 수입완제품 【용도】튀김, 구이, 조림
C98: 중국산 | D98: 40~50g | E98: kg | F98: 14700 | G98: *
A99: 메 기 | B99: 민물메기(내장제거) | C99: 국내산 | D99: 온마리 | E99: kg | F99: * | G99: 28500 | I99: 【사양】내장제거만 됨(머리, 뼈 있음) 【용도】탕
B100: 활민물메기 | C100: 국내산 | D100: 온마리 | E100: kg | F100: * | G100: 25500 | I100: 【사양】생물, 활어, 산소주입포장 【용도】탕
...

Sheet 5828_용봉_4
A1: 5828_용봉_대림씨푸드+6월+단가.xlsx
A2: https://school062.com/bbs/board.php?bo_table=product_02&wr_id=5828
A3: ◈ 패류
A4: 구분 | B4: 제 품 명 | C4: 원산지 | D4: 제 품 규 격 | E4: 단위 | F4: 냉동 | G4: 냉장 | H4: 변동 | I4: 제품사양 및 용도설명 | J4: 과세 | K4: HACCP
A5: 바 지 락 | B5: 바지락살 | C5: 국내산 (삼천포) | E5: kg | F5: * | G5: 50250 | I5: 【사양】생물, 껍질제거 순살만 선별포장 ※1kg이상부터 발주 가능(1kg 이하 소포장 발주)
B6: 바지락살 | C6: 국내산 (삼천포) | D6: 500g 블럭동결 | E6: kg | F6: 49500 | G6: * | I6: 【사양】생물을 선별하여 껍질제거 블럭동결 | K6: H
B7: 피바지락 | C7: 국내산 (삼천포) | E7: kg | F7: 13650 | G7: 13950 | I7: 【사양】껍질조개, 생물, 해감되어있음
B8: 바지락살 (자숙) | C8: 수입 (중국) | D8: 자숙, IQF | E8: kg | F8: 11700 | G8: * | I8: 【사양】자숙바지락살 IQF동결 | J8: ★
A9: 대 합 | B9: 대합살 | C9: 국내산 | E9: kg | F9: * | G9: 68400 | I9: 【사양】촉수가 싱싱하고 살아있는것, 탈각 ※1kg이상부터 발주 가능(1kg 이하 소포장 발주)
B10: 대합살(냉동) | C10: 국내산 | D10: 500g 블럭동결 | F10: 68400 | G10: * | I10: 【사양】생물을 선별하여 껍질제거하여 동결 | K10: H
B11: 피대합 | C11: 국내산 | E11: kg | F11: * | G11: 27000 | I11: 【사양】껍질대합, 생물, 해감되어있음
A12: 홍 합 | B12: 홍합살 | C12: 국내산 | E12: kg | F12: * | G12: 30150 | I12: 【사양】생물, 선별하여 껍질제거 후 세척 ※1kg이상부터 발주 가능(1kg 이하 소포장 발주)
B13: 홍합살(냉동) | C13: 국내산 | D13: 500g 블럭동결 | E13: kg | F13: 30150 | G13: * | I13: 【사양】생물을 선별하여 껍질제거 후 동결 | K13: H
B14: 자숙홍합살 | C14: 국내산 | D14: IQF | E14: kg | F14: 품 절 | G14: * | I14: 【사양】자숙홍합살 IQF동결
C15: 중국산 | D15: IQF | E15: kg | F15: 11100 | G15: * | J15: ★
B16: 피홍합 | C16: 국내산 | F16: 일시품절 | G16: 6000 | I16: 【사양】해감 후 다듬어진 것, 수염제거
B17: 그린홍합 | C17: 뉴질랜드 | D17: 800g/팩 | E17: 팩 | F17: 23250 | G17: * | I17: 【사양】한쪽껍질 탈각, M사이즈 | J17: ★
A18: 미 더 덕 | B18: 오만디(슬라이스) | C18: 국내산 (고현) | D18: 통오만둥이 슬라이스 | E18: kg | G18: 0 | I18: 【사양】11월~5월까지 동절기 해동품, 6월~10월까지 생물
B19: 통 오만디 | C19: 국내산 (고현) | E19: kg | F19: 30000 | G19: 30000 | I19: 【사양】11월~5월까지 동절기 해동품 6월~10월까지 생물/ 냉동 IQF 동결
B20: 참 미더덕 | C20: 국내산 (고현) | E20: kg | F20: * | G20: 39000 | I20: 【사양】11월~5월까지 동절기 생물, 6월~10월까지 해동품
A21: 꼬 막 | B21: 새꼬막살 | C21: 국내산 (여수) | D21: 300~400알 | E21: kg | F21: 25500 | G21: 30150 | I21: 【사양】kg/300~400알 껍질제거, 자숙, 순살만 선별포장 | J21: ★
B22: 피꼬막살 | C22: 국내산 (여수) | F22: 일시품절 | G22: * | I22: 【사양】kg/80~100알, 새꼬막보다 큰 꼬막살 껍질제거, 자숙, 순살만 선별포장
B23: 껍질있는 새꼬막 | C23: 국내산 (여수) | D23: 80-100미 | E23: kg | F23: * | G23: 12000 | I23: 【사양】껍질○, 해감, 일반적인 무침꼬막 【용도】무침용
B24: 피꼬막(피조개) | C24: 국내산 | D24: 12-15미 | E24: kg | F24: * | G24: 7500 | I24: 【사양】동절기 계절상품, 새꼬막보다 큰 꼬막, 껍질○
A25: 키 조 개 | B25: 키조개 | C25: 국내산 | E25: 마리 | F25: * | G25: 13500 | I25: 【사양】선별후 세척,껍질0
B26: 키조개관자살 | C26: 국내산 | D26: 30-40미,껍질없음 | E26: kg | I26: 【사양】30~40미, 선별후 세척, 탈각, 껍질X,냉동 IQF 동결
B27: 키조개관자살(수입냉동) | C27: 중국산 | D27: 15-20미,껍질없음 | E27: kg | F27: 30750 | G27: * | I27: 【사양】35~40미, 약 5cm내외, IQF개별동결
A28: 모시 조개 | B28: 피 모시조개(흑색) | C28: 국내산 | D28: 30-40미 | E28: kg | F28: * | G28: 24000 | H28: ▲2000 | I28: 【사양】30~40미, 껍질○, 생물, 선별하여 해감 후 세척
B29: ★신제품★ 피 모시조개(백색) | C29: 중국산 | D29: 30-40미 | E29: kg | F29: * | G29: 22500 | H29: ▲2000 | I29: 【사양】30~40미, 껍질○, 생물, 선별하여 해감 후 세척
A30: 동죽 조개 | B30: 동죽조개 | C30: 국내산 | D30: 40~50미 | E30: kg | F30: * | G30: 22500 | I30: 【사양】40~50미, 껍질○, 생물, 선별하여 해감 후 세척, 껍질 크기 3~5cm
A31: 백 합 | B31: 피 백합 | C31: 중국산 | D31: 20-30미 | E31: kg | F31: * | G31: 21000 | I31: 【사양】껍질○, 생물, 선별하여 해감 후 세척
A32: 전 복 | B32: 피전복(9~10미)특대 | C32: 국내산 (완도) | D32: 9~10미/kg | E32: kg | F32: * | G32: 67500 | H32: ▼3000 | I32: 【사양】생물, 껍질O, 선별하여 세척, 양식산※제품명 변경
B33: 피전복(11~13미)대 | C33: 국내산 (완도) | D33: 11~12미/kg | E33: kg | F33: * | G33: 61500 | H33: ▼2000
B34: 피전복(14~16미)대 | C34: 국내산 (완도) | D34: 15~17미/kg | E34: kg | F34: * | G34: 53700 | H34: ▼4000
B35: 피전복(17~19미)중 | C35: 국내산 (완도) | D35: 17~19미/kg | E35: kg | F35: * | G35: 51750 | H35: ▼3000
B36: 피전복(19~22미)중 | C36: 국내산 (완도) | D36: 18~20미/kg | E36: kg | F36: * | G36: 48450 | H36: ▼4000
B37: 피전복(23~26미)소 | C37: 국내산 (완도) | D37: 24~25미/kg | E37: kg | F37: * | G37: 47250 | H37: ▼4000
B38: 피전복(28~32미)소 | C38: 국내산 (완도) | D38: 28~30미/kg | E38: kg | F38: * | G38: 44250 | H38: ▼5000
B39: 전복살(대) | C39: 국내산 (완도) | D39: 12~15미/kg | E39: kg | F39: * | G39: 115950 | H39: ▼5000 | I39: 【사양】12~15미 전복 탈각, 껍질X, 내장과 살 붙어있음, 살 알맹이지름 약 8~10cm
B40: 전복살(대) - 이빨제거 | C40: 국내산 (완도) | D40: 12~15미/kg | E40: kg | F40: * | G40: 123900 | H40: ▼5000 | I40: 【사양】12~15미 전복 탈각, 껍질X, 내장과 살 붙어있음, 이빨만 도려냄, 살 알맹이지름 약 8~10cm
B41: 전복살(대) - 내장제거 | C41: 국내산 (완도) | D41: 12~15미/kg | E41: kg | F41: * | G41: 141450 | H41: ▼5000 | I41: 【사양】12~15미 전복 탈각, 껍질X, 살에서 내장분리,내장X, 살 알맹이지름 약 8~10cm
B42: 전복살(대) - 이빨, 내장제거 | C42: 국내산 (완도) | D42: 12~15미/kg | F42: * | G42: 150450 | H42: ▼5000 | I42: 【사양】12~15미 전복 탈각, 껍질X, 내장X, 이빨X, 살만 있음, 살 알맹이지름 약 8~10cm
B43: 전복살(중) | C43: 국내산 (완도) | D43: 18~20미/kg | E43: kg | F43: * | G43: 105450 | H43: ▼5000 | I43: 【사양】18~20미 전복 탈각, 껍질X, 내장과 살 붙어있음, 살 알맹이지름 약 6~8cm
B44: 전복살(중) - 이빨제거 | C44: 국내산 (완도) | D44: 18~20미/kg | E44: kg | F44: * | G44: 112950 | H44: ▼5000 | I44: 【사양】18~20미 전복 탈각, 껍질X, 내장과 살 붙어있음, 이빨만 도려냄, 살 알맹이지름 약 6~8cm
B45: 전복살(중) - 내장제거 | C45: 국내산 (완도) | D45: 18~20미/kg | E45: kg | F45: * | G45: 131700 | H45: ▼5000 | I45: 【사양】18~20미 전복 탈각, 껍질X, 살에서 내장분리,내장X, 살 알맹이지름 약 6~8cm
B46: 전복살(중) - 이빨, 내장제거 | C46: 국내산 (완도) | D46: 18~20미/kg | F46: * | G46: 140700 | H46: ▼5000 | I46: 【사양】18~20미 전복 탈각, 껍질X, 내장X, 이빨X, 살만 있음, 살 알맹이지름 약 6~8cm
B47: 전복살 | C47: 국내산 (완도) | E47: kg | F47: 102450 | G47: * | H47: ▼5000 | I47: 【사양】15~20미 피전복 탈각, 세척 후 IQF 동결, 내장 포함 | K47: H
B48: 전복살 | C48: 수입산 | D48: 33~35미/kg | E48: kg | F48: 84000 | G48: * | I48: 【사양】전복을 탈각후 청정수에 세척하여 IQF 냉동 | J48: ★
B49: ★신제품★ 슬라이스 생 전복살 | C49: 국내산 (완도) | E49: kg | F49: 165000 | G49: 169500 | H49: 신규 | I49: 【사양】세척 후 탈각, 이빨내장제거하여 0.7~1cm슬라이스. 당일생물작업. 내장없음 | K49: H
B50: 다진전복살(살+내장) | C50: 국내산 | E50: kg | F50: * | G50: 183750 | I50: 【사양】전복 탈각 후 고르게다짐. 내장따로 포장 【용도】전복죽용
B51: 다진전복살(내장제거) | C51: 국내산 | E51: kg | F51: * | G51: 220500 | I51: 【사양】전복 탈각 후 고르게다짐. 내장x 【용도】전복죽용
A52: 재 첩 | B52: 재첩살 | C52: 중국산 | D52: 500g | E52: 봉 | F52: 12000 | G52: * | I52: 【사양】자숙 후 껍질제거 순살만 선별포장 | J52: ★
B53: 피 재첩 | C53: 국내산 (하동/명지) | E53: kg | F53: * | G53: 18000 | I53: 【사양】껍질○, 해감, 11월 중순 ~ 2월 동절기 작업이 안되어 공급 불가
B54: 피 재첩 | C54: 중국산 | E54: kg | F54: * | G54: 일시품절 | I54: 【사양】껍질○, 해감후 세척
A55: 가 리 비 | B55: 가리비 | C55: 국내산 | D55: 15-20미 | E55: kg | F55: * | G55: 18000 | H55: ▲3500 | I55: 【사양】선별후 세척,껍질0
B56: 알가리비 | C56: 중국산 | E56: kg | F56: 24000 | G56: * | I56: 【사양】가리비살,자숙,껍질×
A57: 소 라 | B57: 참소라 | C57: 국내산 | D57: 4-6미 | E57: kg | F57: * | G57: 34500 | I57: 【사양】껍질O, 당일작업, 시세변동심함
B58: 참소라살 | C58: 국내산 | E58: kg | F58: * | G58: 144000 | I58: 【사양】참소라 껍질탈각, 딱지 제거X, 꼬리내장 끝만 살짝제거
B59: 참소라살 | C59: 불가리아 | E59: kg | F59: 43500 | G59: * | I59: 【사양】살짝 데친 후 탈각, 개별IQF동결 | J59: ★
B60: 참소라살 슬라이스 | C60: 세네갈 | D60: 200g | E60: 봉 | F60: 일시품절 | G60: * | I60: 【사양】200g씩 진공포장
A61: 우 렁 살 | B61: 논고동살(우렁살) | C61: 국내산 (김해) | E61: 봉 | F61: * | G61: 34500 | I61: 【사양】살짝 데친 후 탈각, 자숙, 해동품
B62: 논고동살(우렁살) | C62: 국내산 (김해) | D62: 600g | E62: 봉 | F62: 16650 | G62: * | I62: 【사양】살짝 데친 후 탈각, 자숙
B63: 논고동살(우렁살) | C63: 라오스 | D63: 500g | E63: 봉 | F63: 일시품절 | G63: * | I63: 【사양】살짝 데친 후 탈각, 자숙
A64: 다슬기살(올갱이살) | C64: 중국산 | D64: 500g | E64: 봉 | F64: 일시품절 | G64: * | I64: 【사양】살짝 데친 후 탈각
A65: 굴 | B65: 생굴 | C65: 국내산 (통영) | E65: kg | F65: * | G65: 일시품절 | I65: * 동절기 상품 시세적용, 단가변동가능성있음※1kg이상부터 발주 가능(1kg 이하 소포장 발주)
B66: 생굴 | C66: 국내산 (통영) | E66: kg | F66: 21300 | G66: * | H66: ▲500 | I66: 【사양】탈각 후 개별동결 IQF 또는 블록
B67: 석화 | C67: 국내산 (통영) | E67: kg | F67: * | G67: 문의 | I67: 【사양】계절상품, 10~2월 생물
A68: ◈ 패류 소포장 (개별 실링 포장 100g~900g)
A69: 구분 | B69: 제 품 명 | C69: 원산지 | D69: 제 품 규 격 | E69: 단위 | F69: 냉동 | G69: 냉장 | H69: 변동 | I69: 제품사양 및 용도설명 | J69: 과세 | K69: HACCP
A70: 바 지 락 살 | B70: 바지락살(소포장)100g | C70: 국내산 (삼천포) | D70: 100g | E70: 봉 | F70: * | G70: 8400 | I70: 【사양】생물, 껍질제거 순살만 해수와함께 100g 실링포장
B71: 바지락살(소포장)200g | C71: 국내산 (삼천포) | D71: 200g | E71: 봉 | F71: * | G71: 13500 | I71: 【사양】생물, 껍질제거 순살만 해수와함께 200g 실링포장
B72: 바지락살(소포장)300g | C72: 국내산 (삼천포) | D72: 300g | E72: 봉 | F72: * | G72: 18450 | I72: 【사양】생물, 껍질제거 순살만 해수와함께 300g 실링포장
B73: 바지락살(소포장)400g | C73: 국내산 (삼천포) | D73: 400g | E73: 봉 | F73: * | G73: 23400 | I73: 【사양】생물, 껍질제거 순살만 해수와함께 400g 실링포장
B74: 바지락살(소포장)500g | C74: 국내산 (삼천포) | D74: 500g | E74: 봉 | F74: * | G74: 28500 | I74: 【사양】생물, 껍질제거 순살만 해수와함께 500g 실링포장
B75: 바지락살(소포장)600g | C75: 국내산 (삼천포) | D75: 600g | E75: 봉 | F75: * | G75: 32400 | I75: 【사양】생물, 껍질제거 순살만 해수와함께 600g 실링포장
B76: 바지락살(소포장)700g | C76: 국내산 (삼천포) | D76: 700g | E76: 봉 | F76: * | G76: 37500 | I76: 【사양】생물, 껍질제거 순살만 해수와함께 700g 실링포장
B77: 바지락살(소포장)800g | C77: 국내산 (삼천포) | D77: 800g | E77: 봉 | F77: * | G77: 42450 | I77: 【사양】생물, 껍질제거 순살만 해수와함께 800g 실링포장
B78: 바지락살(소포장)900g | C78: 국내산 (삼천포) | D78: 900g | E78: 봉 | F78: * | G78: 47700 | I78: 【사양】생물, 껍질제거 순살만 해수와함께 900g 실링포장
A79: 대 합 살 | B79: 대합살(소포장)100g | C79: 국내산 (삼천포) | D79: 100g | E79: 봉 | F79: * | G79: 11700 | I79: 【사양】생물, 껍질제거 순살만 해수와함께 100g 실링포장
B80: 대합살(소포장)200g | C80: 국내산 (삼천포) | D80: 200g | E80: 봉 | F80: * | G80: 18300 | I80: 【사양】생물, 껍질제거 순살만 해수와함께 200g 실링포장
B81: 대합살(소포장)300g | C81: 국내산 (삼천포) | D81: 300g | E81: 봉 | F81: * | G81: 25050 | I81: 【사양】생물, 껍질제거 순살만 해수와함께 300g 실링포장
B82: 대합살(소포장)400g | C82: 국내산 (삼천포) | D82: 400g | E82: 봉 | F82: * | G82: 31800 | I82: 【사양】생물, 껍질제거 순살만 해수와함께 400g 실링포장
B83: 대합살(소포장)500g | C83: 국내산 (삼천포) | D83: 500g | E83: 봉 | F83: * | G83: 38550 | I83: 【사양】생물, 껍질제거 순살만 해수와함께 500g 실링포장
B84: 대합살(소포장)600g | C84: 국내산 (삼천포) | D84: 600g | E84: 봉 | F84: * | G84: 44400 | I84: 【사양】생물, 껍질제거 순살만 해수와함께 600g 실링포장
B85: 대합살(소포장)700g | C85: 국내산 (삼천포) | D85: 700g | E85: 봉 | F85: * | G85: 51000 | I85: 【사양】생물, 껍질제거 순살만 해수와함께 700g 실링포장
B86: 대합살(소포장)800g | C86: 국내산 (삼천포) | D86: 800g | E86: 봉 | F86: * | G86: 57600 | I86: 【사양】생물, 껍질제거 순살만 해수와함께 800g 실링포장
B87: 대합살(소포장)900g | C87: 국내산 (삼천포) | D87: 900g | E87: 봉 | F87: * | G87: 64050 | I87: 【사양】생물, 껍질제거 순살만 해수와함께 900g 실링포장
A88: 홍 합 살 | B88: 홍합살(소포장)100g | C88: 국내산 (연근해) | D88: 100g | E88: 봉 | F88: * | G88: 6900 | I88: 【사양】생물, 껍질제거 순살만 해수와함께 100g 실링포장
B89: 홍합살(소포장)200g | C89: 국내산 (연근해) | D89: 200g | E89: 봉 | F89: * | G89: 9900 | I89: 【사양】생물, 껍질제거 순살만 해수와함께 200g 실링포장
B90: 홍합살(소포장)300g | C90: 국내산 (연근해) | D90: 300g | E90: 봉 | F90: * | G90: 12900 | I90: 【사양】생물, 껍질제거 순살만 해수와함께 300g 실링포장
B91: 홍합살(소포장)400g | C91: 국내산 (연근해) | D91: 400g | E91: 봉 | F91: * | G91: 15900 | I91: 【사양】생물, 껍질제거 순살만 해수와함께 400g 실링포장
B92: 홍합살(소포장)500g | C92: 국내산 (연근해) | D92: 500g | E92: 봉 | F92: * | G92: 19050 | I92: 【사양】생물, 껍질제거 순살만 해수와함께 500g 실링포장
B93: 홍합살(소포장)600g | C93: 국내산 (연근해) | D93: 600g | E93: 봉 | F93: * | G93: 21000 | I93: 【사양】생물, 껍질제거 순살만 해수와함께 600g 실링포장
B94: 홍합살(소포장)700g | C94: 국내산 (연근해) | D94: 700g | E94: 봉 | F94: * | G94: 23850 | I94: 【사양】생물, 껍질제거 순살만 해수와함께 700g 실링포장
B95: 홍합살(소포장)800g | C95: 국내산 (연근해) | D95: 800g | E95: 봉 | F95: * | G95: 26850 | I95: 【사양】생물, 껍질제거 순살만 해수와함께 800g 실링포장
B96: 홍합살(소포장)900g | C96: 국내산 (연근해) | D96: 900g | E96: 봉 | F96: * | G96: 29700 | I96: 【사양】생물, 껍질제거 순살만 해수와함께 900g 실링포장
A97: 생 새 우 살 / 백 새 우 살 | B97: 새우살(소포장)100g | C97: 국내산 | D97: 100g | E97: 봉 | F97: * | G97: 7500 | I97: 【사양】흰다리새우, 생새우(두절,껍질제거, 꼬리제거) 새우살 100g 실링포장
B98: 새우살(소포장)200g | C98: 국내산 | D98: 200g | E98: 봉 | F98: * | G98: 11250 | I98: 【사양】흰다리새우, 생새우(두절,껍질제거, 꼬리제거) 새우살 200g 실링포장
B99: 새우살(소포장)300g | C99: 국내산 | D99: 300g | E99: 봉 | F99: * | G99: 14850 | I99: 【사양】흰다리새우, 생새우(두절,껍질제거, 꼬리제거) 새우살 300g 실링포장
B100: 새우살(소포장)400g | C100: 국내산 | D100: 400g | E100: 봉 | F100: * | G100: 18450 | I100: 【사양】흰다리새우, 생새우(두절,껍질제거, 꼬리제거) 새우살 400g 실링포장
...

Sheet 5828_용봉_5
A1: 5828_용봉_대림씨푸드+6월+단가.xlsx
A2: https://school062.com/bbs/board.php?bo_table=product_02&wr_id=5828
A3: ◈ 건해태류
A4: 구분 | B4: 제 품 명 | C4: 원산지 | D4: 제 품 규 격 | E4: 단위 | F4: 봉,kg | G4: 박스 | H4: 변동 | I4: 과세 | J4: 제품사양 및 용도설명 | K4: HACCP
A5: 다 시 마 | B5: 건다시마(완도산) 100g | C5: 국내산(완도) | D5: 100g | E5: 봉 | F5: 4050 | G5: * | J5: 【사양】원초 다시마를 자연건조한것
B6: 건다시마(완도산) 200g | C6: 국내산(완도) | D6: 200g | E6: 봉 | F6: 6750 | G6: *
B7: 건다시마(완도산) 500g | C7: 국내산(완도) | D7: 500g | E7: 봉 | F7: 13950 | G7: *
B8: 건다시마(완도산) 1kg(100g*10봉) | C8: 국내산(완도) | D8: 100g*10봉/박스 | E8: 박스 | F8: * | G8: 33000
B9: 건다시마(완도산) 4kg(100g*40봉) | C9: 국내산(완도) | D9: 100g*40봉/박스 | E9: 박스 | F9: * | G9: 118800
B10: 건다시마(완도산) 2kg(200g*10봉) | C10: 국내산(완도) | D10: 200g*10봉/박스 | E10: 박스 | F10: * | G10: 57000
B11: 건다시마(기장산) 100g | C11: 국내산 (기장) | D11: 100g | E11: 봉 | F11: 4350 | G11: * | J11: 【사양】원초 다시마를 자연건조한것
B12: 건다시마(기장산) 200g | C12: 국내산 (기장) | D12: 200g | E12: 봉 | F12: 7500 | G12: *
B13: 건다시마(기장산) 500g | C13: 국내산 (기장) | D13: 500g | E13: 봉 | F13: 15750 | G13: *
B14: 건다시마(기장산) 1kg(100g*10봉) | C14: 국내산 (기장) | D14: 100g*10봉/박스 | E14: 박스 | F14: * | G14: 37500
B15: 건다시마(기장산) 3kg(100g*30봉) | C15: 국내산 (기장) | D15: 100g*30봉/박스 | E15: 박스 | F15: * | G15: 108000
B16: 건다시마(기장산) 2kg(200g*10봉) | C16: 국내산 (기장) | D16: 200g*10봉/박스 | E16: 박스 | F16: * | G16: 62400
B17: 다시마사각 | C17: 국내산(완도) | D17: 3*5cm | E17: kg | F17: 34200 | G17: * | J17: 【사양】다시마를 사각형태로 절단, 튀각용
B18: 뿌리다시마(완도산) 100g | C18: 국내산(완도) | D18: 100g | E18: 봉 | F18: 4800 | G18: * | J18: 【사양】다시마 뿌리부분만을 선별 자연건조
B19: 뿌리다시마(완도산) 1kg(100g*10봉) | C19: 국내산(완도) | D19: 100g*10봉/박스 | E19: 봉 | F19: * | G19: 38100
A20: 미역 | B20: 건미역 100g | C20: 국내산 (완도) | D20: 100g | E20: 봉 | F20: 4050 | G20: * | J20: 【사양】원초 미역을 자연건조한것
B21: 건미역 500g(100g*5봉) | C21: 국내산 (완도) | D21: 100g*5봉 | E21: 박스 | F21: * | G21: 16500
B22: 컷트미역200g | C22: 국내산 (완도) | D22: 200g | E22: 봉 | F22: 7800 | G22: * | J22: 【사양】자른미역
A23: 파래 | B23: 건파래1kg | C23: 국내산 | E23: kg | F23: 일시품절 | G23: * | J23: 【사양】김과 파래 혼합 비율 7:3, 식용 첨가물 無
B24: 건파래-선별(찢은것) | C24: 국내산 | E24: kg | F24: 일시품절 | G24: * | J24: 【사양】건파래를 찢어 이물질 선별 후 포장
A25: 김 | B25: 마른김(구이용김)/속 | C25: 국내산 | D25: 100장/속(±200g) | E25: 속 | F25: 13650 | G25: * | J25: 【사양】100장/1속 【용도】구이용
B26: 마른김(김밥용김)/속 | C26: 국내산 | D26: 100장/속(±200g) | E26: 속 | F26: 16200 | G26: * | J26: 【사양】100장/1속 【용도】김밥용
B27: 마른김(구운김밥김)/속 | C27: 국내산 | D27: 100장/속(±200g) | E27: 속 | F27: 18300 | G27: * | J27: 【사양】100장/1속 【용도】김밥용
B28: 마른김(파래김)/속 | C28: 국내산 | D28: 100장/속(±200g) | E28: 속 | F28: 12300 | G28: * | J28: 【사양】100장/1속 【용도】구이용
B29: 마른김(돌김)/속 | C29: 국내산 | D29: 100장/속(±200g) | E29: 속 | F29: 15450 | G29: * | J29: 【사양】100장/1속 【용도】구이용
B30: 무염김가루 | C30: 국내산 | D30: kg | E30: kg | J30: 【사양】김 100%, 붉은 빛이 없는 상품김으로 가공
B31: 조미김가루 | C31: 국내산 | D31: kg | E31: kg | I31: ★ | J31: 【사양】김90%, 옥배유9.1%, 맛소금0.7%, 참기름0.2%
B32: 돌자반볶음 | C32: 국내산 | D32: kg | E32: kg | I32: ★ | J32: 【사양】자반김55%, 건파래4%, 식용유, 참기름, 설탕, 맛소금, 참깨
A33: ◈ 건 멸치류
A34: 구분 | B34: 제 품 명 | C34: 원산지 | D34: 제 품 규 격 | E34: 단위 | F34: 봉,kg | G34: 박스 | H34: 변동 | I34: 과세 | J34: 제품특징 및 용도설명 | K34: HACCP
B35: 멸치/다시멸치 특/ 1kg | C35: 국내산 | E35: kg | F35: 27000 | G35: * | H35: ▲2800 | J35: 【사양】선별작업, 부직포 다시망 포함
B36: 멸치/다시멸치 특(1kg*10봉)/box | C36: 국내산 | D36: 1kg*10봉/박스 | E36: 박스 | F36: * | G36: 264300 | H36: ▲27600 | J36: 【사양】선별작업, 부직포 다시망 불포함
B37: 멸치/다시멸치 상/ 1kg | C37: 국내산 | E37: kg | F37: 25800 | G37: * | H37: ▲3900 | J37: 【사양】선별작업, 부직포 다시망 포함
B38: 멸치/다시멸치상(1kg*10봉)/BOX | C38: 국내산 | D38: 1kg*10봉/박스 | E38: 박스 | F38: * | G38: 262800 | H38: ▲36700 | J38: 【사양】선별작업, 부직포 다시망 불포함
B39: 깐멸치 상/kg (D-7전 발주요망) | C39: 국내산 | E39: kg | F39: 38250 | G39: * | J39: 【사양】멸치를 손질(내장,뼈제거)한 수작업 제품
B40: 멸치/가이리/kg | C40: 국내산 | E40: kg | F40: 29550 | G40: * | J40: 【사양】소멸치, 크기 1.5~2.5cm
B41: 멸치/저염가이리/kg | C41: 국내산 | E41: kg | F41: 30300 | G41: * | J41: 【사양】저염소멸치, 크기 1.5~2.5cm
B42: 멸치/지리멸/kg | C42: 국내산 | E42: kg | F42: 30450 | G42: * | J42: 【사양】세멸치, 크기 0.5~1.5cm
B43: 멸치/저염지리멸/kg | C43: 국내산 | E43: kg | F43: 31200 | G43: * | J43: 【사양】저염세멸치, 크기 0.5~1.5cm
B44: 멸치/디포리 상/kg | C44: 국내산 | E44: kg | F44: 20400 | G44: * | J44: 【사양】선별작업, 부직포 다시망 포함
B45: 멸치/디포리 상(1kg*10봉)/box | C45: 국내산 | D45: 1KG*10봉/박스 | E45: 박스 | F45: * | G45: 196050 | J45: 【사양】선별작업, 부직포 다시망 불포함
B46: 멸치/우리바다 혼합다시(상)/kg | C46: 국내산 | D46: 1kg 봉 단위 발주, 부직포 다시망 포장 | E46: kg | F46: 19200 | G46: * | J46: 【사양】다시멸치75%, 디포리10%, 건다시마5%, 건표고버섯5%, 보리새우5%/(점발주불가)
B47: 멸치/혼합다시(특)/kg | C47: 별도표기 | D47: 1kg 봉 단위 발주, 부직포 다시망 포장 | E47: kg | F47: 20550 | G47: * | J47: 【사양】다시멸치(70%), 디포리(10%), 표고(중국산, 5%), 다시마(5%), 꽃새우(중국산 5%), 북어채(러시아 5%)(점발주불가)
B48: 멸치/혼합다시(상)/kg | C48: 별도표기 | D48: 1kg 봉 단위 발주, 부직포 다시망 포장 | E48: kg | F48: 18900 | G48: * | J48: 【사양】다시멸치(75%), 디포리(10%), 표고(중국산,5%),다시마(5%), 분홍새우(중국산5%)(점발주불가)
B49: 건강혼합멸치(A)/kg | C49: 별도표기 | E49: kg | F49: 36000 | G49: * | J49: 【사양】지리40/아몬드슬40/두건새우20 (3종)/(점발주불가)
B50: 건강혼합멸치(B)/kg | C50: 별도표기 | E50: kg | F50: 26250 | G50: * | J50: 【사양】지리50/아몬드슬20/해바라기씨20/ 캐슈넛10(4종)/(점발주불가)
B51: 건강혼합멸치(C)/kg | C51: 별도표기 | E51: kg | F51: 28650 | G51: * | J51: 【사양】지리30/두건새우20/아몬드슬20/ 해바라기씨20/캐슈넛10(5종)/(점발주불가)
A52: ◈ 건새우류
A53: 구분 | B53: 제 품 명 | C53: 원산지 | D53: 제 품 규 격 | E53: 단위 | F53: 봉,kg | G53: 박스 | H53: 변동 | I53: 과세 | J53: 제품특징 및 용도설명 | K53: HACCP
A54: 건 새 우 류 | B54: 두절건새우(볶음용) | C54: 국내산 | D54: 100g | E54: g | F54: 7950 | G54: * | J54: 【사양】건새우 두절한것 【용도】볶음용
D55: 200g | E55: g | F55: 15000 | G55: * | J55: 【사양】건새우 두절한것 【용도】볶음용
D56: 500g | E56: g | F56: 32850 | G56: * | J56: 【사양】건새우 두절한것 【용도】볶음용
D57: kg | E57: kg | F57: 62700 | G57: * | J57: 【사양】건새우 두절한것 【용도】볶음용
B58: 두절건새우(볶음용) | C58: 수입산 | D58: 100g | E58: g | F58: 5100 | G58: * | J58: 【사양】건새우 두절한것 【용도】볶음용
D59: 200g | E59: g | F59: 9000 | G59: * | J59: 【사양】건새우 두절한것 【용도】볶음용
D60: 500g | E60: g | F60: 21600 | G60: * | J60: 【사양】건새우 두절한것 【용도】볶음용
D61: kg | E61: kg | F61: 37350 | G61: * | J61: 【사양】건새우 두절한것 【용도】볶음용
B62: 분홍새우(국물용) | C62: 국내산 | D62: 100g | E62: g | F62: 4950 | G62: * | J62: 【사양】홍새우 【용도】국물용
D63: 200g | E63: g | F63: 9000 | G63: * | J63: 【사양】홍새우 【용도】국물용
D64: 500g | E64: g | F64: 20550 | G64: * | J64: 【사양】홍새우 【용도】국물용
D65: kg | E65: kg | F65: 39600 | G65: * | J65: 【사양】홍새우 【용도】국물용
B66: 분홍새우(국물용) | C66: 수입산 | D66: 100g | E66: g | F66: 4050 | G66: * | J66: 【사양】홍새우 【용도】국물용
D67: 200g | E67: g | F67: 7200 | G67: * | J67: 【사양】홍새우 【용도】국물용
D68: 500g | E68: g | F68: 16500 | G68: * | J68: 【사양】홍새우 【용도】국물용
D69: kg | E69: kg | F69: 31500 | G69: * | J69: 【사양】홍새우 【용도】국물용
B70: 보리새우(국물용) | C70: 국내산 | D70: 100g | E70: g | F70: 4500 | G70: * | J70: 【사양】흑새우 【용도】국물용
D71: 200g | E71: g | F71: 8250 | G71: * | J71: 【사양】흑새우 【용도】국물용
D72: 500g | E72: g | F72: 19050 | G72: * | J72: 【사양】흑새우 【용도】국물용
D73: kg | E73: kg | F73: 30450 | G73: * | J73: 【사양】흑새우 【용도】국물용
B74: 밥새우(볶음용) | C74: 국내산 | D74: kg | E74: kg | F74: 일시품절 | G74: * | J74: 【사양】밥새우 2.5v내외 【용도】볶음용
B75: 밥새우(볶음용) | C75: 중국산 | D75: kg | E75: kg | F75: 일시품절 | G75: * | J75: 【사양】밥새우 2.5v내외 【용도】볶음용
A76: ◈ 건포류
A77: 구분 | B77: 제 품 명 | C77: 원산지 | D77: 제 품 규 격 | E77: 단위 | F77: 봉,kg | G77: 박스 | H77: 변동 | I77: 과세 | J77: 제품특징 및 용도설명 | K77: HACCP
A78: 북 어 류 | B78: 북어채 | C78: 수입산 | D78: kg | E78: kg | F78: 45000 | G78: * | J78: 【사양】북어채 100%
B79: 북어머리 | C79: 수입산 | E79: kg | F79: 27150 | G79: * | J79: 【사양】북어머리 100%
B80: 황태채 | C80: 수입산 | D80: kg | E80: kg | F80: 45000 | G80: * | J80: 【사양】황태채100%
A81: 쥐 포 | B81: 동전쥐포 | C81: 수입산 | D81: 동전크기의 둥근모양 | E81: kg | F81: 28800 | G81: * | I81: ★ | J81: 【사양】쥐치(90%), 설탕(6.7%), 소금(1%),외
B82: 참쥐포구이채(손채) | C82: 수입산 | D82: 구워서 손으로 찢은 모양 | E82: kg | F82: 36000 | G82: * | I82: ★ | J82: 【사양】쥐치(87.9%), 설탕(6%) 외
B83: 참쥐포채 | C83: 수입산 | D83: 0.3*10cm로 가는채 | E83: kg | F83: 33750 | G83: * | I83: ★ | J83: 【사양】쥐치(87%), 설탕(9%), 식염(1%) 외
B84: 참쥐포가위채 | C84: 수입산 | D84: 0.7*7cm로 적당한 굵기로 채썰어짐 | E84: kg | F84: 33750 | G84: * | I84: ★ | J84: 【사양】쥐치(89.7%), 설탕(6%) 외
B85: 참쥐포사각 (D-7전발주요망) | C85: 수입산 | D85: 2*2cm 사각 | E85: kg | F85: 36000 | G85: * | I85: ★ | J85: 【사양】쥐치(90%), 설탕(6.7%), 소금(1%) 외 【용도】볶음용 / 수작업
B86: 나비참쥐포(새끼쥐치포) | C86: 수입산 | E86: kg | F86: 일시품절 | G86: * | I86: ★ | J86: 【사양】쥐치(87%),설탕(6.7%) 외 /뼈쥐포
B87: 쥐포사각 | C87: 수입산 | E87: kg | F87: 일시품절 | G87: * | I87: ★ | J87: 【사양】 연육(베트남)80%,전분10%,설탕5%,식염2%,L-글루타민산나트륨3% 【용도】볶음용
B88: 명엽채(살엽채) | C88: 수입산 | D88: 넓이 2~3mm/길이10~15cm | E88: kg | F88: 13350 | G88: * | I88: ★ | J88: 【사양】연육(84.57%), 전분(4%), 설탕(7%), 식염(2%) 외
B89: 쥐어채 | C89: 수입산 | D89: ±0.3cm 가는채 | E89: kg | F89: 13350 | G89: * | I89: ★ | J89: 【사양】연육(84.57%), 전분(4%), 설탕(7%), 식염(2%) 외
B90: 맛살채 | C90: 수입산 | E90: kg | F90: 28950 | G90: * | I90: ★ | J90: 【사양】맛살87%,설탕10%,소금1%,솔비톨1%,글루타산나트륨1%
A91: 뱅 어 포 | B91: 뱅어포/속 | C91: 국내산 | D91: 10장/속, ±150g | E91: kg | F91: 일시품절 | G91: *
B92: 뱅어포사각 | C92: 국내산 | D92: 5*5cm절단 | E92: kg | F92: 일시품절 | G92: *
A93: 가 쓰 오 부 시 | B93: 다시용200g | C93: 수입산 | D93: 200g | E93: 봉 | F93: 9900 | G93: *
B94: 다시용500g | C94: 수입산 | D94: 500g | E94: 봉 | F94: 19350 | G94: *
B95: 고명용200g | C95: 수입산 | D95: 200g | E95: 봉 | F95: 11400 | G95: *
B96: 고명용500g | C96: 수입산 | D96: 500g | E96: 봉 | F96: 25950 | G96: *
A97: 일 미 | B97: 일미채 | C97: 국내산 | D97: 백색의 가는 조미오징어채 | E97: kg | F97: 97500 | G97: * | I97: ★ | J97: 【사양】오징어(80.5%), 설탕(6.3%), 식염(2.01%) 외
B98: 일미채 | C98: 수입산 | E98: kg | F98: 36000 | G98: * | H98: ▲1500 | I98: ★
A99: 진 미 | B99: 진미채 | C99: 국내산 | D99: 백색의 굵은 조미오징어채 | E99: kg | F99: 97500 | G99: * | I99: ★ | J99: 【사양】오징어(83.53%), 설탕(6%), 식염(1.7%) 외
B100: 진미채 | C100: 수입산 | E100: kg | F100: 36000 | G100: * | H100: ▲1500 | I100: ★
...

Sheet 5828_용봉_6
A1: 5828_용봉_대림씨푸드+6월+단가.xlsx
A2: https://school062.com/bbs/board.php?bo_table=product_02&wr_id=5828
A3: ◈ 튀김류
A4: 구분 | B4: 제 품 명 | C4: 원산지 | D4: 제 품 규 격 | E4: 단위 | H4: 변동 | I4: 제품사양 및 용도설명 | J4: 과세 | K4: HACCP
G5: 냉장
A6: 까 스 | B6: ★신제품★ 꽉찬 새우까스 (새우함유 55%) | C6: 인도 네시아 | D6: 50g*20개입 | E6: 봉 | F6: 15000 | G6: * | I6: 【사양】봉/ 1kg (50g * 20개) 【함량】흰다리새우 55%, 연육 19%, 빵가루, 정제수, 배터믹스 등 | J6: ★

Sheet 5831_다다수산유통_1
A1: 5831_다다수산유통_다다수산유통+24.06월.xls
A2: https://school062.com/bbs/board.php?bo_table=product_02&wr_id=5831
A3: 다다수산유통 (6월 단가표)
A4: T. 062-655-4177 / F. 062-654-4177
A5: ▣어류제품은 재고가 아닌 발주가 들어오면 즉시 가공하여 제공하기 때문에 품질 및 맛이 좋습니다.
A6: ▣어류절단제품은 5일전에 발주 부탁드립니다.
A7: ▶ 위해요소중점관리기준 (HACCP) 적용업소 지정 (냉동수산식품 - 어류, 연체류)
A8: 어종 | B8: 제 품 명 | C8: 원산지 | D8: 제 품 규 격 | E8: 단위 | F8: 단가(원) | H8: 제품특징 및 용도설명
F9: 냉동 | G9: 냉장
A10: 고등어 | B10: 손포고등어순살 (특大) | C10: 국내산 | D10: ±35g~70g | E10: kg | F10: 21500 | G10: 22500 | H10: [특징]전처리된 고등어를 손포뜬 후 저염 특大고등어로 작업하는 명품고등어 [용도] 구이/튀김용
B11: 손포고등어순살 (특大) | C11: 노르웨이 | D11: ±35g~80g | E11: kg | F11: 17500 | G11: 18500 | H11: [특징]전처리된 고등어를 손포뜬 후 저염 특大고등어로 작업하는 명품고등어 [용도] 구이/튀김용
B12: 고등어토막-조림 (대) | C12: 국내산 | D12: ±30g~70g | E12: kg | F12: 11000 | G12: 12000 | H12: [특징]머리,꼬리,내장제거후 절단 *요청시 구이용 발주도 가능함
A13: 삼치 | B13: 손포삼치순살 (특大) | C13: 국내산 | D13: ±30g~80g | E13: kg | F13: 25500 | G13: 26500 | H13: [특징] 전처리된 삼치를 손포뜬 후 저염 특大삼치로 작업하는 명품삼치 [용도] 구이/튀김용
B14: 삼치토막-구이 (대) | C14: 국내산 | D14: ±30g~80g | E14: kg | F14: 14000 | G14: 15000 | H14: [특징] 머리,꼬리,내장제거 후 반포 (등뼈있음) *요청시 조림용 발주도 가능함
A15: 갈치 | B15: 제주 은갈치(대) 토막 | C15: 국내산 (제주) | D15: ±30g~70g | E15: kg | F15: * | G15: 45000 | H15: [특징] 머리,꼬리,지느러미,내장 제거 후 절단 *원물 400-500g으로 작업 (대)
A16: 조기 | B16: 참조기-두절 | C16: 국내산 | D16: 50g | E16: kg | F16: 30000 | G16: * | H16: [특징] 머리,꼬리,내장,지느러미 제거 후 저염 (손작업)
A17: 굴비 | B17: 영광굴비 | C17: 국내산 | D17: 1.1-1.2k (55-60g) | E17: 두릅 | F17: 33000 | G17: * | H17: [특징] 법성포 영광굴비가공품
D18: 1.3-1.4k (65-70g) | E18: 두릅 | F18: 40000 | G18: * | H18: [특징] 법성포 영광굴비가공품
D19: 1.6k (80g) | E19: 두릅 | F19: 58000 | G19: * | H19: [특징] 법성포 영광굴비가공품
D20: 1.8k (90g) | E20: 두릅 | F20: 99000 | H20: [특징] 법성포 영광굴비가공품
D21: 2.0k (100g) | E21: 두릅 | F21: 180000 | G21: * | H21: [특징] 법성포 영광굴비가공품
A22: 장어 | B22: 건붕장어 | C22: 국내산 | D22: 3-4cm절단, ±100개 | E22: kg | F22: 34000 | G22: * | H22: [특징] 머리,꼬리,내장제거 후 포를절단
A23: 꼬막 | B23: 새꼬막살 | C23: 국내산 | D23: 400개 (±50) | E23: kg | F23: 35000 | G23: * | H23: [특징]자숙/탈각->세척->광학선별 -60 ℃초저온동결 새꼬막(100%)
B24: 피꼬막살 | C24: 국내산 | D24: 100개 (±10) | E24: kg | F24: 25000 | G24: * | H24: [특징]자숙/탈각->세척->광학선별 -60 ℃초저온동결 피꼬막(100%)
A25: 대게 | B25: 붉은대게다리살 | C25: 국내산 | D25: 700g 단위 팩포장 | E25: 팩 | F25: 44500 | G25: * | H25: [특징]살이 꽉찬 붉은대게다리살 초등기준-70명, 중고등기준-50명
B26: 붉은대게몸살 | D26: 700g 단위 팩포장 | E26: 팩 | F26: 33500 | G26: * | H26: [특징]살이 꽉찬 붉은대게몸살 초등기준-70명, 중고등기준-50명
A27: 랍스터 | B27: 랍스터테일-가재(바다가재) | C27: 캐나다산 | D27: 110-120g | E27: 마리 | F27: 문의 | G27: * | H27: [특징]랍스터테일 1마리-110-120g 박스포장 4.5k (38-45미/평균40미)
A28: 오징어 | B28: 오징어채 (손채) | C28: 국내산 | D28: 1*7cm | E28: kg | F28: * | G28: 34000 | H28: [특징] 비가식부 제거 후 세절(다리포함) 유피 납품일 하루 전날 손으로 작업 (기계작업X)
A29: 갑오징어 | B29: 갑오징어 할복 (손질) | C29: 국내산 | D29: 내장 제거 손질 (갑있음) | E29: kg | F29: * | G29: 28500 | H29: [특징] 납품일 하루 전날 작업
A30: 아귀 | B30: 아귀순살 | C30: 국내산 | D30: 3*3cm,15-20g(깍뚝모양) | E30: kg | F30: 26500 | G30: * | H30: [특징] 쫄깃한아귀순살
A31: 키조개 | B31: 키조개살 | C31: 국내산 | D31: 20-30미 | E31: kg | F31: 77500 | G31: 78000 | H31: [특징] 키조개살
B32: 키조개살슬라이스 | D32: _ | F32: * | G32: 79500 | H32: [특징] 키조개살슬라이스
B33: 키조개살-생물 | D33: _ | F33: 83500 | G33: * | H33: [특징] 키조개살 (생물)
B34: 키조개살슬라이스-생물 | D34: _ | F34: * | G34: 85000 | H34: [특징] 키조개살슬라이스 (생물)
B35: 키조개날개 | D35: _ | F35: 12000 | G35: 13000 | H35: [특징] 키조개날개
A36: 세트상품 | B36: 낙지 | C36: 수입 | D36: 낙지100%+볶음양념소스 | E36: 10kg | F36: 295000 | G36: * | H36: [특징] 낙지 100%+볶음양념소스 (10k이상발주가능)
B37: 쭈꾸미 | D37: 쭈꾸미100%+볶음양념소스 | F37: 265000 | G37: * | H37: [특징] 쭈꾸미 100%+볶음양념소스 (10k이상발주가능)
B38: 오징어 | C38: 국내산 | D38: 오징어100%+볶음양념소스 | F38: 345000 | G38: * | H38: [특징] 오징어 100%+볶음양념소스 (10k이상발주가능)
A39: 새우 | B39: 튀김새우 | C39: 에콰도르산 | D39: ± 70미 | E39: kg | F39: * | G39: 46000 | H39: [특징] 흰다리 새우 머리 껍질제거, 끝부분2-3 마디있음 (±70미)
B40: 깐새우살 | C40: 국내산 | D40: kg단위로만발주가능 2k부터발주가능 (소수점발주안됨) | E40: kg | F40: * | G40: 일시품절 | H40: [특징] 새우 머리, 꼬리, 껍질제거한 새우살 (대) 2k부터발주가능 2.6k -발주안됨 (소수점X)
B41: 흰다리생새우살 | C41: 중국,베트남,에콰도르 | D41: 71-90 (±140-180미) | E41: kg | F41: 25000 | G41: 29500 | H41: [특징] 꼬리없음, 흰다리새우100% (C형새우탕수용)
A42: 우렁살 | B42: 논우렁살 | C42: 국내산 | D42: _ | E42: kg | F42: 21000 | G42: 21500 | H42: [특징] 우렁살 100% [용도] 무침용/국용
A43: 소라살 | B43: 소라살 | C43: 수입 | D43: _ | E43: kg | F43: 39000 | G43: * | H43: [특징] 데친 후 탈각 .냉동
A44: 혼합다시 | B44: 혼합다시팩 5종 | C44: 국내산 | D44: _ | E44: kg | F44: 25500 | G44: * | H44: [특징] 국멸치70%+디포리10%+다시마10% +표고버섯5%+건새우 5%
B45: 혼합다시팩 5종 | C45: 국내산 | D45: _ | E45: kg | F45: 25000 | G45: * | H45: [특징] 국멸치70%+디포리10%+다시마10% +표고버섯5%+건홍합 5%
A46: 멸치류 | B46: 국멸치 | C46: 남해안 | D46: _ | E46: kg | F46: 27500 | G46: * | H46: [특징] 최상품 남해안 다시멸치
B47: 디포리 | C47: 남해안 | D47: _ | E47: kg | F47: 26000 | G47: * | H47: [특징] 최상품 남해안 디포리
B48: 볶음멸치 | C48: 남해안 | D48: _ | E48: kg | F48: 35000 | G48: * | H48: [특징] 최상품 남해안 볶음멸치
B49: 지리멸치 | C49: 남해안 | D49: _ | E49: kg | F49: 32000 | G49: * | H49: [특징] 짜지않은 최상품 남해안 지리멸치
A50: 다시마 | B50: 뿌리다시마 | C50: 완도 | D50: _ | E50: kg | F50: 27000 | G50: * | H50: [특징] 원초 다시마를 자연건조하여 위생 포장
B51: 금일선별다시마 | C51: 국내산 | D51: _ | E51: kg | F51: 26000 | G51: * | H51: [특징] 원초 다시마를 자연건조하여 선별 포장 금일선별다시마
A52: 미역 | B52: 자른미역 (컷트미역) | C52: 국내산 | D52: _ | E52: 200g | F52: 8000 | G52: * | H52: [특징] 최상의 원초 건조 가공, 잘게 절단된 사이즈
E53: 300g | F53: 12500 | G53: *
E54: 500g | F54: 17500 | G54: *
E55: kg | F55: 34000 | G55: *
A56: 건새우류 | B56: 건중하새우 | C56: 국내산 | D56: _ | E56: kg | F56: 35000 | G56: * | H56: [특징] 붉은 빛을 띠고 크기가 균일 위생 포장
B57: (분홍) 보리새우 | C57: 국내산 | D57: _ | E57: kg | F57: 26500 | G57: * | H57: [특징] 붉은 빛을 띠고 크기가 균일 위생 포장
B58: 두절건새우 | C58: 국내산 | D58: _ | E58: kg | F58: 80000 | G58: * | H58: [특징] 붉은 빛을 띠고 크기가 균일 위생 포장
A59: 견과류 | B59: 아몬드슬라이스 | C59: 미국산 | D59: _ | E59: kg | F59: 24500 | G59: * | H59: [특징] 아몬드슬라이스
A60: 조미 어포류 | B60: 백진미채 | C60: 국내산 | D60: _ | E60: kg | F60: 92500 | G60: * | H60: [특징] 조미 오징어채 (백색)
B61: 홍진미채 (참진미채) | C61: 국내산 | D61: _ | E61: kg | F61: 92500 | G61: * | H61: [특징] 조미 오징어 굵은채 (붉은색)
B62: 백진미채 | C62: 국내가공 (페루) | D62: _ | E62: kg | F62: 38000 | G62: * | H62: [특징] 조미 오징어채 (백색)
B63: 홍진미채 (참진미채) | C63: 국내가공 (페루) | D63: _ | E63: kg | F63: 38000 | G63: * | H63: [특징] 조미 오징어 굵은채 (붉은색)
A64: 건어포류 | B64: 황태채 | C64: 수입 | D64: _ | E64: kg | F64: 47000 | G64: * | H64: [특징] 살이 도톰하고 군내가 없음 건조상태 좋음
B65: 북어채 | C65: 수입 | D65: _ | E65: kg | F65: 46000 | G65: * | H65: [특징] 살이 도톰하고 군내가 없음 건조상태 좋음

Sheet 5832_다다수산유통_1
A1: 5832_다다수산유통_2024년+6월+학교+단가표+엔쵸비.xlsx
A2: https://school062.com/bbs/board.php?bo_table=product_02&wr_id=5832
A3: 수 산 물 가 공 품(Processed Fishery Products) | B3: 2024년 6월 단가표
A4: 구분 | B4: 제품명 | C4: 원산지 | D4: 단위 | E4: 규격/특징/성분함량/용도 ※규격의 괄호안 숫자는 1kg 기준시 토막수를 나타냅니다. ※냉장제품은 HACCP 제외 품목입니다. | F4: H | G4: 06월 한려
G5: 냉동 | H5: 냉장
B6: 눈볼대(금태)살 - NEW | C6: 국산 | D6: kg | E6: 【규격】±40g~±50g/개당, 조림, 구이, 탕, 튀김용. 【특징】 비가식부 제거 할복 후 순살 가공, 국내 최고급 어류의 고급진 맛. | F6: ○ | G6: 41540
B7: 할리벗 순살(마설가자미)-스테이크용-NEW (잔가시 99%제거) | C7: 러시아 | D7: kg | E7: 【규격】3가지 크기: ±50g,±70g,±90g, 고급진스테이크용, 잔뼈 99% 제거 【특징】 포작업 후 탈피, 할리벗 원물 한마리 무게 4kg~40kg 가공. | F7: ○ | G7: 28460
B8: 손수 잔뼈제거 가자미순살(유피)-NEW (잔가시 99%제거) | C8: 미국 | D8: kg | E8: 【규격】±30g,±40g,±50g,±60g,±70g 절단 【특징】전처리된 가자미포 토막, 슬라이스 절단, 비늘제거, 잔가시 99%제거 ※ 튀김, 구이, 국, 전용 | F8: ○ | G8: 13230
B9: 손수 잔뼈제거 순살 갈치-NEW (잔가시 99%제거) | C9: 국산 | D9: kg | E9: 【규격】±20g(±50개) 【특징】전처리된 갈치포를 절단 | F9: ○ | G9: 24620
B10: 손수 잔뼈제거 광어순살(유피)-NEW (잔가시 99% 제거) | C10: 국산 | D10: kg | E10: 【규격】±40g,±50g,±60g,±70g,±80g 절단, 자연산, 껍질있음, 잔가시 99% 제거 【특징】내장, 비늘제거, 두제거, 지느러미, 꼬리제거 후 순살 필렛 | F10: ○ | G10: 20000
B11: 손수잔뼈제거 붕장어순살-NEW (잔가시 99%제거) | C11: 국산 | D11: kg | E11: 【규격】±5cm 절단,15 ~ 20g(개당) 【특징】전처리, 잔뼈제거 99% 제거 후 절단, IQF(개별급속동결) | F11: ○ | G11: 25380
B12: 대방어 등살(LOIN)스테이크용-NEW (잔가시 99% 제거) | C12: 국산 | D12: kg | E12: 【규격】±60g/±80g/±100g 대방어 비가식부 및 껍질 제거, 배살 꼬리살 제거 후 등살(LOIN)만을 가공, 스테이크용, 잔가시 99%제거 | F12: ○ | G12: 23080
B13: 참대구 등살(로인-LOIN)-스테이크용-NEW | C13: 러시아산 | D13: kg | E13: 【규격】3가지 크기: ±50g, ±70g, ±120g 【특징】탈피, 원물 한마리 1kg~2kg 대구의 비가식부 및 배살 제거 후 최고급 스테이크용으로 가공, 잔뼈 99% 제거 | F13: ○ | G13: 27690
B14: 명태 등살(로인-LOIN) - 스테이크용-NEW | C14: 러시아산 | D14: kg | E14: 【규격】3가지 크기: ±50g, ±70g, ±120g 【특징】탈피, 원물 한마리 800g~1kg 명태의 비가식부 및 배살 제거 후 등살로만 가공, 스테이크용, 잔뼈 99% 제거 | F14: ○ | G14: 13080
A15: 명태류 | B15: 명태절단 | C15: 러시아,미국 | D15: kg | E15: 【규격】±30g ~ ±70g 【특징】두절, 내장, 지느러미, 꼬리 제거 후 절단 | F15: ○ | G15: 7380 | H15: 8000
B16: 동태포슬라이스-인산염 첨가 포작업(중국), 절단(국내) | C16: 러시아 | D16: kg | E16: 【규격】±20 ~ 25g(±40~50개) 【특징】껍질제거 한 포를 어슷 손포뜨기 | F16: ○ | G16: 10000
C17: 러시아 | D17: kg | E17: 【규격】±30g(±33개), ±40g(±25개) 【특징】껍질제거 한 포를 어슷 손포뜨기 | F17: ○ | G17: 10000
B18: 동태포(탕수용)-인산염 첨가 포작업(중국), 절단(국내) | C18: 러시아 | D18: kg | E18: 【규격】±25g(±40개) 【특징】동태포를 2cm×6cm 직사각형 모양으로 절단 | F18: ○ | G18: 10000
B19: 동태포(탈피-강정용)-인산염 첨가 포작업(중국), 절단(국내) | C19: 러시아 | D19: kg | E19: 【규격】±15g 【특징】동태포를 3cm×3cm 모양으로 절단 | F19: ○ | G19: 10460
B20: 동태포-슬라이스- 인산염 무첨가 전공정 국내가공 | C20: 러시아, 미국 | D20: kg | E20: 【규격】±20 ~ 25g(±40~50개) 【특징】껍질제거 한 포를 어슷 손포뜨기 | F20: ○ | G20: 11540
C21: 러시아, 미국 | D21: kg | E21: 【규격】±30g(±33개), ±40g(±25개) 【특징】껍질제거 한 포를 어슷 손포뜨기 | F21: ○ | G21: 11540
B22: 동태포(탕수용)- 인산염 무첨가 전공정 국내가공 | C22: 러시아, 미국 | D22: kg | E22: 【규격】±25g(±40개) 【특징】동태포를 2cm×6cm 직사각형 모양으로 절단 | F22: ○ | G22: 11540
B23: 동태포(탈피-강정용)-인산염 무첨가 전공정 국내가공 | C23: 러시아, 미국 | D23: kg | E23: 【규격】±15g 【특징】동태포를 3cm×3cm 모양으로 절단 | F23: ○ | G23: 12000
B24: 손수 잔뼈제거 순살 동태포(탈피)-인산염 무첨가 전공정 국내가공 | C24: 러시아, 미국 | D24: kg | E24: 【규격】슬라이스, 토막, 강정, 탕수용(위 절단 규격 참조) 【특징】동태포(탈피)잔가시제거 후 슬라이스, 토막, 강정,탕수용 절단 | F24: ○ | G24: 12310
B25: 한려네모동태살(선동-잔가시제거 PBO) | C25: 러시아 | D25: kg | E25: 【규격】생선까스용(大)±40g, 전/부침용±20g, 국/강정/볶음용±8~±9g | F25: ○ | G25: 12310
B26: 코다리살-인산염 첨가 포작업(중국), 절단(국내) | C26: 러시아 | D26: kg | E26: 【규격】30 ~ 35g/개당(±28~33개) 【특징】비가식부 제거 【용도】조림, 구이, 튀김 | F26: ○ | G26: 10000
B27: 코다리살(탕수용)-인산염 첨가 포작업(중국), 절단(국내) | C27: 러시아 | D27: kg | E27: 【규격】±2cm×5cm 【특징】비가식부 제거 【용도】탕수용 | F27: ○ | G27: 10000
B28: 코다리살(강정용)-인산염 첨가 포작업(중국), 절단(국내) | C28: 러시아 | D28: kg | E28: 【규격】±10 ~ 15g, 깍뚝썰기 【특징】비가식부 제거 【용도】강정용 | F28: ○ | G28: 10000
B29: 코다리살-인산염 무첨가 전공정 국내가공 | C29: 러시아, 미국 | D29: kg | E29: 【규격】30 ~ 35g/개당(±28~33개) 【특징】비가식부 제거 【용도】조림, 구이, 튀김 | F29: ○ | G29: 11540
B30: 코다리살(탕수용)-인산염 무첨가 전공정 국내가공 | C30: 러시아, 미국 | D30: kg | E30: 【규격】±2cm×5cm 【특징】비가식부 제거 【용도】탕수용 | F30: ○ | G30: 11540
B31: 코다리살(강정용)-인산염 무첨가 전공정 국내가공 | C31: 러시아, 미국 | D31: kg | E31: 【규격】±10 ~ 15g, 깍뚝썰기 【특징】비가식부 제거 【용도】강정용 | F31: ○ | G31: 11540
B32: 손수 잔뼈제거 순살 코다리-인산염 무첨가 전공정 국내가공 | C32: 러시아, 미국 | D32: kg | E32: 【규격】15g ~ 60g/개당 절단, 강정, 토막 【특징】비가식부 제거, 잔뼈 99% 제거 【용도】조림, 구이, 튀김 | F32: ○ | G32: 12310
B33: 잘말린 옛날코다리 | C33: 러시아 | D33: kg | E33: 【규격】±40g ~ ±80g 토막 작업/개, 【용도】찜, 조림용, 탕용 【특징】동태를 전처리 후 핏대, 흑막 완전제거, 꼬들꼬들하게 건조, 건조율 35% 【성분함량】 잘말린 코다리 100% | F33: ○ | G33: 15380
B34: 얼동태 | C34: 러시아,미국산 | D34: kg | E34: 【규격】±40g ~ ±80g 【특징】건조율 20% 【용도】조림, 찜용 | F34: ○ | G34: 7380
B35: 명태곤이 | C35: 러시아,미국산 | D35: kg | E35: 【특징】채취 후 선상급랭, 안터진 성숙란 【용도】해물탕용 | G35: 13690
B36: 명란 | C36: 러시아,미국 | D36: kg | E36: 【특징】채취 후 선상급랭, 안터진 성숙란 【용도】해물탕용 | G36: 13850
A37: 민대구류 | B37: 민대구절단 | C37: 원양산 | D37: kg | E37: 【규격】±30g ~ ±70g 【특징】두절, 내장, 지느러미, 꼬리 제거 후 절단 | F37: ○ | G37: 9230 | H37: 10150
B38: 민대구포-토막(유피) | C38: 원양산 | D38: kg | E38: 【규격】±20g ~ ±60g 【특징】유피, 토막작업, 탕용, 구이용 등 | F38: ○ | G38: 14620
B39: 민대구포-슬라이스(유피) | C39: 원양산 | D39: kg | E39: 【규격】±20g ~ ±60g 【특징】유피, 어슷 손포뜨기, 전용, 까스용 등 | F39: ○ | G39: 14620
B40: 민대구포-슬라이스(탈피) | C40: 원양산 | D40: kg | E40: 【규격】±20g ~ ±40g 【특징】탈피, 어슷 손포뜨기, 전용, 까스용 등 | F40: ○ | G40: 15080
A41: 참대구류 | B41: 참대구절단 | C41: 국산 | D41: kg | E41: 【규격】±30g ~ ±70g 【특징】두절, 내장, 지느러미, 꼬리제거 후 절단 | F41: ○ | G41: 9230 | H41: 10150
B42: 참대구포-슬라이스, 토막(유피) | C42: 국산 | D42: kg | E42: 【규격】±20g ~ ±60g 【특징】유피, 토막 절단, 어슷 손포뜨기 전용, 튀김용 / 국용 | F42: ○ | G42: 20000
B43: 참대구포-슬라이스, 토막(탈피) | C43: 국산 | D43: kg | E43: 【규격】±20g ~ ±60g 【특징】탈피, 토막절단, 어슷 손포뜨기 전용, 튀김용 / 국용 | F43: ○ | G43: 21540
B44: 손수 잔뼈제거 순살 참대구 (잔가시 99%제거) | C44: 국산 | D44: kg | E44: 【규격】±20g ~ ±60g 【특징】탈피, 토막절단, 어슷 손포뜨기 전용, 튀김용 / 국용 | F44: ○ | G44: 23080
B45: 참대구절단 | C45: 러시아,미국 | D45: kg | E45: 【규격】±30g ~ ±80g 【특징】두절, 내장, 지느러미, 꼬리제거 후 절단 | F45: ○ | G45: 13080 | H45: 14620
B46: 참대구포-슬라이스, 토막(유피) | C46: 러시아,미국 | D46: kg | E46: 【규격】±20g ~ ±60g 【특징】유피, 토막 절단, 어슷 손포뜨기 전용, 국용, 튀김용 | F46: ○ | G46: 24620
B47: 참대구포-슬라이스, 토막(탈피) | C47: 러시아,미국 | D47: kg | E47: 【규격】±20g ~ ±60g 【특징】탈피, 토막절단, 어슷 손포뜨기 전용, 국용, 튀김용, 강정용 | F47: ○ | G47: 26150
B48: 참대구포-강정(탈피) | C48: 러시아,미국 | D48: kg | E48: 【규격】±15g, 깍둑썰기 【특징】탈피, 토막절단, 강정, 튀김용 | F48: ○ | G48: 28460
A49: 기타 대구류 | B49: 한려네모대구살 | C49: 러시아 | D49: kg | E49: 【규격】생선까스용(大)±40g, 전/부침용±20g, 국/강정/볶음용±8~±9g | F49: ○ | G49: 20770
B50: 대구곤이 | C50: 미국,노르웨이, 러시아 | D50: kg | E50: 【특징】대구내장, 냉동블록상태, 선도최상급 【용도】찌개, 해물탕용 | G50: 12310
B51: 대구목살 | C51: 러시아 | D51: kg | E51: 【특징】쫄깃한 대구목살을 개별동결, 선도최상급 【용도】대구탕, 찌개, 해물탕용 | F51: ○ | G51: 10770
B52: 대구두(크기-대) | C52: 국산 | D52: kg | E52: 【특징】원물 3kg이상 대구머리를 1/2 절단, 선도최상급 【용도】대구탕, 찌개, 육수용 | G52: 6150
B53: 대구알 | C53: 미국,러시아 | D53: kg | E53: 【특징】대구내장, 냉동블록상태, 선도최상급 【용도】찌개, 해물탕용 | G53: 12310
A54: 장어류 | B54: 붕장어절단 | C54: 국산 | D54: kg | E54: 【규격】±5cm 절단,15 ~ 20g(개당) 【특징】전처리, 뼈제거 후 절단 (블럭형) | F54: ○ | G54: 22000 | H54: 23850
B55: 붕장어순살절단(특대) 품질인증(G-02-00-43) | C55: 국산 | D55: kg | E55: 【규격】±5cm 절단,± 30g(개당) 【특징】전처리, 뼈제거 후 절단 | F55: ○ | G55: 27690
B56: 냉풍건장어 | C56: 국산 | D56: kg | E56: 【규격】±15g/±66개 【용도】튀김, 구이 【특징】붕장어 반건조, 뼈제거 (I.Q.F) | F56: ○ | G56: 23080
A57: 삼치류 | B57: 삼치절단(조림용) | C57: 국산 | D57: kg | E57: 【규격】(중)±30g ~ ±70g (대)±30g ~ ±100g 【특징】두절, 내장, 지느러미, 꼬리 제거 후 절단 (삼치100%) | F57: ○ | G57: 9230
B58: [품질]삼치절단(조림용) 품질인증(G-02-00-44) | C58: 국산 | D58: kg | F58: ○ | G58: 12310
B59: 삼치(구이용) | C59: 국산 | D59: kg | E59: 【규격】(중)±30g ~ ±70g (대)±30g ~ ±100g 【특징】두절, 내장, 지느러미, 꼬리 제거 후 절단 (삼치100%) | F59: ○ | G59: 9850
B60: [품질]삼치(구이용) 품질인증(G-02-00-44) | C60: 국산 | D60: kg | F60: ○ | G60: 13080
B61: 삼치포 | C61: 국산 | D61: kg | E61: 【규격】(중)±30g ~ ±70g (대)±30g ~ ±100g 【특징】두절, 내장, 지느러미, 꼬리 제거 후 절단 (삼치100%) | F61: ○ | G61: 16920
B62: [품질]삼치포 품질인증(G-02-00-44) | C62: 국산 | D62: kg | F62: ○ | G62: 18460
B63: [품질]손수 잔뼈제거 순살 삼치포 (잔가시 99%제거)품질인증(G-02-00-44) | C63: 국산 | D63: kg | E63: 【규격】±30g ~ ±100g 절단 【특징】전처리, 뼈 99%제거, 껍질있음 【성분함량】삼치 100% | F63: ○ | G63: 20000
B64: [저온숙성]된장삼치포 | C64: 국산 | D64: kg | E64: 【규격】±30g ~ ±70g 【특징】전처리, 뼈제거, 껍질있음, 침지→저온숙성→동결 후 절단 【성분함량】삼치95%, 미소된장0.05%, 정제수 4.95% | F64: ○ | G64: 18460
B65: [품질]삼치살스틱(강정) 품질인증(G-02-00-44) | C65: 국산 | D65: kg | E65: 【규격】±16g, 2*6~8cm 【특징】전처리 ,뼈제거, 껍질있음, 삼치100% 【용도】강정용, 튀김용 | F65: ○ | G65: 18460
A66: 고등어류 | B66: [중]고등어절단(조림용) | C66: 국산 | D66: kg | E66: 【규격】 크기 중: ±30 ~ ±80g *원물 260~350g(마리당) 이하 크기 대: ±30 ~ ±100g *원물 360g(마리당) 이상 【성분함량】고등어(국산)100% | F66: ○ | G66: 6770
B67: [대]고등어절단(조림용) | C67: 국산 | D67: kg | F67: ○ | G67: 7690
B68: [품질]고등어절단(조림용) 품질인증(G-02-00-40) | C68: 국산 | D68: kg | F68: ○ | G68: 7690
B69: [중]고등어(구이용) | C69: 국산 | D69: kg | F69: ○ | G69: 7230
B70: [대]고등어(구이용) | C70: 국산 | D70: kg | F70: ○ | G70: 8150
B71: [품질]고등어(구이용) 품질인증(G-02-00-40) | C71: 국산 | D71: kg | F71: ○ | G71: 8150
B72: [중]고등어포(저염) | C72: 국산 | D72: kg | F72: ○ | G72: 11230
B73: [대]고등어포(저염) | C73: 국산 | D73: kg | F73: ○ | G73: 12310
B74: [품질]고등어포(저염) 품질인증(G-02-00-40) | C74: 국산 | D74: kg | F74: ○ | G74: 12310
B75: [품질]손수 잔뼈제거 순살 고등어포 (잔가시 99%제거)품질인증(G-02-00-40) | C75: 국산 | D75: kg | E75: 【규격】±30g ~ ±100g 절단 【특징】전처리, 뼈 99%제거, 껍질있음 【성분함량】고등어 100% | F75: ○ | G75: 18460
B76: [Size-중]간고등어포 | C76: 국산 | D76: kg | E76: 【규격】±30g ~ ±80g 【성분함량】고등어(국산)99.2%, 정제염0.8% | F76: ○ | G76: 11690
B77: [Size-대]고등어포(노르웨이) | C77: 노르웨이 | D77: kg | E77: 【규격】±30g ~ ±80g 【성분함량】고등어(노르웨이)99.2%, 정제염0.8% | F77: ○ | G77: 17690
B78: [Size-대]손수 잔뼈제거 순살 고등어포 (노르웨이) | C78: 노르웨이 | D78: kg | E78: 【규격】±30g ~ ±80g 【성분함량】고등어(노르웨이)99.2%, 정제염0.8% | F78: ○ | G78: 21230
B79: [Size-중]녹차 고등어포 | C79: 국산 | D79: kg | E79: 【특징】녹차에 침지해 비린맛 제거 【규격】±30g ~ ±80g 【성분함량】고등어 99%, 녹차분말 0.2%, 소금(정제염-국내산)0.8% | F79: ○ | G79: 12000
B80: [Size-중]라임 고등어포 | C80: 국산 | D80: kg | E80: 【특징】라임에 침지해 비린맛 제거 【규격】±30g ~ ±80g 【성분함량】고등어 95%, 라임엑기스 0.1%, 소금(정제염-국내산)0.1%, 정제수4.8% | F80: ○ | G80: 12000
B81: [Size-대]반건조 고등어포 | C81: 국산 | D81: kg | E81: 【특징】건조율 20%이상 【규격】±100g x 10e.a 【성분함량】고등어 99.2%, 정제염0.8%, | F81: ○ | G81: 16920
A82: 꽁치류 | B82: 꽁치절단 | C82: 원양산 | D82: kg | E82: 【규격】±40g ~ ±70g 【특징】두절, 내장, 지느러미, 꼬리 제거 후 절단 | F82: ○ | G82: 15230 | H82: 16920
B83: 꽁치포 | C83: 원양산 | D83: kg | E83: 【규격】±20g ~ 30g 【성분함량】꽁치포100% | F83: ○ | G83: 20000
B84: 녹차 꽁치포 | C84: 원양산 | D84: kg | E84: 【규격】±20g ~ 30g 【성분함량】꽁치포99%, 녹차(국산)0.2%, 정제염0.8% | F84: ○ | G84: 21540
A85: 임연수류 | B85: 임연수절단(조림용) | C85: 미국,러시아 | D85: kg | E85: 【규격】±40g ~ ±70g 【특징】두절, 내장, 지느러미 꼬리 제거 후 절단 (임연수100%) | F85: ○ | G85: 11540 | H85: 12770
B86: 임연수구이(구이용) | C86: 미국,러시아 | D86: kg | F86: ○ | G86: 12460 | H86: 13690
B87: 임연수포 | C87: 미국,러시아 | D87: kg | E87: 【규격】±40g ~ ,±70g 【성분함량】임연수100% | F87: ○ | G87: 16920
B88: 손수 잔뼈제거 순살 임연수포 (잔가시 99%제거) | C88: 미국,러시아 | D88: kg | E88: 【규격】±30g ~ ±100g 절단 【특징】전처리, 포 작업 후 잔뼈 99%제거, 껍질있음, 【성분함량】 임연수 100% | F88: ○ | G88: 20000
B89: 녹차 임연수포 | C89: 미국,러시아 | D89: kg | E89: 【규격】±30g ~ ±70g 【성분함량】임연수 99%, 녹차(국산)0.2%, 정제염0.8% | F89: ○ | G89: 16920
A90: 달고기 | B90: 달고기살(유피) | C90: 국산 | D90: kg | E90: 【규격】±20g ~ 30g 【용도】전용, 튀김용 【성분함량】달고기 순살 100% | F90: ○ | G90: 26920
B91: 달고기살(탈피) | C91: 국산 | D91: kg | E91: 【규격】±20g ~ 30g 【용도】전용, 튀김용 【성분함량】달고기 순살 100% | F91: ○ | G91: 28460
A92: 갈치류 | B92: [Size-대]제주은갈치 품질인증(G-02-00-39) | C92: 국산 | D92: kg | E92: [Size-대]제주은갈치 【특징】원물 300g 내외 사용 | F92: ○ | G92: 30770 | H92: 33850
B93: [Size-중]제주갈치절단 | C93: 국산 | D93: kg | E93: 【규격】±30g~±60g만 가능 【특징】두절, 내장, 지느러미 제거 후 절단 | F93: ○ | G93: 21080 | H93: 23080
B94: [Size-중]갈치절단(먹갈치) | C94: 국산 | D94: kg | E94: 【규격】±30g ~ 60g만 가능 【특징】두절, 내장, 지느러미 제거 후 절단 | F94: ○ | G94: 15380 | H94: 17690
B95: [Size-대]갈치절단 | C95: 세네갈산, 파키스탄 | D95: kg | E95: 【규격】원료 크기 대: ±30g ~ ±80g, 원료 크기 중: ±30g ~ ±60g 절단 【특징】두절, 내장, 지느러미, 꼬리 제거 후 절단 | F95: ○ | G95: 14620 | H95: 16150
B96: [Size-중]갈치절단 | C96: 세네갈산, 파키스탄 | D96: kg | F96: ○ | G96: 10770 | H96: 11850
B97: [Size-대]갈치절단 | C97: 남아공 | D97: kg | F97: ○ | G97: 10000 | H97: 11080
